- Раздел: Репортаж
- Дата съёмки: 23.08.2009 01:56
- Дата загрузки фото: 03.09.2009 22:44
- Оригинальная фотография: 4455 x 2970 (1,0 Мб)
- Технические характеристики:
- Фотоаппарат: Canon EOS 500D
- Выдержка: 1,3
- Гиперфокальное расстояние: 2,29 m
- Диафрагма: 7,1
- Светочувствительность: 400
- Фокусное расстояние: 17,0 mm (35 mm equivalent: 28,8 mm)
- Полный EXIF
- Adobe
- ColorTransform: YCbCr
- Composite
- Aperture: 7,1
- CircleOfConfusion: 0,018 mm
- FOV: 64,0 deg
- FocalLength35efl: 17,0 mm (35 mm equivalent: 28,8 mm)
- HyperfocalDistance: 2,29 m
- LightValue: 3,6
- ScaleFactor35efl: 1,7
- ShutterSpeed: 1,3
- ExifIFD
- ApertureValue: 7,1
- ColorSpace: sRGB
- CreateDate: 2009:08:23 01:56:42
- CustomRendered: Normal
- DateTimeOriginal: 2009:08:23 01:56:42
- ExifImageHeight: 2970
- ExifImageWidth: 4455
- ExposureCompensation: 0
- ExposureMode: Manual
- ExposureProgram: Manual
- ExposureTime: 1,3
- FNumber: 7,1
- Flash: On
- FocalLength: 17,0 mm
- ISO: 400
- MaxApertureValue: 2,8
- MeteringMode: Multi-segment
- SceneCaptureType: Standard
- ShutterSpeedValue: 1,3
- WhiteBalance: Auto
- ICC-header
- ICC-meas
- ICC-view
- IFD0
- Artist: Sergei
- Make: Canon
- Model: Canon EOS 500D
- ModifyDate: 2009:09:03 22:19:53
- Orientation: Horizontal (normal)
- IFD1
- IPTC
- By-line: Sergei
- XMP-aux
- Firmware: 1.0.9
- FlashCompensation: 0
- ImageNumber: 0
- Lens: EF-S17-55mm f/2.8 IS USM
- LensInfo: 17/1 55/1 0/0 0/0
- OwnerName: Sergei
- SerialNumber: 280103326
- XMP-crs
- AlreadyApplied: True
- BlueHue: 0
- BlueSaturation: 0
- Brightness: -14
- ChromaticAberrationB: 0
- ChromaticAberrationR: 0
- Clarity: 0
- ColorNoiseReduction: 25
- Contrast: +51
- ConvertToGrayscale: False
- CropAngle: 2.58621
- CropBottom: 1
- CropHeight: 2970
- CropLeft: 0.045828
- CropRight: 0.954172
- CropTop: 0
- CropUnit: 0
- CropWidth: 4455
- Defringe: 0
- Exposure: +1.16
- FillLight: 9
- GreenHue: 0
- GreenSaturation: 0
- HasCrop: True
- HasSettings: True
- HighlightRecovery: 100
- HueAdjustmentAqua: 0
- HueAdjustmentBlue: 0
- HueAdjustmentGreen: 0
- HueAdjustmentMagenta: 0
- HueAdjustmentOrange: 0
- HueAdjustmentPurple: 0
- HueAdjustmentRed: 0
- HueAdjustmentYellow: 0
- LuminanceAdjustmentAqua: 0
- LuminanceAdjustmentBlue: 0
- LuminanceAdjustmentGreen: 0
- LuminanceAdjustmentMagenta: 0
- LuminanceAdjustmentOrange: 0
- LuminanceAdjustmentPurple: 0
- LuminanceAdjustmentRed: 0
- LuminanceAdjustmentYellow: 0
- LuminanceSmoothing: 0
- ParametricDarks: -32
- ParametricHighlightSplit: 75
- ParametricHighlights: -13
- ParametricLights: +24
- ParametricMidtoneSplit: 50
- ParametricShadowSplit: 25
- ParametricShadows: -2
- PostCropVignetteAmount: 0
- RedHue: 0
- RedSaturation: 0
- Saturation: -16
- SaturationAdjustmentAqua: +50
- SaturationAdjustmentBlue: +58
- SaturationAdjustmentGreen: +10
- SaturationAdjustmentMagenta: 0
- SaturationAdjustmentOrange: +13
- SaturationAdjustmentPurple: +23
- SaturationAdjustmentRed: 0
- SaturationAdjustmentYellow: +23
- ShadowTint: 0
- Shadows: 13
- SharpenDetail: 50
- SharpenEdgeMasking: 0
- SharpenRadius: +0.8
- Sharpness: 25
- SplitToningBalance: 0
- SplitToningHighlightHue: 0
- SplitToningHighlightSaturation: 0
- SplitToningShadowHue: 0
- SplitToningShadowSaturation: 0
- Temperature: 4250
- Tint: -32
- ToneCurve: 0, 0, 255, 255
- ToneCurveName: Linear
- Version: 5.4
- Vibrance: +43
- VignetteAmount: -46
- VignetteMidpoint: 91
- WhiteBalance: Custom
- XMP-dc
- Creator: Sergei
- Format: image/jpeg
- XMP-exif
- DateTimeDigitized: 2009:08:23 01:56:42.94+04:00
- DateTimeOriginal: 2009:08:23 01:56:42.94+04:00
- FlashFired: True
- FlashFunction: False
- FlashMode: On
- FlashRedEyeMode: False
- FlashReturn: No return detection
- XMP-tiff
- ImageHeight: 2970
- ImageWidth: 4455
- XMP-xmp
- CreateDate: 2009:08:23 01:56:42.94+04:00
- ModifyDate: 2009:09:03 22:19:53+04:00
- XMP-xmpMM