Уважаемые друзья и участники проекта iXBT.photo! К сожалению, 1 марта 2026 года проект iXBT.photo прекратит свою работу и будет закрыт. Мы высоко ценим ваше участие и тот вклад, который вы внесли в развитие нашего сообщества. Пожалуйста, не забудьте сохранить ваши фотографии до этой даты.
С уважением, команда iXBT.com
| DSC_4069.jpg |
DSC_4069.jpg
- Раздел: Портрет
- Дата съёмки: 29.08.2009 10:20
- Дата загрузки фото: 09.09.2009 00:18
- Оригинальная фотография: 1440 x 2223 (1,2 Мб)
- Технические характеристики:
- Фотоаппарат: Nikon D100
- Выдержка: 1/160
- Светочувствительность: 200
- Полный EXIF
- Adobe
- ColorTransform: YCbCr
- Composite
- ShutterSpeed: 1/160
- ExifIFD
- CFAPattern: [Green,Red][Blue,Green]
- Contrast: Normal
- CreateDate: 2009:08:29 10:20:07
- CustomRendered: Normal
- DateTimeOriginal: 2009:08:29 10:20:07
- DigitalZoomRatio: 1
- ExposureCompensation: 0
- ExposureMode: Manual
- ExposureProgram: Manual
- ExposureTime: 1/160
- Flash: Fired, Return not detected
- GainControl: None
- ISO: 200
- LightSource: Fine Weather
- MaxApertureValue: 1,0
- MeteringMode: Spot
- Saturation: Normal
- SceneCaptureType: Standard
- SceneType: Directly photographed
- SensingMethod: One-chip color area
- Sharpness: Normal
- ShutterSpeedValue: 1/160
- SubjectDistanceRange: Unknown
- WhiteBalance: Manual
- ICC-header
- ICC-meas
- ICC-view
- IFD0
- Make: NIKON CORPORATION
- Model: NIKON D100
- ModifyDate: 2009:09:02 22:41:20
- Software: Ver.2.00
- IFD1
- XMP-aux
- Lens: 0.0 mm f/0.0
- LensInfo: 0/10 0/10 0/10 0/10
- XMP-crs
- AlreadyApplied: True
- BlueHue: 0
- BlueSaturation: 0
- Brightness: +39
- CameraProfile: Embedded
- ChromaticAberrationB: 0
- ChromaticAberrationR: 0
- Clarity: -52
- ColorNoiseReduction: 0
- Contrast: +46
- ConvertToGrayscale: False
- CropAngle: -8.48448
- CropBottom: 0.711952
- CropHeight: 1440
- CropLeft: 0
- CropRight: 0.801779
- CropTop: 0.164042
- CropUnit: 0
- CropWidth: 2223
- Defringe: 0
- Exposure: -0.12
- FillLight: 21
- GreenHue: 0
- GreenSaturation: 0
- HasCrop: True
- HasSettings: True
- HighlightRecovery: 32
- HueAdjustmentAqua: 0
- HueAdjustmentBlue: 0
- HueAdjustmentGreen: 0
- HueAdjustmentMagenta: 0
- HueAdjustmentOrange: 0
- HueAdjustmentPurple: 0
- HueAdjustmentRed: 0
- HueAdjustmentYellow: 0
- LuminanceAdjustmentAqua: 0
- LuminanceAdjustmentBlue: 0
- LuminanceAdjustmentGreen: 0
- LuminanceAdjustmentMagenta: 0
- LuminanceAdjustmentOrange: 0
- LuminanceAdjustmentPurple: 0
- LuminanceAdjustmentRed: 0
- LuminanceAdjustmentYellow: 0
- LuminanceSmoothing: 36
- ParametricDarks: -12
- ParametricHighlightSplit: 75
- ParametricHighlights: +21
- ParametricLights: +2
- ParametricMidtoneSplit: 50
- ParametricShadowSplit: 25
- ParametricShadows: +5
- PostCropVignetteAmount: +71
- PostCropVignetteFeather: 44
- PostCropVignetteMidpoint: 61
- PostCropVignetteRoundness: +100
- RedHue: 0
- RedSaturation: 0
- Saturation: -100
- SaturationAdjustmentAqua: 0
- SaturationAdjustmentBlue: 0
- SaturationAdjustmentGreen: 0
- SaturationAdjustmentMagenta: 0
- SaturationAdjustmentOrange: 0
- SaturationAdjustmentPurple: 0
- SaturationAdjustmentRed: 0
- SaturationAdjustmentYellow: 0
- ShadowTint: 0
- Shadows: 10
- SharpenDetail: 25
- SharpenEdgeMasking: 7
- SharpenRadius: +1.4
- Sharpness: 55
- SplitToningBalance: 0
- SplitToningHighlightHue: 0
- SplitToningHighlightSaturation: 0
- SplitToningShadowHue: 0
- SplitToningShadowSaturation: 0
- Temperature: 4900
- Tint: -3
- ToneCurve: 0, 0, 255, 255
- ToneCurveName: Linear
- Version: 5.4
- Vibrance: -76
- VignetteAmount: +100
- VignetteMidpoint: 32
- WhiteBalance: As Shot
- XMP-exif
- DateTimeDigitized: 2009:08:29 10:20:07.70+04:00
- DateTimeOriginal: 2009:08:29 10:20:07.70+04:00
- ExifImageHeight: 2223
- ExifImageWidth: 1440
- FlashFired: True
- FlashFunction: False
- FlashMode: Unknown
- FlashRedEyeMode: False
- FlashReturn: Return not detected
- XMP-tiff
- ImageHeight: 2223
- ImageWidth: 1440
- XMP-xmp
- CreateDate: 2009:08:29 10:20:07.70+04:00
- ModifyDate: 2009:09:02 22:41:20+04:00
Получить код для блога
| Вставка фотографии в текущем разрешении |
Вставка миниатюры |
HTML (для вставки в блог):
BBCode (для вставки в форум):
Ссылка на фото:
Ссылка на миниатюру:
- Послать ссылку другу
| Комментарии к фотографии |