Уважаемые друзья и участники проекта iXBT.photo! К сожалению, 1 марта 2026 года проект iXBT.photo прекратит свою работу и будет закрыт. Мы высоко ценим ваше участие и тот вклад, который вы внесли в развитие нашего сообщества. Пожалуйста, не забудьте сохранить ваши фотографии до этой даты.
С уважением, команда iXBT.com
| Лодочная станция |
Лодочная станция
Панаярви
- Раздел: Путешествия
- Дата съёмки: 21.07.2008 19:34
- Дата загрузки фото: 13.09.2009 18:25
- Оригинальная фотография: 640 x 427 (310 Кб)
- Технические характеристики:
- Фотоаппарат: Canon EOS 400D DIGITAL
- Выдержка: 1/60
- Гиперфокальное расстояние: 51,30 m
- Диафрагма: 5,0
- Светочувствительность: 400
- Фокусное расстояние: 28,0 mm (35 mm equivalent: 275,2 mm)
- Полный EXIF
- Adobe
- ColorTransform: YCbCr
- Composite
- Aperture: 5,0
- CircleOfConfusion: 0,003 mm
- FOV: 7,0 deg
- FocalLength35efl: 28,0 mm (35 mm equivalent: 275,2 mm)
- HyperfocalDistance: 51,30 m
- ScaleFactor35efl: 9,8
- ShutterSpeed: 1/60
- ExifIFD
- ApertureValue: 5,0
- ColorSpace: sRGB
- CreateDate: 2008:07:21 19:34:04
- CustomRendered: Normal
- DateTimeOriginal: 2008:07:21 19:34:04
- ExifImageHeight: 427
- ExifImageWidth: 640
- ExposureCompensation: 0
- ExposureMode: Auto
- ExposureProgram: Aperture-priority AE
- ExposureTime: 1/60
- FNumber: 5,0
- Flash: Off
- FocalLength: 28,0 mm
- ISO: 400
- MaxApertureValue: 4,0
- MeteringMode: Multi-segment
- SceneCaptureType: Standard
- ShutterSpeedValue: 1/60
- WhiteBalance: Auto
- ICC-header
- ICC-meas
- ICC-view
- IFD0
- Artist: unknown
- BitsPerSample: 8 8 8 8
- Copyright: anton balazh
- ImageHeight: 2717
- ImageWidth: 4075
- Make: Canon
- Model: Canon EOS 400D DIGITAL
- ModifyDate: 2009:09:13 18:17:59
- Orientation: Horizontal (normal)
- PhotometricInterpretation: CMYK
- PlanarConfiguration: Chunky
- SamplesPerPixel: 4
- IFD1
- IPTC
- By-line: unknown
- CopyrightNotice: anton balazh
- XMP-aux
- Firmware: 1.0.4
- FlashCompensation: 0
- ImageNumber: 80
- Lens: EF24-105mm f/4L IS USM
- LensInfo: 24/1 105/1 0/0 0/0
- OwnerName: unknown
- SerialNumber: 430188164
- XMP-crs
- AlreadyApplied: True
- BlueHue: 0
- BlueSaturation: 0
- Brightness: +5
- CameraProfile: ACR 4.4
- ChromaticAberrationB: 0
- ChromaticAberrationR: 0
- Clarity: 0
- ColorNoiseReduction: 25
- Contrast: +93
- ConvertToGrayscale: False
- Defringe: 0
- Exposure: +0.25
- FillLight: 34
- GreenHue: 0
- GreenSaturation: 0
- HasCrop: False
- HasSettings: True
- HighlightRecovery: 21
- HueAdjustmentAqua: 0
- HueAdjustmentBlue: 0
- HueAdjustmentGreen: 0
- HueAdjustmentMagenta: 0
- HueAdjustmentOrange: 0
- HueAdjustmentPurple: 0
- HueAdjustmentRed: 0
- HueAdjustmentYellow: 0
- LuminanceAdjustmentAqua: 0
- LuminanceAdjustmentBlue: 0
- LuminanceAdjustmentGreen: 0
- LuminanceAdjustmentMagenta: 0
- LuminanceAdjustmentOrange: 0
- LuminanceAdjustmentPurple: 0
- LuminanceAdjustmentRed: 0
- LuminanceAdjustmentYellow: 0
- LuminanceSmoothing: 0
- ParametricDarks: 0
- ParametricHighlightSplit: 75
- ParametricHighlights: 0
- ParametricLights: 0
- ParametricMidtoneSplit: 50
- ParametricShadowSplit: 25
- ParametricShadows: 0
- PostCropVignetteAmount: 0
- RawFileName: ANT_21.07.08-1934_0294.dng
- RedHue: 0
- RedSaturation: 0
- Saturation: 0
- SaturationAdjustmentAqua: 0
- SaturationAdjustmentBlue: 0
- SaturationAdjustmentGreen: 0
- SaturationAdjustmentMagenta: 0
- SaturationAdjustmentOrange: 0
- SaturationAdjustmentPurple: 0
- SaturationAdjustmentRed: 0
- SaturationAdjustmentYellow: 0
- ShadowTint: 0
- Shadows: 6
- SharpenDetail: 25
- SharpenEdgeMasking: 0
- SharpenRadius: +1.0
- Sharpness: 25
- SplitToningBalance: 0
- SplitToningHighlightHue: 0
- SplitToningHighlightSaturation: 0
- SplitToningShadowHue: 0
- SplitToningShadowSaturation: 0
- Temperature: 5300
- Tint: +4
- ToneCurve: 0, 0, 255, 255
- ToneCurveName: Linear
- Version: 5.2
- Vibrance: 0
- VignetteAmount: 0
- WhiteBalance: Custom
- XMP-dc
- Creator: unknown, Anton Balazh
- Format: image/jpeg
- Rights: anton balazh
- XMP-exif
- DateTimeDigitized: 2008:07:21 19:34:04+04:00
- DateTimeOriginal: 2008:07:21 19:34:04+04:00
- FlashFired: False
- FlashFunction: False
- FlashMode: Off
- FlashRedEyeMode: False
- FlashReturn: No return detection
- XMP-tiff
- BitsPerSample: 8, 8, 8, 8
- XMP-xmp
- CreateDate: 2008:07:21 19:34:04+04:00
- ModifyDate: 2009:09:13 18:17:59+04:00
- Rating: 0
- XMP-xmpMM
- Просмотров: 331
- Рейтинг: голосов еще нет
- Отзывов: 0
Получить код для блога
| Вставка фотографии в текущем разрешении |
Вставка миниатюры |
HTML (для вставки в блог):
BBCode (для вставки в форум):
Ссылка на фото:
Ссылка на миниатюру:
- Послать ссылку другу
| Комментарии к фотографии |