| » Участники » g@sh » пейзаж » IMG_2180_01sm16fr.jpg |
Уважаемые друзья и участники проекта iXBT.photo! К сожалению, 1 марта 2026 года проект iXBT.photo прекратит свою работу и будет закрыт. Мы высоко ценим ваше участие и тот вклад, который вы внесли в развитие нашего сообщества. Пожалуйста, не забудьте сохранить ваши фотографии до этой даты.
С уважением, команда iXBT.com
| IMG_2180_01sm16fr.jpg |
IMG_2180_01sm16fr.jpg
- Раздел: Другое, разное
- Дата съёмки: 12.07.2009 20:20
- Дата загрузки фото: 14.09.2009 10:03
- Оригинальная фотография: 842 x 578 (423 Кб)
- Технические характеристики:
- Фотоаппарат: Canon EOS 50D
- Выдержка: 1/4000
- Гиперфокальное расстояние: 409,59 m
- Диафрагма: 1,8
- Светочувствительность: 100
- Фокусное расстояние: 50,0 mm (35 mm equivalent: 443,0 mm)
- Полный EXIF
- Adobe
- ColorTransform: YCbCr
- Composite
- Aperture: 1,8
- CircleOfConfusion: 0,003 mm
- FOV: 4,0 deg
- FocalLength35efl: 50,0 mm (35 mm equivalent: 443,0 mm)
- HyperfocalDistance: 409,59 m
- ScaleFactor35efl: 8,9
- ShutterSpeed: 1/4000
- ExifIFD
- ApertureValue: 1,8
- ColorSpace: Uncalibrated
- CreateDate: 2009:07:12 20:20:36
- CustomRendered: Normal
- DateTimeOriginal: 2009:07:12 20:20:36
- ExifImageHeight: 578
- ExifImageWidth: 842
- ExposureCompensation: 0
- ExposureMode: Manual
- ExposureProgram: Manual
- ExposureTime: 1/4000
- FNumber: 1,8
- Flash: Off
- FocalLength: 50,0 mm
- ISO: 100
- MaxApertureValue: 1,8
- MeteringMode: Multi-segment
- SceneCaptureType: Standard
- ShutterSpeedValue: 1/4000
- WhiteBalance: Auto
- ICC-header
- IFD0
- Artist: shanshin
- ImageDescription: sunset, close-up
- Make: Canon
- Model: Canon EOS 50D
- ModifyDate: 2009:07:19 19:29:20
- Orientation: Horizontal (normal)
- IFD1
- IPTC
- By-line: shanshin
- Caption-Abstract: sunset, close-up
- Keywords: wheat, corn, ear, yellow, close-up, macro, wheatear, nature, bread, plant, harvest
- ObjectName: wheat corn in the ear
- XMP-aux
- Firmware: 1.0.3
- FlashCompensation: 0
- ImageNumber: 0
- Lens: EF50mm f/1.8 II
- LensInfo: 50/1 50/1 0/0 0/0
- SerialNumber: 430202074
- XMP-crs
- AlreadyApplied: True
- BlueHue: 0
- BlueSaturation: 0
- Brightness: +53
- CameraProfile: ACR 4.6
- ChromaticAberrationB: 0
- ChromaticAberrationR: 0
- Clarity: 0
- ColorNoiseReduction: 25
- Contrast: +29
- ConvertToGrayscale: False
- Defringe: 0
- Exposure: +0.25
- FillLight: 0
- GreenHue: 0
- GreenSaturation: 0
- HasCrop: False
- HasSettings: True
- HighlightRecovery: 90
- HueAdjustmentAqua: 0
- HueAdjustmentBlue: 0
- HueAdjustmentGreen: 0
- HueAdjustmentMagenta: 0
- HueAdjustmentOrange: 0
- HueAdjustmentPurple: 0
- HueAdjustmentRed: 0
- HueAdjustmentYellow: 0
- LuminanceAdjustmentAqua: 0
- LuminanceAdjustmentBlue: 0
- LuminanceAdjustmentGreen: 0
- LuminanceAdjustmentMagenta: 0
- LuminanceAdjustmentOrange: 0
- LuminanceAdjustmentPurple: 0
- LuminanceAdjustmentRed: 0
- LuminanceAdjustmentYellow: 0
- LuminanceSmoothing: 0
- ParametricDarks: 0
- ParametricHighlightSplit: 75
- ParametricHighlights: 0
- ParametricLights: 0
- ParametricMidtoneSplit: 50
- ParametricShadowSplit: 25
- ParametricShadows: 0
- PostCropVignetteAmount: 0
- RawFileName: IMG_2180.CR2
- RedHue: 0
- RedSaturation: 0
- Saturation: -3
- SaturationAdjustmentAqua: 0
- SaturationAdjustmentBlue: 0
- SaturationAdjustmentGreen: 0
- SaturationAdjustmentMagenta: 0
- SaturationAdjustmentOrange: 0
- SaturationAdjustmentPurple: 0
- SaturationAdjustmentRed: 0
- SaturationAdjustmentYellow: 0
- ShadowTint: 0
- Shadows: 2
- SharpenDetail: 25
- SharpenEdgeMasking: 0
- SharpenRadius: +1.0
- Sharpness: 25
- SplitToningBalance: 0
- SplitToningHighlightHue: 0
- SplitToningHighlightSaturation: 0
- SplitToningShadowHue: 0
- SplitToningShadowSaturation: 0
- Temperature: 5250
- Tint: +12
- ToneCurve: 0, 0, 32, 22, 64, 56, 128, 128, 192, 196, 255, 255
- ToneCurveName: Medium Contrast
- Version: 5.1
- Vibrance: +3
- VignetteAmount: +17
- VignetteMidpoint: 50
- WhiteBalance: As Shot
- XMP-dc
- Creator: shanshin
- Description: sunset, close-up
- Format: image/jpeg
- Subject: wheat, corn, ear, yellow, close-up, macro, wheatear, nature, bread, plant, harvest
- Title: wheat corn in the ear
- XMP-exif
- DateTimeDigitized: 2009:07:12 20:20:36.52+04:00
- DateTimeOriginal: 2009:07:12 20:20:36.52+04:00
- FlashFired: False
- FlashFunction: False
- FlashMode: Off
- FlashRedEyeMode: False
- FlashReturn: No return detection
- XMP-tiff
- XMP-xmp
- CreateDate: 2009:07:12 20:20:36.52+04:00
- ModifyDate: 2009:07:19 19:29:20+04:00
- Rating: 0
- XMP-xmpMM
- XMP-xmpRights
- Просмотров: 382
- Рейтинг: голосов еще нет
- Отзывов: 0
Получить код для блога
| Вставка фотографии в текущем разрешении |
Вставка миниатюры |
HTML (для вставки в блог):
BBCode (для вставки в форум):
Ссылка на фото:
Ссылка на миниатюру:
- Послать ссылку другу
| Комментарии к фотографии |