- Раздел: Другое, разное
- Дата съёмки: 15.09.2009 22:53
- Дата загрузки фото: 19.09.2009 10:53
- Оригинальная фотография: 2433 x 2848 (2,9 Мб)
- Технические характеристики:
- Фотоаппарат: Canon EOS 450D
- Выдержка: 1/40
- Гиперфокальное расстояние: 102,42 m
- Диафрагма: 1,8
- Светочувствительность: 800
- Фокусное расстояние: 50,0 mm (35 mm equivalent: 110,8 mm)
- Полный EXIF
- Adobe
- ColorTransform: YCbCr
- Composite
- Aperture: 1,8
- CircleOfConfusion: 0,014 mm
- FOV: 18,0 deg
- FocalLength35efl: 50,0 mm (35 mm equivalent: 110,8 mm)
- HyperfocalDistance: 102,42 m
- ScaleFactor35efl: 2,2
- ShutterSpeed: 1/40
- ExifIFD
- ApertureValue: 1,8
- CreateDate: 2009:09:15 22:53:57
- CustomRendered: Normal
- DateTimeOriginal: 2009:09:15 22:53:57
- ExposureCompensation: 0
- ExposureMode: Auto
- ExposureProgram: Program AE
- ExposureTime: 1/40
- FNumber: 1,8
- Flash: Off
- FocalLength: 50,0 mm
- ISO: 800
- MaxApertureValue: 1,8
- MeteringMode: Multi-segment
- SceneCaptureType: Standard
- ShutterSpeedValue: 1/40
- WhiteBalance: Auto
- ICC-header
- ICC-meas
- ICC-view
- IFD0
- Make: Canon
- Model: Canon EOS 450D
- ModifyDate: 2009:09:19 14:48:58
- IFD1
- XMP-aux
- Firmware: 1.1.0
- FlashCompensation: 0
- ImageNumber: 0
- Lens: EF50mm f/1.8 II
- LensInfo: 50/1 50/1 0/0 0/0
- SerialNumber: 1880506478
- XMP-crs
- AlreadyApplied: True
- BlueHue: 0
- BlueSaturation: 0
- Brightness: +55
- ChromaticAberrationB: 0
- ChromaticAberrationR: 0
- Clarity: 0
- ColorNoiseReduction: 25
- Contrast: +42
- ConvertToGrayscale: True
- CropAngle: 0
- CropBottom: 1
- CropHeight: 2848
- CropLeft: 0.23692
- CropRight: 0.806515
- CropTop: 0
- CropUnit: 0
- CropWidth: 2433
- Defringe: 0
- Exposure: 0.00
- FillLight: 49
- GrayMixerAqua: -25
- GrayMixerBlue: -3
- GrayMixerGreen: -19
- GrayMixerMagenta: +17
- GrayMixerOrange: +1
- GrayMixerPurple: +14
- GrayMixerRed: +14
- GrayMixerYellow: -6
- GreenHue: 0
- GreenSaturation: 0
- HasCrop: True
- HasSettings: True
- HighlightRecovery: 18
- LuminanceSmoothing: 0
- ParametricDarks: 0
- ParametricHighlightSplit: 75
- ParametricHighlights: 0
- ParametricLights: 0
- ParametricMidtoneSplit: 50
- ParametricShadowSplit: 25
- ParametricShadows: 0
- PostCropVignetteAmount: -10
- PostCropVignetteFeather: 50
- PostCropVignetteMidpoint: 50
- PostCropVignetteRoundness: 0
- RedHue: 0
- RedSaturation: 0
- ShadowTint: 0
- Shadows: 7
- SharpenDetail: 25
- SharpenEdgeMasking: 0
- SharpenRadius: +1.0
- Sharpness: 25
- SplitToningBalance: 0
- SplitToningHighlightHue: 0
- SplitToningHighlightSaturation: 0
- SplitToningShadowHue: 0
- SplitToningShadowSaturation: 0
- Temperature: 2850
- Tint: 0
- ToneCurve: 0, 0, 32, 22, 64, 56, 128, 128, 192, 196, 255, 255
- ToneCurveName: Medium Contrast
- Version: 5.4
- VignetteAmount: -100
- VignetteMidpoint: 0
- XMP-exif
- DateTimeDigitized: 2009:09:15 22:53:57.80+08:00
- DateTimeOriginal: 2009:09:15 22:53:57.80+08:00
- ExifImageHeight: 2848
- ExifImageWidth: 2433
- FlashFired: False
- FlashFunction: False
- FlashMode: Off
- FlashRedEyeMode: False
- FlashReturn: No return detection
- XMP-tiff
- ImageHeight: 2848
- ImageWidth: 2433
- XMP-xmp
- CreateDate: 2009:09:15 22:53:57.80+08:00
- ModifyDate: 2009:09:19 14:48:58+08:00
- Просмотров: 282
- Рейтинг: голосов еще нет
- Отзывов: отключены