- Раздел: Город
- Дата съёмки: 26.09.2009 18:06
- Дата загрузки фото: 28.09.2009 20:46
- Оригинальная фотография: 3264 x 1691 (1,9 Мб)
- Технические характеристики:
- Фотоаппарат: Panasonic DMC-FZ18
- Выдержка: 5,0
- Диафрагма: 5,0
- Светочувствительность: 100
- Фокусное расстояние: 4,7 mm
- Полный EXIF
- Adobe
- ColorTransform: YCbCr
- Composite
- Aperture: 5,0
- FocalLength35efl: 4,7 mm
- LightValue: 2,3
- ShutterSpeed: 5,0
- ExifIFD
- ApertureValue: 5,0
- CreateDate: 2009:09:26 18:06:32
- DateTimeOriginal: 2009:09:26 18:06:32
- ExposureCompensation: 0
- ExposureProgram: Manual
- ExposureTime: 5,0
- FNumber: 5,0
- Flash: Off
- FocalLength: 4,7 mm
- ISO: 100
- MaxApertureValue: 2,8
- MeteringMode: Center-weighted average
- ShutterSpeedValue: 5,0
- ICC-header
- ICC-meas
- ICC-view
- IFD0
- Make: Panasonic
- Model: DMC-FZ18
- ModifyDate: 2009:09:28 19:16:37
- IFD1
- XMP-crs
- AlreadyApplied: True
- BlueHue: 0
- BlueSaturation: 0
- Brightness: +70
- ChromaticAberrationB: 0
- ChromaticAberrationR: 0
- Clarity: +47
- ColorNoiseReduction: 49
- Contrast: -3
- ConvertToGrayscale: True
- CropAngle: 0
- CropBottom: 1
- CropHeight: 1691
- CropLeft: 0
- CropRight: 1
- CropTop: 0.078947
- CropUnit: 0
- CropWidth: 3264
- Defringe: 0
- Exposure: 0.00
- FillLight: 0
- GrayMixerAqua: -19
- GrayMixerBlue: +10
- GrayMixerGreen: -23
- GrayMixerMagenta: +6
- GrayMixerOrange: 0
- GrayMixerPurple: +14
- GrayMixerRed: +5
- GrayMixerYellow: -17
- GreenHue: 0
- GreenSaturation: 0
- HasCrop: True
- HasSettings: True
- HighlightRecovery: 44
- LuminanceSmoothing: 44
- ParametricDarks: +1
- ParametricHighlightSplit: 75
- ParametricHighlights: +42
- ParametricLights: 0
- ParametricMidtoneSplit: 50
- ParametricShadowSplit: 25
- ParametricShadows: +10
- PostCropVignetteAmount: 0
- RedHue: 0
- RedSaturation: 0
- ShadowTint: 0
- Shadows: 7
- SharpenDetail: 47
- SharpenEdgeMasking: 0
- SharpenRadius: +0.6
- Sharpness: 63
- SplitToningBalance: 0
- SplitToningHighlightHue: 0
- SplitToningHighlightSaturation: 0
- SplitToningShadowHue: 0
- SplitToningShadowSaturation: 0
- Temperature: 8544
- Tint: 0
- ToneCurve: 0, 0, 32, 22, 64, 56, 128, 128, 192, 196, 255, 255
- ToneCurveName: Medium Contrast
- Version: 5.5
- VignetteAmount: 0
- WhiteBalance: Custom
- XMP-exif
- DateTimeDigitized: 2009:09:26 18:06:32+03:00
- DateTimeOriginal: 2009:09:26 18:06:32+03:00
- ExifImageHeight: 1691
- ExifImageWidth: 3264
- FlashFired: False
- FlashFunction: False
- FlashMode: Off
- FlashRedEyeMode: False
- FlashReturn: No return detection
- XMP-tiff
- ImageHeight: 1691
- ImageWidth: 3264
- XMP-xmp
- CreateDate: 2009:09:26 18:06:32+03:00
- ModifyDate: 2009:09:28 19:16:37+03:00