- Раздел: Город
- Дата съёмки: 26.09.2009 18:22
- Дата загрузки фото: 28.09.2009 20:47
- Оригинальная фотография: 3264 x 1994 (2,2 Мб)
- Технические характеристики:
- Фотоаппарат: Panasonic DMC-FZ18
- Выдержка: 13,0
- Диафрагма: 3,6
- Светочувствительность: 100
- Фокусное расстояние: 7,5 mm
- Полный EXIF
- Adobe
- ColorTransform: YCbCr
- Composite
- Aperture: 3,6
- FocalLength35efl: 7,5 mm
- LightValue: -0,5
- ShutterSpeed: 13,0
- ExifIFD
- ApertureValue: 3,6
- CreateDate: 2009:09:26 18:22:18
- DateTimeOriginal: 2009:09:26 18:22:18
- ExposureCompensation: 0
- ExposureProgram: Manual
- ExposureTime: 13,0
- FNumber: 3,6
- Flash: Off
- FocalLength: 7,5 mm
- ISO: 100
- MaxApertureValue: 2,8
- MeteringMode: Center-weighted average
- ShutterSpeedValue: 13,0
- ICC-header
- ICC-meas
- ICC-view
- IFD0
- Make: Panasonic
- Model: DMC-FZ18
- ModifyDate: 2009:09:28 19:22:57
- IFD1
- XMP-crs
- AlreadyApplied: True
- BlueHue: 0
- BlueSaturation: 0
- Brightness: +50
- ChromaticAberrationB: 0
- ChromaticAberrationR: 0
- Clarity: +47
- ColorNoiseReduction: 22
- Contrast: +30
- ConvertToGrayscale: True
- CropAngle: 0
- CropBottom: 0.918129
- CropHeight: 1994
- CropLeft: 0
- CropRight: 1
- CropTop: 0
- CropUnit: 0
- CropWidth: 3264
- Defringe: 0
- Exposure: 0.00
- FillLight: 13
- GrayMixerAqua: -16
- GrayMixerBlue: +7
- GrayMixerGreen: -23
- GrayMixerMagenta: +1
- GrayMixerOrange: -16
- GrayMixerPurple: +12
- GrayMixerRed: -9
- GrayMixerYellow: -19
- GreenHue: 0
- GreenSaturation: 0
- HasCrop: True
- HasSettings: True
- HighlightRecovery: 0
- LuminanceSmoothing: 18
- ParametricDarks: -7
- ParametricHighlightSplit: 75
- ParametricHighlights: +100
- ParametricLights: +29
- ParametricMidtoneSplit: 50
- ParametricShadowSplit: 25
- ParametricShadows: -2
- PostCropVignetteAmount: 0
- RedHue: 0
- RedSaturation: 0
- ShadowTint: 0
- Shadows: 2
- SharpenDetail: 42
- SharpenEdgeMasking: 22
- SharpenRadius: +0.6
- Sharpness: 70
- SplitToningBalance: 0
- SplitToningHighlightHue: 0
- SplitToningHighlightSaturation: 0
- SplitToningShadowHue: 0
- SplitToningShadowSaturation: 0
- Temperature: 4650
- Tint: -57
- ToneCurve: 0, 0, 32, 22, 64, 56, 128, 128, 192, 196, 255, 255
- ToneCurveName: Medium Contrast
- Version: 5.5
- VignetteAmount: 0
- WhiteBalance: Custom
- XMP-exif
- DateTimeDigitized: 2009:09:26 18:22:18+03:00
- DateTimeOriginal: 2009:09:26 18:22:18+03:00
- ExifImageHeight: 1994
- ExifImageWidth: 3264
- FlashFired: False
- FlashFunction: False
- FlashMode: Off
- FlashRedEyeMode: False
- FlashReturn: No return detection
- XMP-tiff
- ImageHeight: 1994
- ImageWidth: 3264
- XMP-xmp
- CreateDate: 2009:09:26 18:22:18+03:00
- ModifyDate: 2009:09:28 19:22:57+03:00