Уважаемые друзья и участники проекта iXBT.photo! К сожалению, 1 марта 2026 года проект iXBT.photo прекратит свою работу и будет закрыт. Мы высоко ценим ваше участие и тот вклад, который вы внесли в развитие нашего сообщества. Пожалуйста, не забудьте сохранить ваши фотографии до этой даты.
С уважением, команда iXBT.com
| ... |
...
- Раздел: Репортаж
- Дата съёмки: 29.08.2009 09:18
- Дата загрузки фото: 29.09.2009 14:10
- Оригинальная фотография: 3855 x 2726 (4,2 Мб)
- Технические характеристики:
- Фотоаппарат: Canon EOS 450D
- Выдержка: 1/400
- Гиперфокальное расстояние: 90,79 m
- Диафрагма: 7,1
- Светочувствительность: 100
- Фокусное расстояние: 105,0 mm (35 mm equivalent: 184,5 mm)
- Полный EXIF
- Adobe
- ColorTransform: YCbCr
- Composite
- Aperture: 7,1
- CircleOfConfusion: 0,017 mm
- FOV: 11,0 deg
- FocalLength35efl: 105,0 mm (35 mm equivalent: 184,5 mm)
- HyperfocalDistance: 90,79 m
- ScaleFactor35efl: 1,8
- ShutterSpeed: 1/400
- ExifIFD
- ApertureValue: 7,1
- ColorSpace: sRGB
- CreateDate: 2009:08:29 09:18:43
- CustomRendered: Normal
- DateTimeOriginal: 2009:08:29 09:18:43
- ExifImageHeight: 2726
- ExifImageWidth: 3855
- ExposureCompensation: 0
- ExposureMode: Auto
- ExposureProgram: Program AE
- ExposureTime: 1/400
- FNumber: 7,1
- Flash: Off
- FocalLength: 105,0 mm
- ISO: 100
- MaxApertureValue: 4,0
- MeteringMode: Center-weighted average
- SceneCaptureType: Standard
- ShutterSpeedValue: 1/400
- WhiteBalance: Manual
- ICC-header
- ICC-meas
- ICC-view
- IFD0
- Make: Canon
- Model: Canon EOS 450D
- ModifyDate: 2009:09:21 16:50:12
- Orientation: Horizontal (normal)
- IFD1
- IPTC
- XMP-aux
- Firmware: 1.0.4
- FlashCompensation: 0
- ImageNumber: 0
- Lens: EF24-105mm f/4L IS USM
- LensInfo: 24/1 105/1 0/0 0/0
- SerialNumber: 780273715
- XMP-crs
- AlreadyApplied: True
- BlueHue: +11
- BlueSaturation: -70
- Brightness: +57
- ChromaticAberrationB: 0
- ChromaticAberrationR: 0
- Clarity: -15
- ColorNoiseReduction: 70
- Contrast: +25
- ConvertToGrayscale: False
- CropAngle: 0
- CropBottom: 1
- CropHeight: 2731
- CropLeft: 0.040956
- CropRight: 1
- CropTop: 0.040956
- CropUnit: 0
- CropWidth: 4097
- Defringe: 0
- Exposure: +1.39
- FillLight: 0
- GreenHue: +11
- GreenSaturation: +25
- HasCrop: True
- HasSettings: True
- HighlightRecovery: 0
- HueAdjustmentAqua: 0
- HueAdjustmentBlue: 0
- HueAdjustmentGreen: 0
- HueAdjustmentMagenta: 0
- HueAdjustmentOrange: 0
- HueAdjustmentPurple: 0
- HueAdjustmentRed: 0
- HueAdjustmentYellow: +4
- LuminanceAdjustmentAqua: 0
- LuminanceAdjustmentBlue: 0
- LuminanceAdjustmentGreen: 0
- LuminanceAdjustmentMagenta: 0
- LuminanceAdjustmentOrange: +100
- LuminanceAdjustmentPurple: 0
- LuminanceAdjustmentRed: 0
- LuminanceAdjustmentYellow: 0
- LuminanceSmoothing: 60
- ParametricDarks: -11
- ParametricHighlightSplit: 75
- ParametricHighlights: -85
- ParametricLights: -39
- ParametricMidtoneSplit: 50
- ParametricShadowSplit: 25
- ParametricShadows: -14
- PostCropVignetteAmount: 0
- RedHue: +96
- RedSaturation: +3
- Saturation: -65
- SaturationAdjustmentAqua: 0
- SaturationAdjustmentBlue: 0
- SaturationAdjustmentGreen: 0
- SaturationAdjustmentMagenta: 0
- SaturationAdjustmentOrange: -39
- SaturationAdjustmentPurple: 0
- SaturationAdjustmentRed: 0
- SaturationAdjustmentYellow: +6
- ShadowTint: +8
- Shadows: 11
- SharpenDetail: 25
- SharpenEdgeMasking: 0
- SharpenRadius: +1.0
- Sharpness: 25
- SplitToningBalance: 0
- SplitToningHighlightHue: 0
- SplitToningHighlightSaturation: 0
- SplitToningShadowHue: 0
- SplitToningShadowSaturation: 0
- Temperature: 6565
- Tint: +35
- ToneCurve: 0, 0, 255, 255
- ToneCurveName: Linear
- Version: 5.2
- Vibrance: +67
- VignetteAmount: -61
- VignetteMidpoint: 34
- WhiteBalance: Custom
- XMP-dc
- XMP-exif
- DateTimeDigitized: 2009:08:29 09:18:43.97+04:00
- DateTimeOriginal: 2009:08:29 09:18:43.97+04:00
- FlashFired: False
- FlashFunction: False
- FlashMode: Off
- FlashRedEyeMode: False
- FlashReturn: No return detection
- XMP-tiff
- ImageHeight: 2731
- ImageWidth: 4097
- XMP-xmp
- CreateDate: 2009:08:29 09:18:43.97+04:00
- ModifyDate: 2009:09:21 16:50:12+04:00
- XMP-xmpMM
- Просмотров: 376
- Рейтинг: голосов еще нет
- Отзывов: 0
Получить код для блога
| Вставка фотографии в текущем разрешении |
Вставка миниатюры |
HTML (для вставки в блог):
BBCode (для вставки в форум):
Ссылка на фото:
Ссылка на миниатюру:
- Послать ссылку другу
| Комментарии к фотографии |