» Участники » Harumpel » Berlin » Belle Alliance |
Belle Alliance |
Belle Alliance
- Раздел: Город
- Дата съёмки: 30.09.2009 15:59
- Дата загрузки фото: 01.10.2009 01:04
- Оригинальная фотография: 1682 x 2523 (2,3 Мб)
- Технические характеристики:
- Фотоаппарат: Sigma DP1
- Выдержка: 1/100
- Гиперфокальное расстояние: 2,76 m
- Диафрагма: 5,6
- Светочувствительность: 50
- Фокусное расстояние: 16,6 mm (35 mm equivalent: 28,0 mm)
- Полный EXIF
- Adobe
- ColorTransform: YCbCr
- Composite
- Aperture: 5,6
- CircleOfConfusion: 0,018 mm
- FOV: 65,0 deg
- FocalLength35efl: 16,6 mm (35 mm equivalent: 28,0 mm)
- HyperfocalDistance: 2,76 m
- ScaleFactor35efl: 1,7
- ShutterSpeed: 1/100
- ExifIFD
- ApertureValue: 5,6
- DateTimeOriginal: 2009:09:30 15:59:05
- ExposureCompensation: 0
- ExposureProgram: Program AE
- ExposureTime: 1/100
- FNumber: 5,6
- FocalLength: 16,6 mm
- FocalLengthIn35mmFormat: 28 mm
- ISO: 50
- MeteringMode: Multi-segment
- ShutterSpeedValue: 1/100
- ICC-header
- ICC-meas
- ICC-view
- IFD0
- Make: SIGMA
- Model: SIGMA DP1
- ModifyDate: 2009:09:30 22:07:08
- Software: 2.00
- IFD1
- XMP-aux
- Firmware: 2.00
- Lens: 16.6 mm
- LensID:
- LensInfo: 166/10 166/10 0/0 0/0
- SerialNumber: 1027043
- XMP-crs
- AlreadyApplied: True
- BlueHue: 0
- BlueSaturation: 0
- Brightness: 0
- CameraProfile: Embedded
- ChromaticAberrationB: 0
- ChromaticAberrationR: 0
- Clarity: 0
- ColorNoiseReduction: 0
- Contrast: 0
- ConvertToGrayscale: False
- CropAngle: -1.452
- CropBottom: 0.963675
- CropHeight: 1682
- CropLeft: 0.018785
- CropRight: 0.990314
- CropTop: 0.044775
- CropUnit: 0
- CropWidth: 2523
- Defringe: 0
- Exposure: +1.15
- FillLight: 0
- GreenHue: 0
- GreenSaturation: 0
- HasCrop: True
- HasSettings: True
- HighlightRecovery: 50
- HueAdjustmentAqua: 0
- HueAdjustmentBlue: 0
- HueAdjustmentGreen: 0
- HueAdjustmentMagenta: 0
- HueAdjustmentOrange: 0
- HueAdjustmentPurple: 0
- HueAdjustmentRed: 0
- HueAdjustmentYellow: 0
- LuminanceAdjustmentAqua: 0
- LuminanceAdjustmentBlue: 0
- LuminanceAdjustmentGreen: 0
- LuminanceAdjustmentMagenta: 0
- LuminanceAdjustmentOrange: 0
- LuminanceAdjustmentPurple: 0
- LuminanceAdjustmentRed: 0
- LuminanceAdjustmentYellow: 0
- LuminanceSmoothing: 0
- ParametricDarks: -20
- ParametricHighlightSplit: 75
- ParametricHighlights: +60
- ParametricLights: +10
- ParametricMidtoneSplit: 50
- ParametricShadowSplit: 25
- ParametricShadows: -60
- PostCropVignetteAmount: 0
- RedHue: 0
- RedSaturation: 0
- Saturation: 0
- SaturationAdjustmentAqua: +50
- SaturationAdjustmentBlue: +58
- SaturationAdjustmentGreen: +10
- SaturationAdjustmentMagenta: 0
- SaturationAdjustmentOrange: +13
- SaturationAdjustmentPurple: +23
- SaturationAdjustmentRed: 0
- SaturationAdjustmentYellow: +23
- ShadowTint: 0
- Shadows: 14
- SharpenDetail: 25
- SharpenEdgeMasking: 0
- SharpenRadius: +1.0
- Sharpness: 25
- SplitToningBalance: 0
- SplitToningHighlightHue: 0
- SplitToningHighlightSaturation: 0
- SplitToningShadowHue: 0
- SplitToningShadowSaturation: 0
- Temperature: 5400
- Tint: 0
- ToneCurve: 0, 0, 255, 255
- ToneCurveName: Linear
- Version: 5.4
- Vibrance: 0
- VignetteAmount: 0
- WhiteBalance: As Shot
- XMP-exif
- DateTimeOriginal: 2009:09:30 15:59:05+02:00
- ExifImageHeight: 2523
- ExifImageWidth: 1682
- XMP-tiff
- ImageHeight: 2523
- ImageWidth: 1682
- XMP-xmp
- CreateDate: 2009:09:30 15:59:05+02:00
- ModifyDate: 2009:09:30 22:07:08+02:00
- Просмотров: 292
- Рейтинг: голосов еще нет
- Отзывов: 0
Получить код для блога
Вставка фотографии в текущем разрешении |
Вставка миниатюры |
HTML (для вставки в блог):
BBCode (для вставки в форум):
Ссылка на фото:
Ссылка на миниатюру:
- Послать ссылку другу
Комментарии к фотографии |