- Раздел: Пейзаж
- Дата съёмки: 26.09.2009 18:26
- Дата загрузки фото: 05.10.2009 12:50
- Оригинальная фотография: 1920 x 1280 (1,9 Мб)
- Технические характеристики:
- Фотоаппарат: Sony DSLR-A900
- Выдержка: 1/30
- Гиперфокальное расстояние: 6,52 m
- Диафрагма: 4,0
- Светочувствительность: 250
- Фокусное расстояние: 28,0 mm (35 mm equivalent: 28,0 mm)
- Полный EXIF
- Adobe
- ColorTransform: YCbCr
- Composite
- Aperture: 4,0
- CircleOfConfusion: 0,030 mm
- FOV: 65,0 deg
- FocalLength35efl: 28,0 mm (35 mm equivalent: 28,0 mm)
- HyperfocalDistance: 6,52 m
- ScaleFactor35efl: 1,0
- ShutterSpeed: 1/30
- ExifIFD
- ApertureValue: 4,0
- BrightnessValue: 2,87
- Contrast: Normal
- CreateDate: 2009:09:26 18:26:39
- CustomRendered: Normal
- DateTimeOriginal: 2009:09:26 18:26:39
- ExposureCompensation: 0
- ExposureMode: Auto
- ExposureProgram: Aperture-priority AE
- ExposureTime: 1/30
- FNumber: 4,0
- Flash: Off
- FocalLength: 28,0 mm
- FocalLengthIn35mmFormat: 28 mm
- ISO: 250
- LightSource: Unknown
- MaxApertureValue: 4,0
- MeteringMode: Multi-segment
- Saturation: Normal
- SceneCaptureType: Standard
- SceneType: Directly photographed
- Sharpness: Normal
- ShutterSpeedValue: 1/30
- WhiteBalance: Auto
- ICC-header
- ICC-meas
- ICC-view
- IFD0
- Copyright: Dmitry Rybas
- Make: SONY
- Model: DSLR-A900
- ModifyDate: 2009:10:05 12:34:33
- Software: DSLR-A900 v1.00
- IFD1
- IPTC
- CopyrightNotice: Dmitry Rybas
- XMP-aux
- Lens: 28-135mm F4-4.5
- LensInfo: 28/1 135/1 4/1 45/10
- XMP-crs
- AlreadyApplied: True
- BlueHue: 0
- BlueSaturation: 0
- Brightness: +51
- ChromaticAberrationB: 0
- ChromaticAberrationR: 0
- Clarity: +88
- ColorNoiseReduction: 25
- Contrast: +70
- ConvertToGrayscale: False
- Defringe: 0
- Exposure: -0.23
- FillLight: 0
- GreenHue: 0
- GreenSaturation: 0
- HasCrop: False
- HasSettings: True
- HighlightRecovery: 98
- HueAdjustmentAqua: 0
- HueAdjustmentBlue: 0
- HueAdjustmentGreen: 0
- HueAdjustmentMagenta: 0
- HueAdjustmentOrange: 0
- HueAdjustmentPurple: 0
- HueAdjustmentRed: 0
- HueAdjustmentYellow: 0
- LuminanceAdjustmentAqua: 0
- LuminanceAdjustmentBlue: 0
- LuminanceAdjustmentGreen: 0
- LuminanceAdjustmentMagenta: 0
- LuminanceAdjustmentOrange: 0
- LuminanceAdjustmentPurple: 0
- LuminanceAdjustmentRed: 0
- LuminanceAdjustmentYellow: 0
- LuminanceSmoothing: 0
- ParametricDarks: 0
- ParametricHighlightSplit: 75
- ParametricHighlights: 0
- ParametricLights: 0
- ParametricMidtoneSplit: 50
- ParametricShadowSplit: 25
- ParametricShadows: 0
- PostCropVignetteAmount: 0
- RedHue: 0
- RedSaturation: 0
- Saturation: 0
- SaturationAdjustmentAqua: 0
- SaturationAdjustmentBlue: 0
- SaturationAdjustmentGreen: 0
- SaturationAdjustmentMagenta: 0
- SaturationAdjustmentOrange: 0
- SaturationAdjustmentPurple: 0
- SaturationAdjustmentRed: 0
- SaturationAdjustmentYellow: 0
- ShadowTint: 0
- Shadows: 25
- SharpenDetail: 25
- SharpenEdgeMasking: 0
- SharpenRadius: +1.0
- Sharpness: 25
- SplitToningBalance: 0
- SplitToningHighlightHue: 0
- SplitToningHighlightSaturation: 0
- SplitToningShadowHue: 0
- SplitToningShadowSaturation: 0
- Temperature: 6100
- Tint: -5
- ToneCurve: 0, 0, 32, 22, 64, 56, 128, 128, 192, 196, 255, 255
- ToneCurveName: Medium Contrast
- Version: 5.5
- Vibrance: 0
- VignetteAmount: +73
- VignetteMidpoint: 50
- WhiteBalance: Custom
- XMP-dc
- Description:
- Rights: Dmitry Rybas
- XMP-exif
- DateTimeDigitized: 2009:09:26 18:26:39+04:00
- DateTimeOriginal: 2009:09:26 18:26:39+04:00
- ExifImageHeight: 1280
- ExifImageWidth: 1920
- FlashFired: False
- FlashFunction: False
- FlashMode: Off
- FlashRedEyeMode: False
- FlashReturn: No return detection
- XMP-iptcCore
- CreatorContactInfoCiUrlWork: wrest.livejournal.com
- XMP-tiff
- ImageHeight: 1280
- ImageWidth: 1920
- XMP-xmp
- CreateDate: 2009:09:26 18:26:39+04:00
- ModifyDate: 2009:10:05 12:34:33+04:00
- Rating: 2
- XMP-xmpRights
- Marked: True
- WebStatement: wrest.livejournal.com
- Просмотров: 859
- Рейтинг: голосов еще нет
- Отзывов: 0