| » Участники » insomnia » Природа » Утренняя луна |
Уважаемые друзья и участники проекта iXBT.photo! К сожалению, 1 марта 2026 года проект iXBT.photo прекратит свою работу и будет закрыт. Мы высоко ценим ваше участие и тот вклад, который вы внесли в развитие нашего сообщества. Пожалуйста, не забудьте сохранить ваши фотографии до этой даты.
С уважением, команда iXBT.com
| Утренняя луна |
Утренняя луна
- Раздел: Природа
- Дата съёмки: 07.10.2009 08:34
- Дата загрузки фото: 07.10.2009 14:54
- Оригинальная фотография: 2710 x 3833 (5,6 Мб)
- Технические характеристики:
- Фотоаппарат: Nikon D700
- Выдержка: 1/160
- Гиперфокальное расстояние: 5,20 m
- Диафрагма: 16,0
- Светочувствительность: 200
- Фокусное расстояние: 50,0 mm (35 mm equivalent: 50,0 mm)
- Экспокоррекция: +2/3
- Полный EXIF
- Adobe
- ColorTransform: YCbCr
- Composite
- Aperture: 16,0
- CircleOfConfusion: 0,030 mm
- FOV: 39,0 deg
- FocalLength35efl: 50,0 mm (35 mm equivalent: 50,0 mm)
- HyperfocalDistance: 5,20 m
- ScaleFactor35efl: 1,0
- ShutterSpeed: 1/160
- ExifIFD
- ApertureValue: 16,0
- CFAPattern: [Red,Green][Green,Blue]
- Contrast: Normal
- CreateDate: 2009:10:07 08:34:42
- CustomRendered: Normal
- DateTimeOriginal: 2009:10:07 08:34:42
- DigitalZoomRatio: 1
- ExposureCompensation: +2/3
- ExposureMode: Auto
- ExposureProgram: Aperture-priority AE
- ExposureTime: 1/160
- FNumber: 16,0
- Flash: No Flash
- FocalLength: 50,0 mm
- FocalLengthIn35mmFormat: 50 mm
- GainControl: None
- ISO: 200
- LightSource: Unknown
- MaxApertureValue: 1,4
- MeteringMode: Center-weighted average
- Saturation: Normal
- SceneCaptureType: Standard
- SceneType: Directly photographed
- SensingMethod: One-chip color area
- Sharpness: Normal
- ShutterSpeedValue: 1/160
- SubjectDistanceRange: Unknown
- WhiteBalance: Auto
- ICC-header
- ICC-meas
- ICC-view
- IFD0
- Artist: Roman Yavtushenko
- Copyright: RomkaZ
- Make: NIKON CORPORATION
- Model: NIKON D700
- ModifyDate: 2009:10:07 13:45:03
- Software: Ver.1.01
- IFD1
- IPTC
- By-line: Roman Yavtushenko
- CopyrightNotice: RomkaZ
- XMP-aux
- ImageNumber: 3429
- Lens: 50.0 mm f/1.4
- LensInfo: 500/10 500/10 14/10 14/10
- SerialNumber: 2188358
- XMP-crs
- AlreadyApplied: True
- BlueHue: 0
- BlueSaturation: 0
- Brightness: +50
- CameraProfile: Camera Vivid
- ChromaticAberrationB: 0
- ChromaticAberrationR: 0
- Clarity: 0
- ColorNoiseReduction: 25
- Contrast: +25
- ConvertToGrayscale: False
- CropAngle: 0
- CropBottom: 1
- CropHeight: 2710
- CropLeft: 0.099339
- CropRight: 1
- CropTop: 0.042954
- CropUnit: 0
- CropWidth: 3833
- Defringe: 0
- Exposure: 0.00
- FillLight: 26
- GreenHue: 0
- GreenSaturation: 0
- HasCrop: True
- HasSettings: True
- HighlightRecovery: 0
- HueAdjustmentAqua: 0
- HueAdjustmentBlue: 0
- HueAdjustmentGreen: 0
- HueAdjustmentMagenta: 0
- HueAdjustmentOrange: 0
- HueAdjustmentPurple: 0
- HueAdjustmentRed: 0
- HueAdjustmentYellow: 0
- LuminanceAdjustmentAqua: -79
- LuminanceAdjustmentBlue: -25
- LuminanceAdjustmentGreen: -35
- LuminanceAdjustmentMagenta: 0
- LuminanceAdjustmentOrange: +18
- LuminanceAdjustmentPurple: 0
- LuminanceAdjustmentRed: 0
- LuminanceAdjustmentYellow: +6
- LuminanceSmoothing: 0
- ParametricDarks: 0
- ParametricHighlightSplit: 75
- ParametricHighlights: 0
- ParametricLights: 0
- ParametricMidtoneSplit: 50
- ParametricShadowSplit: 25
- ParametricShadows: 0
- PostCropVignetteAmount: 0
- RedHue: 0
- RedSaturation: 0
- Saturation: 0
- SaturationAdjustmentAqua: +50
- SaturationAdjustmentBlue: +10
- SaturationAdjustmentGreen: +25
- SaturationAdjustmentMagenta: 0
- SaturationAdjustmentOrange: +53
- SaturationAdjustmentPurple: +6
- SaturationAdjustmentRed: +6
- SaturationAdjustmentYellow: +70
- ShadowTint: 0
- Shadows: 5
- SharpenDetail: 25
- SharpenEdgeMasking: 0
- SharpenRadius: +1.0
- Sharpness: 25
- SplitToningBalance: 0
- SplitToningHighlightHue: 0
- SplitToningHighlightSaturation: 0
- SplitToningShadowHue: 0
- SplitToningShadowSaturation: 0
- Temperature: 4450
- Tint: +1
- ToneCurve: 0, 0, 32, 22, 64, 56, 128, 128, 192, 196, 255, 255
- ToneCurveName: Medium Contrast
- Version: 5.4
- Vibrance: 0
- VignetteAmount: 0
- WhiteBalance: Custom
- XMP-dc
- Creator: Roman Yavtushenko
- Rights: RomkaZ
- XMP-exif
- DateTimeDigitized: 2009:10:07 08:34:42.92+03:00
- DateTimeOriginal: 2009:10:07 08:34:42.92+03:00
- ExifImageHeight: 3833
- ExifImageWidth: 2710
- FlashFired: False
- FlashFunction: False
- FlashMode: Unknown
- FlashRedEyeMode: False
- FlashReturn: No return detection
- XMP-tiff
- ImageHeight: 3833
- ImageWidth: 2710
- XMP-xmp
- CreateDate: 2009:10:07 08:34:42.92+03:00
- ModifyDate: 2009:10:07 13:45:03+03:00
- Просмотров: 1008
- Рейтинг: голосов еще нет
- Отзывов: 0
Получить код для блога
| Вставка фотографии в текущем разрешении |
Вставка миниатюры |
HTML (для вставки в блог):
BBCode (для вставки в форум):
Ссылка на фото:
Ссылка на миниатюру:
- Послать ссылку другу
| Комментарии к фотографии |