- Раздел: Природа
- Дата съёмки: 18.10.2009 23:24
- Дата загрузки фото: 19.10.2009 00:27
- Оригинальная фотография: 1334 x 1974 (1,1 Мб)
- Технические характеристики:
- Фотоаппарат: Nikon D60
- Выдержка: 1/20
- Гиперфокальное расстояние: 2,81 m
- Диафрагма: 7,1
- Светочувствительность: 100
- Фокусное расстояние: 20,0 mm (35 mm equivalent: 30,0 mm)
- Полный EXIF
- Adobe
- ColorTransform: YCbCr
- Composite
- Aperture: 7,1
- CircleOfConfusion: 0,020 mm
- FOV: 61,0 deg
- FocalLength35efl: 20,0 mm (35 mm equivalent: 30,0 mm)
- HyperfocalDistance: 2,81 m
- ScaleFactor35efl: 1,5
- ShutterSpeed: 1/20
- ExifIFD
- ApertureValue: 7,1
- CFAPattern: [Green,Blue][Red,Green]
- ColorSpace: sRGB
- Contrast: Normal
- CreateDate: 2009:10:18 15:35:14
- CustomRendered: Normal
- DateTimeOriginal: 2009:10:18 15:35:14
- DigitalZoomRatio: 1
- ExifImageHeight: 1974
- ExifImageWidth: 1334
- ExposureCompensation: 0
- ExposureMode: Manual
- ExposureProgram: Manual
- ExposureTime: 1/20
- FNumber: 7,1
- Flash: No Flash
- FocalLength: 20,0 mm
- FocalLengthIn35mmFormat: 30 mm
- GainControl: None
- ISO: 100
- LightSource: Unknown
- MaxApertureValue: 3,7
- MeteringMode: Multi-segment
- Saturation: Normal
- SceneCaptureType: Standard
- SceneType: Directly photographed
- SensingMethod: One-chip color area
- Sharpness: Normal
- ShutterSpeedValue: 1/20
- SubjectDistanceRange: Unknown
- WhiteBalance: Auto
- ICC-header
- ICC-meas
- ICC-view
- IFD0
- Make: NIKON CORPORATION
- Model: NIKON D60
- ModifyDate: 2009:10:18 23:24:42
- Orientation: Horizontal (normal)
- IFD1
- IPTC
- XMP-aux
- ImageNumber: 9913
- Lens: 18.0-55.0 mm f/3.5-5.6
- LensInfo: 18/1 55/1 35/10 56/10
- SerialNumber: 6369329
- XMP-crs
- AlreadyApplied: True
- BlueHue: 0
- BlueSaturation: 0
- Brightness: +40
- CameraProfile: ACR 4.4
- ChromaticAberrationB: 0
- ChromaticAberrationR: 0
- Clarity: +50
- ColorNoiseReduction: 25
- Contrast: +46
- ConvertToGrayscale: False
- Defringe: 0
- Exposure: +0.25
- FillLight: 14
- GreenHue: 0
- GreenSaturation: 0
- HasCrop: False
- HasSettings: True
- HighlightRecovery: 0
- HueAdjustmentAqua: 0
- HueAdjustmentBlue: 0
- HueAdjustmentGreen: 0
- HueAdjustmentMagenta: 0
- HueAdjustmentOrange: 0
- HueAdjustmentPurple: 0
- HueAdjustmentRed: 0
- HueAdjustmentYellow: 0
- LuminanceAdjustmentAqua: 0
- LuminanceAdjustmentBlue: 0
- LuminanceAdjustmentGreen: 0
- LuminanceAdjustmentMagenta: 0
- LuminanceAdjustmentOrange: 0
- LuminanceAdjustmentPurple: 0
- LuminanceAdjustmentRed: 0
- LuminanceAdjustmentYellow: 0
- LuminanceSmoothing: 0
- ParametricDarks: 0
- ParametricHighlightSplit: 75
- ParametricHighlights: 0
- ParametricLights: 0
- ParametricMidtoneSplit: 50
- ParametricShadowSplit: 25
- ParametricShadows: 0
- PostCropVignetteAmount: 0
- RawFileName: DSC_0040.NEF
- RedHue: 0
- RedSaturation: 0
- Saturation: +65
- SaturationAdjustmentAqua: 0
- SaturationAdjustmentBlue: 0
- SaturationAdjustmentGreen: 0
- SaturationAdjustmentMagenta: 0
- SaturationAdjustmentOrange: 0
- SaturationAdjustmentPurple: 0
- SaturationAdjustmentRed: 0
- SaturationAdjustmentYellow: 0
- ShadowTint: 0
- Shadows: 19
- SharpenDetail: 25
- SharpenEdgeMasking: 0
- SharpenRadius: +1.0
- Sharpness: 25
- SplitToningBalance: 0
- SplitToningHighlightHue: 0
- SplitToningHighlightSaturation: 0
- SplitToningShadowHue: 0
- SplitToningShadowSaturation: 0
- Temperature: 4750
- Tint: +30
- ToneCurve: 0, 0, 32, 22, 64, 56, 128, 128, 192, 196, 255, 255
- ToneCurveName: Medium Contrast
- Version: 4.6
- Vibrance: 0
- VignetteAmount: 0
- WhiteBalance: Custom
- XMP-dc
- XMP-exif
- DateTimeDigitized: 2009:10:18 15:35:14.20+03:00
- DateTimeOriginal: 2009:10:18 15:35:14.20+03:00
- FlashFired: False
- FlashFunction: False
- FlashMode: Unknown
- FlashRedEyeMode: False
- FlashReturn: No return detection
- XMP-microsoft
- XMP-tiff
- ImageHeight: 3872
- ImageWidth: 2592
- XMP-xmp
- CreateDate: 2009:10:18 23:24:42+03:00
- ModifyDate: 2009:10:18 23:24:42+03:00
- XMP-xmpMM
- DerivedFrom: