Уважаемые друзья и участники проекта iXBT.photo! К сожалению, 1 марта 2026 года проект iXBT.photo прекратит свою работу и будет закрыт. Мы высоко ценим ваше участие и тот вклад, который вы внесли в развитие нашего сообщества. Пожалуйста, не забудьте сохранить ваши фотографии до этой даты.
С уважением, команда iXBT.com
| IMG_7111.jpg |
IMG_7111.jpg
- Раздел: Другое, разное
- Дата съёмки: 21.11.2009 14:57
- Дата загрузки фото: 21.10.2009 17:21
- Оригинальная фотография: 700 x 467 (146 Кб)
- Технические характеристики:
- Фотоаппарат: Canon EOS 50D
- Выдержка: 1/1000
- Гиперфокальное расстояние: 3162,68 m
- Диафрагма: 4,0
- Светочувствительность: 320
- Фокусное расстояние: 188,0 mm (35 mm equivalent: 2021,8 mm)
- Полный EXIF
- Adobe
- ColorTransform: YCbCr
- Composite
- Aperture: 4,0
- CircleOfConfusion: 0,003 mm
- FOV: 1,0 deg
- FocalLength35efl: 188,0 mm (35 mm equivalent: 2021,8 mm)
- HyperfocalDistance: 3162,68 m
- ScaleFactor35efl: 10,8
- ShutterSpeed: 1/1000
- ExifIFD
- ApertureValue: 4,0
- ColorSpace: sRGB
- CreateDate: 2009:09:19 10:17:45
- CustomRendered: Normal
- DateTimeOriginal: 2009:09:19 10:17:45
- ExifImageHeight: 467
- ExifImageWidth: 700
- ExposureCompensation: 0
- ExposureMode: Auto
- ExposureProgram: Aperture-priority AE
- ExposureTime: 1/1000
- FNumber: 4,0
- Flash: Off
- FocalLength: 188,0 mm
- ISO: 320
- MaxApertureValue: 4,0
- MeteringMode: Multi-segment
- SceneCaptureType: Standard
- ShutterSpeedValue: 1/1000
- WhiteBalance: Auto
- ICC-header
- ICC-meas
- ICC-view
- IFD0
- Artist: Photographer: Nikolai Yushevich
- Copyright: Copyright: partizanby.livejournal.com
- Make: Canon
- Model: Canon EOS 50D
- ModifyDate: 2009:11:21 14:57:40
- Orientation: Horizontal (normal)
- IFD1
- IPTC
- By-line: Photographer: Nikolai Yushevich
- CopyrightNotice: Copyright: partizanby.livejournal.com
- XMP-aux
- Firmware: 1.0.3
- FlashCompensation: 0
- ImageNumber: 0
- Lens: EF70-200mm f/4L USM
- LensInfo: 70/1 200/1 0/0 0/0
- OwnerName: PartizanBY
- SerialNumber: 530345516
- XMP-crs
- AlreadyApplied: True
- BlueHue: 0
- BlueSaturation: 0
- Brightness: +50
- ChromaticAberrationB: 0
- ChromaticAberrationR: 0
- Clarity: +3
- ColorNoiseReduction: 25
- Contrast: +50
- ConvertToGrayscale: False
- CropAngle: 0
- CropBottom: 1
- CropHeight: 2879
- CropLeft: 0
- CropRight: 0.908898
- CropTop: 0.091102
- CropUnit: 0
- CropWidth: 4319
- Defringe: 0
- Exposure: +0.77
- FillLight: 11
- GreenHue: 0
- GreenSaturation: 0
- HasCrop: True
- HasSettings: True
- HighlightRecovery: 11
- HueAdjustmentAqua: 0
- HueAdjustmentBlue: 0
- HueAdjustmentGreen: 0
- HueAdjustmentMagenta: 0
- HueAdjustmentOrange: 0
- HueAdjustmentPurple: 0
- HueAdjustmentRed: 0
- HueAdjustmentYellow: 0
- LuminanceAdjustmentAqua: 0
- LuminanceAdjustmentBlue: 0
- LuminanceAdjustmentGreen: 0
- LuminanceAdjustmentMagenta: 0
- LuminanceAdjustmentOrange: 0
- LuminanceAdjustmentPurple: 0
- LuminanceAdjustmentRed: 0
- LuminanceAdjustmentYellow: 0
- LuminanceSmoothing: 0
- ParametricDarks: -6
- ParametricHighlightSplit: 75
- ParametricHighlights: +18
- ParametricLights: +2
- ParametricMidtoneSplit: 50
- ParametricShadowSplit: 25
- ParametricShadows: +2
- PostCropVignetteAmount: -12
- PostCropVignetteFeather: 55
- PostCropVignetteMidpoint: 45
- PostCropVignetteRoundness: +16
- RedHue: 0
- RedSaturation: 0
- Saturation: +2
- SaturationAdjustmentAqua: 0
- SaturationAdjustmentBlue: 0
- SaturationAdjustmentGreen: 0
- SaturationAdjustmentMagenta: 0
- SaturationAdjustmentOrange: 0
- SaturationAdjustmentPurple: 0
- SaturationAdjustmentRed: 0
- SaturationAdjustmentYellow: 0
- ShadowTint: 0
- Shadows: 6
- SharpenDetail: 31
- SharpenEdgeMasking: 0
- SharpenRadius: +1.3
- Sharpness: 51
- SplitToningBalance: 0
- SplitToningHighlightHue: 0
- SplitToningHighlightSaturation: 0
- SplitToningShadowHue: 0
- SplitToningShadowSaturation: 0
- Temperature: 4750
- Tint: +11
- ToneCurve: 0, 0, 32, 22, 64, 56, 128, 128, 192, 196, 255, 255
- ToneCurveName: Medium Contrast
- Version: 5.3
- Vibrance: +3
- VignetteAmount: -8
- VignetteMidpoint: 46
- WhiteBalance: As Shot
- XMP-dc
- Creator: Photographer: Nikolai Yushevich
- Format: image/jpeg
- Rights: Copyright: partizanby.livejournal.com
- XMP-exif
- DateTimeDigitized: 2009:09:19 10:17:45.61+04:00
- DateTimeOriginal: 2009:09:19 10:17:45.61+04:00
- FlashFired: False
- FlashFunction: False
- FlashMode: Off
- FlashRedEyeMode: False
- FlashReturn: No return detection
- XMP-tiff
- ImageHeight: 2879
- ImageWidth: 4319
- XMP-xmp
- CreateDate: 2009:11:21 14:57:40+02:00
- ModifyDate: 2009:11:21 14:57:40+02:00
- XMP-xmpMM
- DerivedFrom:
- Просмотров: 201
- Рейтинг: голосов еще нет
- Отзывов: отключены
Получить код для блога
| Вставка фотографии в текущем разрешении |
Вставка миниатюры |
HTML (для вставки в блог):
BBCode (для вставки в форум):
Ссылка на фото:
Ссылка на миниатюру:
- Послать ссылку другу
| Комментарии к фотографии |