Уважаемые друзья и участники проекта iXBT.photo! К сожалению, 1 марта 2026 года проект iXBT.photo прекратит свою работу и будет закрыт. Мы высоко ценим ваше участие и тот вклад, который вы внесли в развитие нашего сообщества. Пожалуйста, не забудьте сохранить ваши фотографии до этой даты.
С уважением, команда iXBT.com
| IMG_7300.jpg |
IMG_7300.jpg
- Раздел: Другое, разное
- Дата съёмки: 21.11.2009 14:53
- Дата загрузки фото: 21.10.2009 18:21
- Оригинальная фотография: 700 x 467 (156 Кб)
- Технические характеристики:
- Фотоаппарат: Canon EOS 50D
- Выдержка: 1/500
- Гиперфокальное расстояние: 1458,99 m
- Диафрагма: 4,0
- Светочувствительность: 320
- Фокусное расстояние: 154,0 mm (35 mm equivalent: 1138,6 mm)
- Экспокоррекция: +1/3
- Полный EXIF
- Adobe
- ColorTransform: YCbCr
- Composite
- Aperture: 4,0
- CircleOfConfusion: 0,004 mm
- FOV: 1,0 deg
- FocalLength35efl: 154,0 mm (35 mm equivalent: 1138,6 mm)
- HyperfocalDistance: 1458,99 m
- ScaleFactor35efl: 7,4
- ShutterSpeed: 1/500
- ExifIFD
- ApertureValue: 4,0
- ColorSpace: sRGB
- CreateDate: 2009:09:19 11:05:14
- CustomRendered: Normal
- DateTimeOriginal: 2009:09:19 11:05:14
- ExifImageHeight: 467
- ExifImageWidth: 700
- ExposureCompensation: +1/3
- ExposureMode: Auto
- ExposureProgram: Aperture-priority AE
- ExposureTime: 1/500
- FNumber: 4,0
- Flash: Off
- FocalLength: 154,0 mm
- ISO: 320
- MaxApertureValue: 4,0
- MeteringMode: Multi-segment
- SceneCaptureType: Standard
- ShutterSpeedValue: 1/500
- WhiteBalance: Auto
- ICC-header
- ICC-meas
- ICC-view
- IFD0
- Artist: Photographer: Nikolai Yushevich
- Copyright: Copyright: partizanby.livejournal.com
- Make: Canon
- Model: Canon EOS 50D
- ModifyDate: 2009:11:21 14:53:46
- Orientation: Horizontal (normal)
- IFD1
- IPTC
- By-line: Photographer: Nikolai Yushevich
- CopyrightNotice: Copyright: partizanby.livejournal.com
- XMP-aux
- Firmware: 1.0.3
- FlashCompensation: 0
- ImageNumber: 0
- Lens: EF70-200mm f/4L USM
- LensInfo: 70/1 200/1 0/0 0/0
- OwnerName: PartizanBY
- SerialNumber: 530345516
- XMP-crs
- AlreadyApplied: True
- BlueHue: 0
- BlueSaturation: 0
- Brightness: +52
- ChromaticAberrationB: 0
- ChromaticAberrationR: 0
- Clarity: +27
- ColorNoiseReduction: 25
- Contrast: +48
- ConvertToGrayscale: False
- CropAngle: 0
- CropBottom: 1
- CropHeight: 2023
- CropLeft: 0.070946
- CropRight: 1
- CropTop: 0.070946
- CropUnit: 0
- CropWidth: 3035
- Defringe: 0
- Exposure: +0.29
- FillLight: 0
- GreenHue: 0
- GreenSaturation: 0
- HasCrop: True
- HasSettings: True
- HighlightRecovery: 14
- HueAdjustmentAqua: 0
- HueAdjustmentBlue: 0
- HueAdjustmentGreen: +8
- HueAdjustmentMagenta: 0
- HueAdjustmentOrange: 0
- HueAdjustmentPurple: 0
- HueAdjustmentRed: 0
- HueAdjustmentYellow: 0
- LuminanceAdjustmentAqua: 0
- LuminanceAdjustmentBlue: 0
- LuminanceAdjustmentGreen: 0
- LuminanceAdjustmentMagenta: 0
- LuminanceAdjustmentOrange: 0
- LuminanceAdjustmentPurple: 0
- LuminanceAdjustmentRed: 0
- LuminanceAdjustmentYellow: 0
- LuminanceSmoothing: 0
- ParametricDarks: -15
- ParametricHighlightSplit: 75
- ParametricHighlights: -15
- ParametricLights: +15
- ParametricMidtoneSplit: 50
- ParametricShadowSplit: 25
- ParametricShadows: -5
- PostCropVignetteAmount: -6
- PostCropVignetteFeather: 100
- PostCropVignetteMidpoint: 50
- PostCropVignetteRoundness: +81
- RedHue: 0
- RedSaturation: 0
- Saturation: +2
- SaturationAdjustmentAqua: 0
- SaturationAdjustmentBlue: 0
- SaturationAdjustmentGreen: +10
- SaturationAdjustmentMagenta: 0
- SaturationAdjustmentOrange: 0
- SaturationAdjustmentPurple: 0
- SaturationAdjustmentRed: -3
- SaturationAdjustmentYellow: 0
- ShadowTint: 0
- Shadows: 7
- SharpenDetail: 25
- SharpenEdgeMasking: 0
- SharpenRadius: +1.0
- Sharpness: 100
- SplitToningBalance: 0
- SplitToningHighlightHue: 0
- SplitToningHighlightSaturation: 0
- SplitToningShadowHue: 0
- SplitToningShadowSaturation: 0
- Temperature: 4750
- Tint: +27
- ToneCurve: 0, 0, 32, 22, 64, 56, 128, 128, 192, 196, 255, 255
- ToneCurveName: Medium Contrast
- Version: 5.3
- Vibrance: +19
- VignetteAmount: -17
- VignetteMidpoint: 42
- WhiteBalance: As Shot
- XMP-dc
- Creator: Photographer: Nikolai Yushevich
- Format: image/jpeg
- Rights: Copyright: partizanby.livejournal.com
- XMP-exif
- DateTimeDigitized: 2009:09:19 11:05:14.81+04:00
- DateTimeOriginal: 2009:09:19 11:05:14.81+04:00
- FlashFired: False
- FlashFunction: False
- FlashMode: Off
- FlashRedEyeMode: False
- FlashReturn: No return detection
- XMP-tiff
- ImageHeight: 2023
- ImageWidth: 3035
- XMP-xmp
- CreateDate: 2009:11:21 14:53:46+02:00
- ModifyDate: 2009:11:21 14:53:46+02:00
- XMP-xmpMM
- DerivedFrom:
- Просмотров: 197
- Рейтинг: голосов еще нет
- Отзывов: отключены
Получить код для блога
| Вставка фотографии в текущем разрешении |
Вставка миниатюры |
HTML (для вставки в блог):
BBCode (для вставки в форум):
Ссылка на фото:
Ссылка на миниатюру:
- Послать ссылку другу
| Комментарии к фотографии |