| » Участники » sa2324 » Альбом #1 » 2d5fb1ecd865bff5dd1b6afd6da8d2a4.1.jpg |
Уважаемые друзья и участники проекта iXBT.photo! К сожалению, 1 марта 2026 года проект iXBT.photo прекратит свою работу и будет закрыт. Мы высоко ценим ваше участие и тот вклад, который вы внесли в развитие нашего сообщества. Пожалуйста, не забудьте сохранить ваши фотографии до этой даты.
С уважением, команда iXBT.com
| 2d5fb1ecd865bff5dd1b6afd6da8d2a4.1.jpg |
2d5fb1ecd865bff5dd1b6afd6da8d2a4.1.jpg
- Раздел: Другое, разное
- Дата съёмки: 03.09.2009 19:47
- Дата загрузки фото: 29.10.2009 19:29
- Оригинальная фотография: 800 x 532 (163 Кб)
- Технические характеристики:
- Фотоаппарат: Nikon D700
- Выдержка: 1/80
- Светочувствительность: 200
- Экспокоррекция: +1
- Полный EXIF
- Adobe
- ColorTransform: YCbCr
- Composite
- ShutterSpeed: 1/80
- ExifIFD
- CFAPattern: [Red,Green][Green,Blue]
- ColorSpace: sRGB
- Contrast: Normal
- CreateDate: 2009:09:03 19:47:18
- CustomRendered: Normal
- DateTimeOriginal: 2009:09:03 19:47:18
- DigitalZoomRatio: 1
- ExifImageHeight: 532
- ExifImageWidth: 800
- ExposureCompensation: +1
- ExposureMode: Manual
- ExposureProgram: Manual
- ExposureTime: 1/80
- Flash: No Flash
- GainControl: None
- ISO: 200
- LightSource: Unknown
- MaxApertureValue: 1,0
- MeteringMode: Center-weighted average
- Saturation: Normal
- SceneCaptureType: Standard
- SceneType: Directly photographed
- SensingMethod: One-chip color area
- Sharpness: Normal
- ShutterSpeedValue: 1/80
- SubjectDistanceRange: Unknown
- WhiteBalance: Auto
- ICC-header
- ICC-meas
- ICC-view
- IFD0
- Make: NIKON CORPORATION
- Model: NIKON D700
- ModifyDate: 2009:09:27 23:12:57
- Orientation: Horizontal (normal)
- IFD1
- IPTC
- XMP-aux
- ImageNumber: 31215
- Lens: 0.0 mm f/0.0
- LensInfo: 0/10 0/10 0/10 0/10
- SerialNumber: 2043317
- XMP-crs
- AlreadyApplied: True
- BlueHue: 0
- BlueSaturation: 0
- Brightness: +69
- ChromaticAberrationB: 0
- ChromaticAberrationR: 0
- Clarity: 0
- ColorNoiseReduction: 25
- Contrast: +44
- ConvertToGrayscale: False
- Defringe: 0
- Exposure: 0.00
- FillLight: 0
- GreenHue: 0
- GreenSaturation: 0
- HasCrop: False
- HasSettings: True
- HighlightRecovery: 0
- HueAdjustmentAqua: 0
- HueAdjustmentBlue: 0
- HueAdjustmentGreen: 0
- HueAdjustmentMagenta: 0
- HueAdjustmentOrange: 0
- HueAdjustmentPurple: 0
- HueAdjustmentRed: 0
- HueAdjustmentYellow: 0
- LuminanceAdjustmentAqua: 0
- LuminanceAdjustmentBlue: -58
- LuminanceAdjustmentGreen: 0
- LuminanceAdjustmentMagenta: 0
- LuminanceAdjustmentOrange: 0
- LuminanceAdjustmentPurple: 0
- LuminanceAdjustmentRed: 0
- LuminanceAdjustmentYellow: 0
- LuminanceSmoothing: 0
- ParametricDarks: +71
- ParametricHighlightSplit: 75
- ParametricHighlights: 0
- ParametricLights: +36
- ParametricMidtoneSplit: 50
- ParametricShadowSplit: 25
- ParametricShadows: -33
- PostCropVignetteAmount: 0
- RawFileName: DSC_0990.NEF
- RedHue: 0
- RedSaturation: 0
- Saturation: 0
- SaturationAdjustmentAqua: 0
- SaturationAdjustmentBlue: +88
- SaturationAdjustmentGreen: 0
- SaturationAdjustmentMagenta: 0
- SaturationAdjustmentOrange: -71
- SaturationAdjustmentPurple: 0
- SaturationAdjustmentRed: -46
- SaturationAdjustmentYellow: 0
- ShadowTint: 0
- Shadows: 5
- SharpenDetail: 25
- SharpenEdgeMasking: 0
- SharpenRadius: +1.0
- Sharpness: 25
- SplitToningBalance: +100
- SplitToningHighlightHue: 44
- SplitToningHighlightSaturation: 33
- SplitToningShadowHue: 360
- SplitToningShadowSaturation: 70
- Temperature: 4950
- Tint: -4
- ToneCurve: 0, 0, 32, 22, 64, 56, 128, 128, 192, 196, 255, 255
- ToneCurveName: Medium Contrast
- Version: 5.4
- Vibrance: 0
- VignetteAmount: 0
- WhiteBalance: As Shot
- XMP-dc
- XMP-exif
- DateTimeDigitized: 2009:09:03 19:47:18.33+04:00
- DateTimeOriginal: 2009:09:03 19:47:18.33+04:00
- FlashFired: False
- FlashFunction: False
- FlashMode: Unknown
- FlashRedEyeMode: False
- FlashReturn: No return detection
- XMP-tiff
- XMP-xmp
- CreateDate: 2009:09:03 19:47:18.33+04:00
- CreatorTool: Ver.1.00
- ModifyDate: 2009:09:27 23:12:57+04:00
- Rating: 0
- XMP-xmpMM
Получить код для блога
| Вставка фотографии в текущем разрешении |
Вставка миниатюры |
HTML (для вставки в блог):
BBCode (для вставки в форум):
Ссылка на фото:
Ссылка на миниатюру:
- Послать ссылку другу
| Комментарии к фотографии |