- Раздел: Другое, разное
- Дата съёмки: 31.10.2009 23:19
- Дата загрузки фото: 01.11.2009 00:28
- Оригинальная фотография: 433 x 650 (118 Кб)
- Технические характеристики:
- Фотоаппарат: Canon EOS 450D
- Выдержка: 1/500
- Гиперфокальное расстояние: 32,75 m
- Диафрагма: 3,5
- Светочувствительность: 100
- Фокусное расстояние: 18,0 mm (35 mm equivalent: 191,3 mm)
- Экспокоррекция: +1
- Полный EXIF
- Adobe
- ColorTransform: YCbCr
- Composite
- Aperture: 3,5
- CircleOfConfusion: 0,003 mm
- FOV: 10,0 deg
- FocalLength35efl: 18,0 mm (35 mm equivalent: 191,3 mm)
- HyperfocalDistance: 32,75 m
- ScaleFactor35efl: 10,6
- ShutterSpeed: 1/500
- ExifIFD
- ApertureValue: 3,5
- ColorSpace: sRGB
- CreateDate: 2009:09:27 13:13:37
- CustomRendered: Normal
- DateTimeOriginal: 2009:09:27 13:13:37
- ExifImageHeight: 650
- ExifImageWidth: 433
- ExposureCompensation: +1
- ExposureMode: Auto
- ExposureProgram: Aperture-priority AE
- ExposureTime: 1/500
- FNumber: 3,5
- Flash: Off
- FocalLength: 18,0 mm
- ISO: 100
- MaxApertureValue: 3,5
- MeteringMode: Multi-segment
- SceneCaptureType: Standard
- ShutterSpeedValue: 1/500
- SubjectDistance: 0,93 m
- WhiteBalance: Auto
- ICC-header
- ICC-meas
- ICC-view
- IFD0
- Make: Canon
- Model: Canon EOS 450D
- ModifyDate: 2009:10:31 23:19:07
- Orientation: Horizontal (normal)
- IFD1
- IPTC
- XMP-aux
- Firmware: 1.0.9
- FlashCompensation: 0
- ImageNumber: 0
- Lens: EF-S18-55mm f/3.5-5.6 IS
- LensID: 48
- LensInfo: 18/1 55/1 0/0 0/0
- SerialNumber: 980397873
- XMP-crs
- AlreadyApplied: True
- BlueHue: 0
- BlueSaturation: 0
- Brightness: +50
- ChromaticAberrationB: 0
- ChromaticAberrationR: 0
- Clarity: +19
- ColorNoiseReduction: 100
- ColorNoiseReductionDetail: 50
- Contrast: +25
- ConvertToGrayscale: False
- Defringe: 0
- Exposure: 0.00
- FillLight: 0
- GrainAmount: 0
- GreenHue: 0
- GreenSaturation: 0
- HasCrop: False
- HasSettings: True
- HighlightRecovery: 21
- HueAdjustmentAqua: 0
- HueAdjustmentBlue: 0
- HueAdjustmentGreen: 0
- HueAdjustmentMagenta: 0
- HueAdjustmentOrange: 0
- HueAdjustmentPurple: 0
- HueAdjustmentRed: 0
- HueAdjustmentYellow: 0
- LuminanceAdjustmentAqua: 0
- LuminanceAdjustmentBlue: -54
- LuminanceAdjustmentGreen: -6
- LuminanceAdjustmentMagenta: 0
- LuminanceAdjustmentOrange: 0
- LuminanceAdjustmentPurple: 0
- LuminanceAdjustmentRed: 0
- LuminanceAdjustmentYellow: 0
- NoiseReductionContrast: 0
- PaintBasedCorrectionsCorrectionActive: true
- PaintBasedCorrectionsCorrectionAmount: 1.000000
- PaintBasedCorrectionsCorrectionMasksCenterWeight: 0.000000
- PaintBasedCorrectionsCorrectionMasksFlow: 1.000000
- PaintBasedCorrectionsCorrectionMasksMaskValue: 1.000000
- PaintBasedCorrectionsCorrectionMasksRadius: 0.126638
- PaintBasedCorrectionsCorrectionMasksWhat: Mask/Paint
- PaintBasedCorrectionsLocalBrightness: 0.000000
- PaintBasedCorrectionsLocalClarity: 0.000000
- PaintBasedCorrectionsLocalContrast: 0.000000
- PaintBasedCorrectionsLocalExposure: -0.077000
- PaintBasedCorrectionsLocalSaturation: 0.000000
- PaintBasedCorrectionsLocalSharpness: 0.000000
- PaintBasedCorrectionsLocalToningHue: 0.000000
- PaintBasedCorrectionsLocalToningSaturation: 0.000000
- PaintBasedCorrectionsWhat: Correction
- ParametricDarks: -9
- ParametricHighlightSplit: 75
- ParametricHighlights: 0
- ParametricLights: +3
- ParametricMidtoneSplit: 50
- ParametricShadowSplit: 25
- ParametricShadows: 0
- PostCropVignetteAmount: 0
- RedHue: 0
- RedSaturation: 0
- RenderVersion: 5.7
- Saturation: +5
- SaturationAdjustmentAqua: 0
- SaturationAdjustmentBlue: +8
- SaturationAdjustmentGreen: +18
- SaturationAdjustmentMagenta: 0
- SaturationAdjustmentOrange: 0
- SaturationAdjustmentPurple: 0
- SaturationAdjustmentRed: 0
- SaturationAdjustmentYellow: +10
- ShadowTint: 0
- Shadows: 5
- SharpenDetail: 23
- SharpenEdgeMasking: 0
- SharpenRadius: +0.7
- Sharpness: 86
- SplitToningBalance: -12
- SplitToningHighlightHue: 48
- SplitToningHighlightSaturation: 8
- SplitToningShadowHue: 0
- SplitToningShadowSaturation: 0
- Temperature: 5600
- Tint: -4
- ToneCurve: 0, 0, 32, 22, 64, 56, 128, 128, 192, 196, 255, 255
- ToneCurveName: Medium Contrast
- Version: 6.0
- Vibrance: +20
- VignetteAmount: 0
- WhiteBalance: As Shot
- XMP-dc
- XMP-exif
- DateTimeDigitized: 2009:09:27 13:13:37.09+03:00
- DateTimeOriginal: 2009:09:27 13:13:37.09+03:00
- FlashFired: False
- FlashFunction: False
- FlashMode: Off
- FlashRedEyeMode: False
- FlashReturn: No return detection
- XMP-tiff
- ImageHeight: 4272
- ImageWidth: 2848
- XMP-xmp
- CreateDate: 2009:10:31 23:19:07+02:00
- ModifyDate: 2009:10:31 23:19:07+02:00
- XMP-xmpMM
- Просмотров: 158
- Рейтинг: голосов еще нет
- Отзывов: отключены