- Раздел: Портрет
- Дата съёмки: 02.10.2009 16:01
- Дата загрузки фото: 12.11.2009 12:13
- Оригинальная фотография: 1973 x 1292 (888 Кб)
- Технические характеристики:
- Фотоаппарат: Nikon D40
- Выдержка: 1/60
- Гиперфокальное расстояние: 6,36 m
- Диафрагма: 3,8
- Светочувствительность: 200
- Фокусное расстояние: 22,0 mm (35 mm equivalent: 33,0 mm)
- Полный EXIF
- Adobe
- ColorTransform: YCbCr
- Composite
- Aperture: 3,8
- CircleOfConfusion: 0,020 mm
- FOV: 57,0 deg
- FocalLength35efl: 22,0 mm (35 mm equivalent: 33,0 mm)
- HyperfocalDistance: 6,36 m
- ScaleFactor35efl: 1,5
- ShutterSpeed: 1/60
- ExifIFD
- ApertureValue: 3,8
- CFAPattern: [Blue,Green][Green,Red]
- Contrast: Normal
- CreateDate: 2009:10:02 16:01:42
- CustomRendered: Normal
- DateTimeOriginal: 2009:10:02 16:01:42
- DigitalZoomRatio: 1
- ExposureCompensation: 0
- ExposureMode: Auto
- ExposureProgram: Program AE
- ExposureTime: 1/60
- FNumber: 3,8
- Flash: No Flash
- FocalLength: 22,0 mm
- FocalLengthIn35mmFormat: 33 mm
- GainControl: None
- ISO: 200
- LightSource: Unknown
- MaxApertureValue: 3,6
- MeteringMode: Multi-segment
- Saturation: Normal
- SceneCaptureType: Standard
- SceneType: Directly photographed
- SensingMethod: One-chip color area
- Sharpness: Normal
- ShutterSpeedValue: 1/60
- SubjectDistanceRange: Unknown
- WhiteBalance: Auto
- ICC-header
- ICC-meas
- ICC-view
- IFD0
- Make: NIKON CORPORATION
- Model: NIKON D40
- ModifyDate: 2009:10:05 17:41:47
- Software: Nikon Transfer 1.0 W
- IFD1
- XMP-aux
- ImageNumber: 1990
- Lens: 18.0-55.0 mm f/3.5-5.6
- LensInfo: 18/1 55/1 35/10 56/10
- SerialNumber: 2359933
- XMP-crs
- AlreadyApplied: True
- BlueHue: 0
- BlueSaturation: 0
- Brightness: +105
- ChromaticAberrationB: 0
- ChromaticAberrationR: 0
- Clarity: +5
- ColorNoiseReduction: 25
- Contrast: +100
- ConvertToGrayscale: True
- CropAngle: 0
- CropBottom: 0.942478
- CropHeight: 1292
- CropLeft: 0.261764
- CropRight: 0.917647
- CropTop: 0.29646
- CropUnit: 0
- CropWidth: 1973
- Defringe: 0
- Exposure: -0.81
- FillLight: 5
- GrayMixerAqua: -18
- GrayMixerBlue: +9
- GrayMixerGreen: -26
- GrayMixerMagenta: +4
- GrayMixerOrange: -17
- GrayMixerPurple: +15
- GrayMixerRed: -8
- GrayMixerYellow: -21
- GreenHue: 0
- GreenSaturation: 0
- HasCrop: True
- HasSettings: True
- HighlightRecovery: 5
- LuminanceSmoothing: 53
- ParametricDarks: 0
- ParametricHighlightSplit: 75
- ParametricHighlights: 0
- ParametricLights: 0
- ParametricMidtoneSplit: 50
- ParametricShadowSplit: 25
- ParametricShadows: 0
- PostCropVignetteAmount: 0
- RedHue: 0
- RedSaturation: 0
- ShadowTint: 0
- Shadows: 17
- SharpenDetail: 25
- SharpenEdgeMasking: 0
- SharpenRadius: +1.0
- Sharpness: 120
- SplitToningBalance: 0
- SplitToningHighlightHue: 0
- SplitToningHighlightSaturation: 0
- SplitToningShadowHue: 0
- SplitToningShadowSaturation: 0
- Temperature: 4650
- Tint: -10
- ToneCurve: 0, 0, 32, 22, 64, 56, 128, 128, 192, 196, 255, 255
- ToneCurveName: Medium Contrast
- Version: 5.4
- VignetteAmount: 0
- WhiteBalance: Custom
- XMP-exif
- DateTimeDigitized: 2009:10:02 16:01:42.30+03:00
- DateTimeOriginal: 2009:10:02 16:01:42.30+03:00
- ExifImageHeight: 1292
- ExifImageWidth: 1973
- FlashFired: False
- FlashFunction: False
- FlashMode: Unknown
- FlashRedEyeMode: False
- FlashReturn: No return detection
- XMP-microsoft
- XMP-tiff
- ImageHeight: 1292
- ImageWidth: 1973
- XMP-xmp
- CreateDate: 2009:10:02 16:01:42.30+03:00
- ModifyDate: 2009:10:05 17:41:47+03:00