- Раздел: Портрет
- Дата съёмки: 29.10.2009 16:21
- Дата загрузки фото: 12.11.2009 12:41
- Оригинальная фотография: 2424 x 1600 (860 Кб)
- Технические характеристики:
- Фотоаппарат: Nikon D40
- Выдержка: 1/160
- Гиперфокальное расстояние: 26,80 m
- Диафрагма: 5,6
- Светочувствительность: 200
- Фокусное расстояние: 55,0 mm (35 mm equivalent: 82,0 mm)
- Полный EXIF
- Adobe
- ColorTransform: YCbCr
- Composite
- Aperture: 5,6
- CircleOfConfusion: 0,020 mm
- FOV: 24,0 deg
- FocalLength35efl: 55,0 mm (35 mm equivalent: 82,0 mm)
- HyperfocalDistance: 26,80 m
- ScaleFactor35efl: 1,5
- ShutterSpeed: 1/160
- ExifIFD
- ApertureValue: 5,6
- CFAPattern: [Blue,Green][Green,Red]
- Contrast: Normal
- CreateDate: 2009:10:29 16:21:15
- CustomRendered: Normal
- DateTimeOriginal: 2009:10:29 16:21:15
- DigitalZoomRatio: 1
- ExposureCompensation: 0
- ExposureMode: Auto
- ExposureProgram: Aperture-priority AE
- ExposureTime: 1/160
- FNumber: 5,6
- Flash: No Flash
- FocalLength: 55,0 mm
- FocalLengthIn35mmFormat: 82 mm
- GainControl: None
- ISO: 200
- LightSource: Unknown
- MaxApertureValue: 5,7
- MeteringMode: Multi-segment
- Saturation: Normal
- SceneCaptureType: Standard
- SceneType: Directly photographed
- SensingMethod: One-chip color area
- Sharpness: Normal
- ShutterSpeedValue: 1/160
- SubjectDistanceRange: Unknown
- WhiteBalance: Auto
- ICC-header
- ICC-meas
- ICC-view
- IFD0
- Make: NIKON CORPORATION
- Model: NIKON D40
- ModifyDate: 2009:10:31 18:56:04
- Software: Nikon Transfer 1.0 W
- IFD1
- XMP-aux
- ImageNumber: 5097
- Lens: 18.0-55.0 mm f/3.5-5.6
- LensInfo: 18/1 55/1 35/10 56/10
- SerialNumber: 2359933
- XMP-crs
- AlreadyApplied: True
- BlueHue: 0
- BlueSaturation: 0
- Brightness: +65
- ChromaticAberrationB: 0
- ChromaticAberrationR: 0
- Clarity: 0
- ColorNoiseReduction: 25
- Contrast: +100
- ConvertToGrayscale: True
- CropAngle: 0
- CropBottom: 0.891429
- CropHeight: 1600
- CropLeft: 0
- CropRight: 0.805941
- CropTop: 0.091429
- CropUnit: 0
- CropWidth: 2424
- Defringe: 0
- Exposure: +2.04
- FillLight: 14
- GrayMixerAqua: -19
- GrayMixerBlue: +9
- GrayMixerGreen: -27
- GrayMixerMagenta: +5
- GrayMixerOrange: -19
- GrayMixerPurple: +16
- GrayMixerRed: -9
- GrayMixerYellow: -23
- GreenHue: 0
- GreenSaturation: 0
- HasCrop: True
- HasSettings: True
- HighlightRecovery: 0
- LuminanceSmoothing: 91
- ParametricDarks: +10
- ParametricHighlightSplit: 75
- ParametricHighlights: 0
- ParametricLights: 0
- ParametricMidtoneSplit: 50
- ParametricShadowSplit: 25
- ParametricShadows: +5
- PostCropVignetteAmount: +2
- PostCropVignetteFeather: 49
- PostCropVignetteMidpoint: 51
- PostCropVignetteRoundness: -2
- RedHue: 0
- RedSaturation: 0
- ShadowTint: 0
- Shadows: 7
- SharpenDetail: 56
- SharpenEdgeMasking: 53
- SharpenRadius: +1.9
- Sharpness: 40
- SplitToningBalance: 0
- SplitToningHighlightHue: 0
- SplitToningHighlightSaturation: 0
- SplitToningShadowHue: 0
- SplitToningShadowSaturation: 0
- Temperature: 5500
- Tint: +10
- ToneCurve: 0, 0, 32, 16, 64, 50, 128, 128, 192, 202, 255, 255
- ToneCurveName: Strong Contrast
- Version: 5.4
- VignetteAmount: 0
- WhiteBalance: Daylight
- XMP-exif
- DateTimeDigitized: 2009:10:29 16:21:15.60+02:00
- DateTimeOriginal: 2009:10:29 16:21:15.60+02:00
- ExifImageHeight: 1600
- ExifImageWidth: 2424
- FlashFired: False
- FlashFunction: False
- FlashMode: Unknown
- FlashRedEyeMode: False
- FlashReturn: No return detection
- XMP-microsoft
- XMP-tiff
- ImageHeight: 1600
- ImageWidth: 2424
- XMP-xmp
- CreateDate: 2009:10:29 16:21:15.60+02:00
- ModifyDate: 2009:10:31 18:56:04+02:00