- Раздел: Портрет
- Дата съёмки: 22.09.2009 17:09
- Дата загрузки фото: 13.11.2009 17:35
- Оригинальная фотография: 858 x 570 (390 Кб)
- Технические характеристики:
- Фотоаппарат: Nikon D300
- Выдержка: 1/60
- Гиперфокальное расстояние: 10,23 m
- Диафрагма: 3,3
- Светочувствительность: 200
- Фокусное расстояние: 26,0 mm (35 mm equivalent: 39,0 mm)
- Полный EXIF
- Adobe
- ColorTransform: YCbCr
- Composite
- Aperture: 3,3
- CircleOfConfusion: 0,020 mm
- FOV: 49,0 deg
- FocalLength35efl: 26,0 mm (35 mm equivalent: 39,0 mm)
- HyperfocalDistance: 10,23 m
- ScaleFactor35efl: 1,5
- ShutterSpeed: 1/60
- ExifIFD
- ApertureValue: 3,3
- CFAPattern: [Red,Green][Green,Blue]
- ColorSpace: Uncalibrated
- Contrast: Normal
- CreateDate: 2009:09:22 17:09:12
- CustomRendered: Normal
- DateTimeOriginal: 2009:09:22 17:09:12
- DigitalZoomRatio: 1
- ExifImageHeight: 570
- ExifImageWidth: 858
- ExposureCompensation: 0
- ExposureMode: Auto
- ExposureProgram: Program AE
- ExposureTime: 1/60
- FNumber: 3,3
- Flash: On, Return detected
- FocalLength: 26,0 mm
- FocalLengthIn35mmFormat: 39 mm
- GainControl: None
- ISO: 200
- LightSource: Unknown
- MaxApertureValue: 3,4
- MeteringMode: Center-weighted average
- Saturation: Normal
- SceneCaptureType: Standard
- SceneType: Directly photographed
- SensingMethod: One-chip color area
- Sharpness: Normal
- ShutterSpeedValue: 1/60
- SubjectDistanceRange: Unknown
- WhiteBalance: Auto
- ICC-header
- IFD0
- Make: NIKON CORPORATION
- Model: NIKON D300
- ModifyDate: 2009:10:04 02:23:55
- Orientation: Horizontal (normal)
- IFD1
- IPTC
- XMP-aux
- ImageNumber: 7744
- Lens: 17.0-70.0 mm f/2.8-4.5
- LensInfo: 170/10 700/10 28/10 45/10
- SerialNumber: 3009327
- XMP-crs
- AlreadyApplied: True
- BlueHue: 0
- BlueSaturation: 0
- Brightness: +50
- CameraProfile: ACR 4.4
- ChromaticAberrationB: 0
- ChromaticAberrationR: 0
- Clarity: +39
- ColorNoiseReduction: 25
- Contrast: +25
- ConvertToGrayscale: False
- Defringe: 0
- Exposure: 0.00
- FillLight: 0
- GreenHue: 0
- GreenSaturation: 0
- HasCrop: False
- HasSettings: True
- HighlightRecovery: 0
- HueAdjustmentAqua: 0
- HueAdjustmentBlue: 0
- HueAdjustmentGreen: +19
- HueAdjustmentMagenta: -39
- HueAdjustmentOrange: 0
- HueAdjustmentPurple: 0
- HueAdjustmentRed: -26
- HueAdjustmentYellow: 0
- LuminanceAdjustmentAqua: 0
- LuminanceAdjustmentBlue: 0
- LuminanceAdjustmentGreen: 0
- LuminanceAdjustmentMagenta: 0
- LuminanceAdjustmentOrange: 0
- LuminanceAdjustmentPurple: 0
- LuminanceAdjustmentRed: 0
- LuminanceAdjustmentYellow: 0
- LuminanceSmoothing: 0
- ParametricDarks: +15
- ParametricHighlightSplit: 75
- ParametricHighlights: +24
- ParametricLights: +23
- ParametricMidtoneSplit: 50
- ParametricShadowSplit: 25
- ParametricShadows: -15
- PostCropVignetteAmount: 0
- RawFileName: DSC_8010.NEF
- RedHue: 0
- RedSaturation: 0
- Saturation: 0
- SaturationAdjustmentAqua: 0
- SaturationAdjustmentBlue: 0
- SaturationAdjustmentGreen: 0
- SaturationAdjustmentMagenta: 0
- SaturationAdjustmentOrange: 0
- SaturationAdjustmentPurple: 0
- SaturationAdjustmentRed: 0
- SaturationAdjustmentYellow: 0
- ShadowTint: 0
- Shadows: 5
- SharpenDetail: 25
- SharpenEdgeMasking: 0
- SharpenRadius: +1.0
- Sharpness: 25
- SplitToningBalance: 0
- SplitToningHighlightHue: 0
- SplitToningHighlightSaturation: 0
- SplitToningShadowHue: 0
- SplitToningShadowSaturation: 0
- Temperature: 5600
- Tint: -15
- ToneCurve: 0, 0, 32, 22, 64, 56, 128, 128, 192, 196, 255, 255
- ToneCurveName: Medium Contrast
- Version: 5.0
- Vibrance: +2
- VignetteAmount: 0
- WhiteBalance: Custom
- XMP-dc
- XMP-exif
- DateTimeDigitized: 2009:09:22 17:09:12.68+06:00
- DateTimeOriginal: 2009:09:22 17:09:12.68+06:00
- FlashFired: True
- FlashFunction: False
- FlashMode: On
- FlashRedEyeMode: False
- FlashReturn: Return detected
- XMP-tiff
- XMP-xmp
- CreateDate: 2009:09:22 17:09:12.68+06:00
- CreatorTool: Ver.1.10
- ModifyDate: 2009:10:04 02:23:55+06:00
- Rating: 0
- XMP-xmpMM