Уважаемые друзья и участники проекта iXBT.photo! К сожалению, 1 марта 2026 года проект iXBT.photo прекратит свою работу и будет закрыт. Мы высоко ценим ваше участие и тот вклад, который вы внесли в развитие нашего сообщества. Пожалуйста, не забудьте сохранить ваши фотографии до этой даты.
С уважением, команда iXBT.com
| IMG_5073.jpg |
IMG_5073.jpg
- Раздел: Портрет
- Дата съёмки: 14.11.2009 18:05
- Дата загрузки фото: 14.11.2009 22:05
- Оригинальная фотография: 1000 x 1500 (277 Кб)
- Технические характеристики:
- Фотоаппарат: Canon EOS 40D
- Выдержка: 1/20
- Гиперфокальное расстояние: 23,59 m
- Диафрагма: 2,8
- Светочувствительность: 640
- Фокусное расстояние: 35,0 mm (35 mm equivalent: 56,7 mm)
- Полный EXIF
- Composite
- Aperture: 2,8
- CircleOfConfusion: 0,019 mm
- FOV: 35,0 deg
- FocalLength35efl: 35,0 mm (35 mm equivalent: 56,7 mm)
- HyperfocalDistance: 23,59 m
- ScaleFactor35efl: 1,6
- ShutterSpeed: 1/20
- ExifIFD
- ApertureValue: 2,8
- CreateDate: 2009:11:14 18:05:59
- CustomRendered: Normal
- DateTimeOriginal: 2009:11:14 18:05:59
- ExifImageHeight: 1500
- ExifImageWidth: 1000
- ExposureCompensation: 0
- ExposureMode: Manual
- ExposureProgram: Manual
- ExposureTime: 1/20
- FNumber: 2,8
- Flash: Off
- FocalLength: 35,0 mm
- ISO: 640
- MaxApertureValue: 2,8
- MeteringMode: Multi-segment
- SceneCaptureType: Standard
- ShutterSpeedValue: 1/20
- WhiteBalance: Auto
- ICC-header
- ICC-meas
- ICC-view
- IFD0
- Artist: Roman E Demakov
- Make: Canon
- Model: Canon EOS 40D
- ModifyDate: 2009:11:14 22:36:41
- Orientation: Horizontal (normal)
- Software: ACD Systems Digital Imaging
- IFD1
- IPTC
- XMP-aux
- Firmware: 1.1.1
- FlashCompensation: 0
- ImageNumber: 0
- Lens: EF16-35mm f/2.8L II USM
- LensInfo: 16/1 35/1 0/0 0/0
- OwnerName: Roman E Demakov
- SerialNumber: 830523091
- XMP-crs
- AlreadyApplied: True
- BlueHue: 0
- BlueSaturation: 0
- Brightness: +21
- ChromaticAberrationB: 0
- ChromaticAberrationR: 0
- Clarity: 0
- ColorNoiseReduction: 25
- Contrast: +14
- ConvertToGrayscale: True
- Defringe: 0
- Exposure: +1.24
- FillLight: 0
- GrayMixerAqua: -10
- GrayMixerBlue: +20
- GrayMixerGreen: -17
- GrayMixerMagenta: +32
- GrayMixerOrange: +12
- GrayMixerPurple: +25
- GrayMixerRed: +39
- GrayMixerYellow: -9
- GreenHue: 0
- GreenSaturation: 0
- HasCrop: False
- HasSettings: True
- HighlightRecovery: 0
- LuminanceSmoothing: 0
- ParametricDarks: -17
- ParametricHighlightSplit: 75
- ParametricHighlights: 0
- ParametricLights: +28
- ParametricMidtoneSplit: 50
- ParametricShadowSplit: 25
- ParametricShadows: 0
- PostCropVignetteAmount: 0
- RedHue: 0
- RedSaturation: 0
- ShadowTint: 0
- Shadows: 1
- SharpenDetail: 25
- SharpenEdgeMasking: 0
- SharpenRadius: +1.0
- Sharpness: 25
- SplitToningBalance: 0
- SplitToningHighlightHue: 51
- SplitToningHighlightSaturation: 22
- SplitToningShadowHue: 37
- SplitToningShadowSaturation: 32
- Temperature: 5550
- Tint: -4
- ToneCurve: 0, 0, 32, 22, 64, 56, 128, 128, 192, 196, 255, 255
- ToneCurveName: Medium Contrast
- Version: 5.5
- VignetteAmount: 0
- WhiteBalance: Custom
- XMP-dc
- XMP-exif
- DateTimeDigitized: 2009:11:14 18:05:59.0+4:00
- DateTimeOriginal: 2009:11:14 18:05:59.0+4:00
- ExifImageHeight: 3888
- ExifImageWidth: 2592
- FlashFired: False
- FlashFunction: False
- FlashMode: Off
- FlashRedEyeMode: False
- FlashReturn: No return detection
- XMP-tiff
- ImageHeight: 3888
- ImageWidth: 2592
- XMP-xmp
- CreateDate: 2009:11:14 18:05:59.00+04:00
- ModifyDate: 2009:11:14 22:29:35.0+4:00
- Просмотров: 316
- Рейтинг: голосов еще нет
- Отзывов: 0
Получить код для блога
| Вставка фотографии в текущем разрешении |
Вставка миниатюры |
HTML (для вставки в блог):
BBCode (для вставки в форум):
Ссылка на фото:
Ссылка на миниатюру:
- Послать ссылку другу
| Комментарии к фотографии |