Уважаемые друзья и участники проекта iXBT.photo! К сожалению, 1 марта 2026 года проект iXBT.photo прекратит свою работу и будет закрыт. Мы высоко ценим ваше участие и тот вклад, который вы внесли в развитие нашего сообщества. Пожалуйста, не забудьте сохранить ваши фотографии до этой даты.
С уважением, команда iXBT.com
| IMG_5097.jpg |
IMG_5097.jpg
- Раздел: Портрет
- Дата съёмки: 14.11.2009 18:11
- Дата загрузки фото: 14.11.2009 22:05
- Оригинальная фотография: 1000 x 1500 (355 Кб)
- Технические характеристики:
- Фотоаппарат: Canon EOS 40D
- Выдержка: 1/20
- Гиперфокальное расстояние: 16,19 m
- Диафрагма: 2,8
- Светочувствительность: 800
- Фокусное расстояние: 29,0 mm (35 mm equivalent: 47,0 mm)
- Полный EXIF
- Composite
- Aperture: 2,8
- CircleOfConfusion: 0,019 mm
- FOV: 41,0 deg
- FocalLength35efl: 29,0 mm (35 mm equivalent: 47,0 mm)
- HyperfocalDistance: 16,19 m
- ScaleFactor35efl: 1,6
- ShutterSpeed: 1/20
- ExifIFD
- ApertureValue: 2,8
- CreateDate: 2009:11:14 18:11:26
- CustomRendered: Normal
- DateTimeOriginal: 2009:11:14 18:11:26
- ExifImageHeight: 1500
- ExifImageWidth: 1000
- ExposureCompensation: 0
- ExposureMode: Manual
- ExposureProgram: Manual
- ExposureTime: 1/20
- FNumber: 2,8
- Flash: Off
- FocalLength: 29,0 mm
- ISO: 800
- MaxApertureValue: 2,8
- MeteringMode: Multi-segment
- SceneCaptureType: Standard
- ShutterSpeedValue: 1/20
- WhiteBalance: Auto
- ICC-header
- ICC-meas
- ICC-view
- IFD0
- Artist: Roman E Demakov
- Make: Canon
- Model: Canon EOS 40D
- ModifyDate: 2009:11:14 22:36:43
- Orientation: Horizontal (normal)
- Software: ACD Systems Digital Imaging
- IFD1
- IPTC
- XMP-aux
- Firmware: 1.1.1
- FlashCompensation: 0
- ImageNumber: 0
- Lens: EF16-35mm f/2.8L II USM
- LensInfo: 16/1 35/1 0/0 0/0
- OwnerName: Roman E Demakov
- SerialNumber: 830523091
- XMP-crs
- AlreadyApplied: True
- BlueHue: +11
- BlueSaturation: -21
- Brightness: +71
- ChromaticAberrationB: 0
- ChromaticAberrationR: 0
- Clarity: 0
- ColorNoiseReduction: 23
- Contrast: +32
- ConvertToGrayscale: True
- Defringe: 0
- Exposure: +1.24
- FillLight: 0
- GrayMixerAqua: 0
- GrayMixerBlue: 0
- GrayMixerGreen: 0
- GrayMixerMagenta: 0
- GrayMixerOrange: 0
- GrayMixerPurple: 0
- GrayMixerRed: 0
- GrayMixerYellow: 0
- GreenHue: +16
- GreenSaturation: +51
- HasCrop: False
- HasSettings: True
- HighlightRecovery: 0
- LuminanceSmoothing: 40
- ParametricDarks: -3
- ParametricHighlightSplit: 75
- ParametricHighlights: 0
- ParametricLights: -2
- ParametricMidtoneSplit: 50
- ParametricShadowSplit: 25
- ParametricShadows: -14
- PostCropVignetteAmount: 0
- RedHue: +23
- RedSaturation: +10
- ShadowTint: +4
- Shadows: 0
- SharpenDetail: 25
- SharpenEdgeMasking: 0
- SharpenRadius: +1.0
- Sharpness: 25
- SplitToningBalance: 0
- SplitToningHighlightHue: 215
- SplitToningHighlightSaturation: 49
- SplitToningShadowHue: 216
- SplitToningShadowSaturation: 12
- Temperature: 6550
- Tint: -15
- ToneCurve: 0, 0, 255, 255
- ToneCurveName: Linear
- Version: 5.5
- VignetteAmount: -7
- VignetteMidpoint: 40
- WhiteBalance: As Shot
- XMP-dc
- XMP-exif
- DateTimeDigitized: 2009:11:14 18:11:26.0+4:00
- DateTimeOriginal: 2009:11:14 18:11:26.0+4:00
- ExifImageHeight: 3888
- ExifImageWidth: 2592
- FlashFired: False
- FlashFunction: False
- FlashMode: Off
- FlashRedEyeMode: False
- FlashReturn: No return detection
- XMP-tiff
- ImageHeight: 3888
- ImageWidth: 2592
- XMP-xmp
- CreateDate: 2009:11:14 18:11:26.00+04:00
- ModifyDate: 2009:11:14 22:32:54.0+4:00
- Просмотров: 386
- Рейтинг: голосов еще нет
- Отзывов: 0
Получить код для блога
| Вставка фотографии в текущем разрешении |
Вставка миниатюры |
HTML (для вставки в блог):
BBCode (для вставки в форум):
Ссылка на фото:
Ссылка на миниатюру:
- Послать ссылку другу
| Комментарии к фотографии |