- Раздел: Другое, разное
- Дата съёмки: 05.07.2009 08:20
- Дата загрузки фото: 15.11.2009 13:21
- Оригинальная фотография: 760 x 507 ( 91 Кб)
- Технические характеристики:
- Фотоаппарат: Canon EOS 400D DIGITAL
- Выдержка: 1/100
- Гиперфокальное расстояние: 12,64 m
- Диафрагма: 6,3
- Светочувствительность: 100
- Фокусное расстояние: 17,0 mm (35 mm equivalent: 140,7 mm)
- Экспокоррекция: -1/3
- Полный EXIF
- Composite
- Aperture: 6,3
- CircleOfConfusion: 0,004 mm
- FOV: 14,0 deg
- FocalLength35efl: 17,0 mm (35 mm equivalent: 140,7 mm)
- HyperfocalDistance: 12,64 m
- ScaleFactor35efl: 8,3
- ShutterSpeed: 1/100
- ExifIFD
- ApertureValue: 6,3
- ColorSpace: sRGB
- CreateDate: 2009:07:05 08:20:34
- DateTimeOriginal: 2009:07:05 08:20:34
- ExifImageHeight: 2592
- ExifImageWidth: 3888
- ExposureCompensation: +1431670081
- ExposureProgram: Aperture-priority AE
- ExposureTime: 1/100
- FNumber: 6,3
- Flash: Off
- FocalLength: 17,0 mm
- ISO: 100
- MaxApertureValue: 2,8
- MeteringMode: Average
- ShutterSpeedValue: 1/100
- IFD0
- Artist: unknown
- CustomRendered: Normal
- ExposureMode: Auto
- Make: Canon
- Model: Canon EOS 400D DIGITAL
- ModifyDate: 2009:07:17 18:21:18
- Orientation: Horizontal (normal)
- SceneCaptureType: Standard
- WhiteBalance: Auto
- IPTC
- By-line: unknown, unknown, unknown, unknown, unknown, unknown, unknown, unknown, unknown, unknown, unknown, unknown, unknown, unknown, unknown, unknown, unknown, unknown, unknown, unknown, unknown, unknown, unknown, unknown, unknown, unknown, unknown, unknown, unknown, unknown, unknown, unknown, unknown, unknown, unknown, unknown, unknown, unknown, unknown, unknown, unknown, unknown, unknown, unknown, unknown, unknown, unknown
- XMP-aux
- Firmware: 1.1.0
- FlashCompensation: 1,33333333333333
- ImageNumber: 80
- Lens: 17.0-50.0 mm
- LensInfo: 17/1 50/1 0/0 0/0
- OwnerName: unknown
- SerialNumber: 1480860895
- XMP-crs
- AlreadyApplied: True
- BlueHue: 0
- BlueSaturation: 0
- Brightness: +70
- CameraProfile: ACR 3.6
- ChromaticAberrationB: 0
- ChromaticAberrationR: 0
- Clarity: 0
- ColorNoiseReduction: 25
- Contrast: +28
- ConvertToGrayscale: False
- Defringe: 0
- Exposure: -0.29
- FillLight: 0
- GreenHue: 0
- GreenSaturation: 0
- HasCrop: False
- HasSettings: True
- HighlightRecovery: 25
- HueAdjustmentAqua: 0
- HueAdjustmentBlue: 0
- HueAdjustmentGreen: 0
- HueAdjustmentMagenta: 0
- HueAdjustmentOrange: 0
- HueAdjustmentPurple: 0
- HueAdjustmentRed: 0
- HueAdjustmentYellow: 0
- LuminanceAdjustmentAqua: 0
- LuminanceAdjustmentBlue: 0
- LuminanceAdjustmentGreen: 0
- LuminanceAdjustmentMagenta: 0
- LuminanceAdjustmentOrange: 0
- LuminanceAdjustmentPurple: 0
- LuminanceAdjustmentRed: 0
- LuminanceAdjustmentYellow: 0
- LuminanceSmoothing: 0
- ParametricDarks: 0
- ParametricHighlightSplit: 75
- ParametricHighlights: 0
- ParametricLights: 0
- ParametricMidtoneSplit: 50
- ParametricShadowSplit: 25
- ParametricShadows: 0
- RedHue: 0
- RedSaturation: 0
- Saturation: 0
- SaturationAdjustmentAqua: 0
- SaturationAdjustmentBlue: 0
- SaturationAdjustmentGreen: 0
- SaturationAdjustmentMagenta: 0
- SaturationAdjustmentOrange: 0
- SaturationAdjustmentPurple: 0
- SaturationAdjustmentRed: 0
- SaturationAdjustmentYellow: 0
- ShadowTint: 0
- Shadows: 4
- SharpenDetail: 25
- SharpenEdgeMasking: 0
- SharpenRadius: +1.0
- Sharpness: 25
- SplitToningBalance: 0
- SplitToningHighlightHue: 0
- SplitToningHighlightSaturation: 0
- SplitToningShadowHue: 0
- SplitToningShadowSaturation: 0
- Temperature: 5450
- Tint: +10
- ToneCurve: 0, 0, 32, 22, 64, 56, 128, 128, 192, 196, 255, 255
- ToneCurveName: Medium Contrast
- Version: 1.0
- Vibrance: 0
- VignetteAmount: 0
- WhiteBalance: As Shot
- XMP-dc
- Creator: unknown
- Format: image/jpeg
- XMP-exif
- DateTimeDigitized: 2009:07:05 08:20:34+04:00
- DateTimeOriginal: 2009:07:05 08:20:34+04:00
- ExifImageHeight: 507
- ExifImageWidth: 760
- ExposureCompensation: -1/3
- FlashFired: False
- FlashFunction: False
- FlashMode: Off
- FlashRedEyeMode: False
- FlashReturn: No return detection
- XMP-tiff
- ImageHeight: 2592
- ImageWidth: 3888
- XMP-xmp
- CreateDate: 2009:07:05 08:20:34+04:00
- ModifyDate: 2009:07:17 18:21:18+04:00
- XMP-xmpMM
- Просмотров: 566
- Рейтинг: голосов еще нет
- Отзывов: отключены