- Раздел: Другое, разное
- Дата съёмки: 04.07.2009 17:14
- Дата загрузки фото: 15.11.2009 13:21
- Оригинальная фотография: 760 x 507 (102 Кб)
- Технические характеристики:
- Фотоаппарат: Canon EOS 400D DIGITAL
- Выдержка: 1/250
- Гиперфокальное расстояние: 15,92 m
- Диафрагма: 5,0
- Светочувствительность: 200
- Фокусное расстояние: 17,0 mm (35 mm equivalent: 140,7 mm)
- Полный EXIF
- Composite
- Aperture: 5,0
- CircleOfConfusion: 0,004 mm
- FOV: 14,0 deg
- FocalLength35efl: 17,0 mm (35 mm equivalent: 140,7 mm)
- HyperfocalDistance: 15,92 m
- ScaleFactor35efl: 8,3
- ShutterSpeed: 1/250
- ExifIFD
- ApertureValue: 5,0
- ColorSpace: sRGB
- CreateDate: 2009:07:04 17:14:26
- DateTimeOriginal: 2009:07:04 17:14:26
- ExifImageHeight: 2592
- ExifImageWidth: 3888
- ExposureCompensation: 0
- ExposureProgram: Aperture-priority AE
- ExposureTime: 1/250
- FNumber: 5,0
- Flash: Off
- FocalLength: 17,0 mm
- ISO: 200
- MaxApertureValue: 2,8
- MeteringMode: Average
- ShutterSpeedValue: 1/250
- IFD0
- Artist: unknown
- CustomRendered: Normal
- ExposureMode: Auto
- Make: Canon
- Model: Canon EOS 400D DIGITAL
- ModifyDate: 2009:07:17 17:52:22
- Orientation: Horizontal (normal)
- SceneCaptureType: Standard
- WhiteBalance: Auto
- IPTC
- By-line: unknown, unknown, unknown, unknown, unknown, unknown, unknown, unknown, unknown, unknown, unknown, unknown, unknown, unknown
- XMP-aux
- Firmware: 1.1.0
- FlashCompensation: 1,33333333333333
- ImageNumber: 144
- Lens: 17.0-50.0 mm
- LensInfo: 17/1 50/1 0/0 0/0
- OwnerName: unknown
- SerialNumber: 1480860895
- XMP-crs
- AlreadyApplied: True
- BlueHue: 0
- BlueSaturation: 0
- Brightness: +50
- CameraProfile: ACR 3.6
- ChromaticAberrationB: 0
- ChromaticAberrationR: 0
- Clarity: 0
- ColorNoiseReduction: 25
- Contrast: +25
- ConvertToGrayscale: False
- Defringe: 0
- Exposure: 0.00
- FillLight: 0
- GreenHue: 0
- GreenSaturation: 0
- HasCrop: False
- HasSettings: True
- HighlightRecovery: 0
- HueAdjustmentAqua: 0
- HueAdjustmentBlue: 0
- HueAdjustmentGreen: 0
- HueAdjustmentMagenta: 0
- HueAdjustmentOrange: 0
- HueAdjustmentPurple: 0
- HueAdjustmentRed: 0
- HueAdjustmentYellow: 0
- LuminanceAdjustmentAqua: 0
- LuminanceAdjustmentBlue: 0
- LuminanceAdjustmentGreen: 0
- LuminanceAdjustmentMagenta: 0
- LuminanceAdjustmentOrange: 0
- LuminanceAdjustmentPurple: 0
- LuminanceAdjustmentRed: 0
- LuminanceAdjustmentYellow: 0
- LuminanceSmoothing: 0
- ParametricDarks: -26
- ParametricHighlightSplit: 75
- ParametricHighlights: -48
- ParametricLights: -31
- ParametricMidtoneSplit: 50
- ParametricShadowSplit: 25
- ParametricShadows: 0
- RedHue: 0
- RedSaturation: 0
- Saturation: 0
- SaturationAdjustmentAqua: 0
- SaturationAdjustmentBlue: 0
- SaturationAdjustmentGreen: 0
- SaturationAdjustmentMagenta: 0
- SaturationAdjustmentOrange: 0
- SaturationAdjustmentPurple: 0
- SaturationAdjustmentRed: 0
- SaturationAdjustmentYellow: 0
- ShadowTint: 0
- Shadows: 5
- SharpenDetail: 25
- SharpenEdgeMasking: 0
- SharpenRadius: +1.0
- Sharpness: 25
- SplitToningBalance: 0
- SplitToningHighlightHue: 0
- SplitToningHighlightSaturation: 0
- SplitToningShadowHue: 0
- SplitToningShadowSaturation: 0
- Temperature: 5050
- Tint: +6
- ToneCurve: 0, 0, 32, 22, 64, 56, 128, 128, 192, 196, 255, 255
- ToneCurveName: Medium Contrast
- Version: 1.0
- Vibrance: 0
- VignetteAmount: 0
- WhiteBalance: As Shot
- XMP-dc
- Creator: unknown
- Format: image/jpeg
- XMP-exif
- DateTimeDigitized: 2009:07:04 17:14:26+04:00
- DateTimeOriginal: 2009:07:04 17:14:26+04:00
- ExifImageHeight: 507
- ExifImageWidth: 760
- FlashFired: False
- FlashFunction: False
- FlashMode: Off
- FlashRedEyeMode: False
- FlashReturn: No return detection
- XMP-tiff
- ImageHeight: 2592
- ImageWidth: 3888
- XMP-xmp
- CreateDate: 2009:07:04 17:14:26+04:00
- ModifyDate: 2009:07:17 17:52:22+04:00
- XMP-xmpMM
- Просмотров: 577
- Рейтинг: голосов еще нет
- Отзывов: отключены