- Раздел: Другое, разное
- Дата съёмки: 08.07.2009 17:49
- Дата загрузки фото: 15.11.2009 13:24
- Оригинальная фотография: 760 x 507 (101 Кб)
- Технические характеристики:
- Фотоаппарат: Canon EOS 400D DIGITAL
- Выдержка: 1/250
- Гиперфокальное расстояние: 14,22 m
- Диафрагма: 5,6
- Светочувствительность: 100
- Фокусное расстояние: 17,0 mm (35 mm equivalent: 140,7 mm)
- Полный EXIF
- Composite
- Aperture: 5,6
- CircleOfConfusion: 0,004 mm
- FOV: 14,0 deg
- FocalLength35efl: 17,0 mm (35 mm equivalent: 140,7 mm)
- HyperfocalDistance: 14,22 m
- ScaleFactor35efl: 8,3
- ShutterSpeed: 1/250
- ExifIFD
- ApertureValue: 5,6
- ColorSpace: sRGB
- CreateDate: 2009:07:08 17:49:14
- DateTimeOriginal: 2009:07:08 17:49:14
- ExifImageHeight: 2592
- ExifImageWidth: 3888
- ExposureCompensation: 0
- ExposureProgram: Aperture-priority AE
- ExposureTime: 1/250
- FNumber: 5,6
- Flash: Off
- FocalLength: 17,0 mm
- ISO: 100
- MaxApertureValue: 2,8
- MeteringMode: Average
- ShutterSpeedValue: 1/250
- IFD0
- Artist: unknown
- CustomRendered: Normal
- ExposureMode: Auto
- Make: Canon
- Model: Canon EOS 400D DIGITAL
- ModifyDate: 2009:07:22 09:00:39
- Orientation: Horizontal (normal)
- SceneCaptureType: Standard
- WhiteBalance: Auto
- IPTC
- XMP-aux
- Firmware: 1.1.0
- FlashCompensation: 1,33333333333333
- ImageNumber: 64
- Lens: 17.0-50.0 mm
- LensInfo: 17/1 50/1 0/0 0/0
- OwnerName: unknown
- SerialNumber: 1480860895
- XMP-crs
- AlreadyApplied: True
- BlueHue: 0
- BlueSaturation: 0
- Brightness: 0
- CameraProfile: Embedded
- ChromaticAberrationB: 0
- ChromaticAberrationR: 0
- Clarity: 0
- ColorNoiseReduction: 0
- Contrast: 0
- ConvertToGrayscale: False
- Defringe: 0
- Exposure: +0.29
- FillLight: 0
- GreenHue: 0
- GreenSaturation: 0
- HasCrop: False
- HasSettings: True
- HighlightRecovery: 14
- HueAdjustmentAqua: 0
- HueAdjustmentBlue: 0
- HueAdjustmentGreen: 0
- HueAdjustmentMagenta: 0
- HueAdjustmentOrange: 0
- HueAdjustmentPurple: 0
- HueAdjustmentRed: 0
- HueAdjustmentYellow: 0
- IncrementalTemperature: 0
- IncrementalTint: 0
- LuminanceAdjustmentAqua: 0
- LuminanceAdjustmentBlue: 0
- LuminanceAdjustmentGreen: 0
- LuminanceAdjustmentMagenta: 0
- LuminanceAdjustmentOrange: 0
- LuminanceAdjustmentPurple: 0
- LuminanceAdjustmentRed: 0
- LuminanceAdjustmentYellow: 0
- LuminanceSmoothing: 0
- ParametricDarks: 0
- ParametricHighlightSplit: 75
- ParametricHighlights: 0
- ParametricLights: 0
- ParametricMidtoneSplit: 50
- ParametricShadowSplit: 25
- ParametricShadows: 0
- RedHue: 0
- RedSaturation: 0
- Saturation: 0
- SaturationAdjustmentAqua: 0
- SaturationAdjustmentBlue: 0
- SaturationAdjustmentGreen: 0
- SaturationAdjustmentMagenta: 0
- SaturationAdjustmentOrange: 0
- SaturationAdjustmentPurple: 0
- SaturationAdjustmentRed: 0
- SaturationAdjustmentYellow: 0
- ShadowTint: 0
- Shadows: 5
- SharpenDetail: 25
- SharpenEdgeMasking: 0
- SharpenRadius: +1.0
- Sharpness: 0
- SplitToningBalance: 0
- SplitToningHighlightHue: 0
- SplitToningHighlightSaturation: 0
- SplitToningShadowHue: 0
- SplitToningShadowSaturation: 0
- ToneCurve: 0, 0, 255, 255
- ToneCurveName: Linear
- Version: 1.0
- Vibrance: 0
- VignetteAmount: 0
- WhiteBalance: As Shot
- XMP-dc
- Creator: unknown
- Format: image/jpeg
- XMP-exif
- DateTimeDigitized: 2009:07:08 17:49:14+04:00
- DateTimeOriginal: 2009:07:08 17:49:14+04:00
- ExifImageHeight: 507
- ExifImageWidth: 760
- FlashFired: False
- FlashFunction: False
- FlashMode: Off
- FlashRedEyeMode: False
- FlashReturn: No return detection
- XMP-tiff
- ImageHeight: 2592
- ImageWidth: 3888
- XMP-xmp
- CreateDate: 2009:07:08 17:49:14+04:00
- ModifyDate: 2009:07:22 09:00:39+04:00
- XMP-xmpMM
- Просмотров: 591
- Рейтинг: голосов еще нет
- Отзывов: отключены