- Раздел: Пейзаж
- Дата съёмки: 15.11.2009 20:34
- Дата загрузки фото: 16.11.2009 07:41
- Оригинальная фотография: 1613 x 1080 (1,3 Мб)
- Технические характеристики:
- Фотоаппарат: Pentax K10D
- Выдержка: 1/20
- Гиперфокальное расстояние: 10,76 m
- Диафрагма: 6,7
- Светочувствительность: 200
- Фокусное расстояние: 38,0 mm (35 mm equivalent: 57,0 mm)
- Экспокоррекция: -1/2
- Полный EXIF
- Adobe
- ColorTransform: YCbCr
- Composite
- Aperture: 6,7
- CircleOfConfusion: 0,020 mm
- FOV: 35,0 deg
- FocalLength35efl: 38,0 mm (35 mm equivalent: 57,0 mm)
- HyperfocalDistance: 10,76 m
- ScaleFactor35efl: 1,5
- ShutterSpeed: 1/20
- ExifIFD
- ApertureValue: 6,7
- CFAPattern: [Red,Green][Green,Blue]
- ColorSpace: sRGB
- Contrast: Normal
- CreateDate: 2009:11:15 14:35:39
- CustomRendered: Normal
- DateTimeOriginal: 2009:11:15 14:35:39
- ExifImageHeight: 1080
- ExifImageWidth: 1613
- ExposureCompensation: -1/2
- ExposureMode: Manual
- ExposureProgram: Aperture-priority AE
- ExposureTime: 1/20
- FNumber: 6,7
- Flash: Off
- FocalLength: 38,0 mm
- FocalLengthIn35mmFormat: 57 mm
- ISO: 200
- MeteringMode: Multi-segment
- Saturation: Normal
- SceneCaptureType: Standard
- SensingMethod: One-chip color area
- Sharpness: Hard
- ShutterSpeedValue: 1/20
- SubjectDistanceRange: Close
- WhiteBalance: Auto
- ICC-header
- ICC-meas
- ICC-view
- IFD0
- Make: PENTAX Corporation
- Model: PENTAX K10D
- ModifyDate: 2009:11:15 20:34:59
- Orientation: Horizontal (normal)
- IFD1
- IPTC
- XMP-aux
- Lens: smc PENTAX-DA 16-45mm F4 ED AL
- LensID: 4 254
- LensInfo: 160/10 450/10 40/10 40/10
- XMP-crs
- AlreadyApplied: True
- BlueHue: 0
- BlueSaturation: 0
- Brightness: +33
- ChromaticAberrationB: 0
- ChromaticAberrationR: 0
- Clarity: +5
- ColorNoiseReduction: 25
- Contrast: +50
- ConvertToGrayscale: False
- Defringe: 0
- Exposure: +0.65
- FillLight: 0
- GreenHue: 0
- GreenSaturation: 0
- HasCrop: False
- HasSettings: True
- HighlightRecovery: 0
- HueAdjustmentAqua: 0
- HueAdjustmentBlue: 0
- HueAdjustmentGreen: 0
- HueAdjustmentMagenta: 0
- HueAdjustmentOrange: 0
- HueAdjustmentPurple: 0
- HueAdjustmentRed: 0
- HueAdjustmentYellow: 0
- LuminanceAdjustmentAqua: 0
- LuminanceAdjustmentBlue: 0
- LuminanceAdjustmentGreen: 0
- LuminanceAdjustmentMagenta: 0
- LuminanceAdjustmentOrange: 0
- LuminanceAdjustmentPurple: 0
- LuminanceAdjustmentRed: 0
- LuminanceAdjustmentYellow: 0
- LuminanceSmoothing: 0
- ParametricDarks: 0
- ParametricHighlightSplit: 75
- ParametricHighlights: 0
- ParametricLights: 0
- ParametricMidtoneSplit: 50
- ParametricShadowSplit: 25
- ParametricShadows: 0
- PostCropVignetteAmount: 0
- RawFileName: IMGP8466.PEF
- RedHue: 0
- RedSaturation: 0
- Saturation: +5
- SaturationAdjustmentAqua: 0
- SaturationAdjustmentBlue: 0
- SaturationAdjustmentGreen: 0
- SaturationAdjustmentMagenta: 0
- SaturationAdjustmentOrange: 0
- SaturationAdjustmentPurple: 0
- SaturationAdjustmentRed: 0
- SaturationAdjustmentYellow: 0
- ShadowTint: 0
- Shadows: 5
- SharpenDetail: 25
- SharpenEdgeMasking: 0
- SharpenRadius: +1.0
- Sharpness: 25
- SplitToningBalance: 0
- SplitToningHighlightHue: 0
- SplitToningHighlightSaturation: 0
- SplitToningShadowHue: 0
- SplitToningShadowSaturation: 0
- Temperature: 5000
- Tint: +3
- ToneCurve: 0, 0, 32, 22, 64, 56, 128, 128, 192, 196, 255, 255
- ToneCurveName: Medium Contrast
- Version: 5.5
- Vibrance: +5
- VignetteAmount: 0
- WhiteBalance: Custom
- XMP-dc
- XMP-exif
- DateTimeDigitized: 2009:11:15 14:35:39+03:00
- DateTimeOriginal: 2009:11:15 14:35:39+03:00
- FlashFired: False
- FlashFunction: False
- FlashMode: Off
- FlashRedEyeMode: False
- FlashReturn: No return detection
- XMP-tiff
- ImageHeight: 2592
- ImageWidth: 3872
- XMP-xmp
- CreateDate: 2009:11:15 20:34:59+03:00
- ModifyDate: 2009:11:15 20:34:59+03:00
- XMP-xmpMM
- DerivedFrom:
- Просмотров: 255
- Рейтинг: голосов еще нет
- Отзывов: 0