P1110319_1.jpg |
![](img/title-line.gif) |
![](img/title-shadow.gif) | |
P1110319_1.jpg
- Раздел: Город
- Дата съёмки: 30.06.2009 21:13
- Дата загрузки фото: 17.11.2009 22:18
- Оригинальная фотография: 3630 x 2472 (1,4 Мб)
- Технические характеристики:
- Фотоаппарат: Panasonic DMC-FZ28
- Выдержка: 1/1600
- Диафрагма: 8,0
- Светочувствительность: 100
- Фокусное расстояние: 47,8 mm
- Экспокоррекция: -0,33
- Полный EXIF
- Adobe
- ColorTransform: YCbCr
- Composite
- Aperture: 8,0
- FocalLength35efl: 47,8 mm
- ShutterSpeed: 1/1600
- ExifIFD
- ApertureValue: 8,0
- CreateDate: 2009:06:30 21:13:23
- DateTimeOriginal: 2009:06:30 21:13:23
- ExposureCompensation: -0,33
- ExposureProgram: Program AE
- ExposureTime: 1/1600
- FNumber: 8,0
- Flash: Off
- FocalLength: 47,8 mm
- ISO: 100
- MaxApertureValue: 2,8
- MeteringMode: Multi-segment
- ShutterSpeedValue: 1/1600
- ICC-header
- IFD0
- Make: Panasonic
- Model: DMC-FZ28
- ModifyDate: 2009:10:20 17:39:56
- IFD1
- XMP-crs
- AlreadyApplied: True
- BlueHue: 0
- BlueSaturation: 0
- Brightness: +78
- ChromaticAberrationB: 0
- ChromaticAberrationR: 0
- Clarity: 0
- ColorNoiseReduction: 25
- Contrast: +39
- ConvertToGrayscale: False
- CropAngle: 0
- CropBottom: 0.904888
- CropLeft: 0.004955
- CropRight: 1
- CropTop: 0.001321
- Defringe: 0
- Exposure: 0.00
- FillLight: 0
- GreenHue: 0
- GreenSaturation: 0
- HasCrop: True
- HasSettings: True
- HighlightRecovery: 21
- HueAdjustmentAqua: 0
- HueAdjustmentBlue: 0
- HueAdjustmentGreen: 0
- HueAdjustmentMagenta: 0
- HueAdjustmentOrange: 0
- HueAdjustmentPurple: 0
- HueAdjustmentRed: 0
- HueAdjustmentYellow: 0
- LuminanceAdjustmentAqua: 0
- LuminanceAdjustmentBlue: 0
- LuminanceAdjustmentGreen: 0
- LuminanceAdjustmentMagenta: 0
- LuminanceAdjustmentOrange: 0
- LuminanceAdjustmentPurple: 0
- LuminanceAdjustmentRed: 0
- LuminanceAdjustmentYellow: 0
- LuminanceSmoothing: 0
- ParametricDarks: 0
- ParametricHighlightSplit: 75
- ParametricHighlights: 0
- ParametricLights: 0
- ParametricMidtoneSplit: 50
- ParametricShadowSplit: 25
- ParametricShadows: 0
- PostCropVignetteAmount: 0
- RawFileName: P1110319.RW2
- RedHue: 0
- RedSaturation: 0
- Saturation: 0
- SaturationAdjustmentAqua: 0
- SaturationAdjustmentBlue: 0
- SaturationAdjustmentGreen: 0
- SaturationAdjustmentMagenta: 0
- SaturationAdjustmentOrange: 0
- SaturationAdjustmentPurple: 0
- SaturationAdjustmentRed: 0
- SaturationAdjustmentYellow: 0
- ShadowTint: 0
- Shadows: 3
- SharpenDetail: 29
- SharpenEdgeMasking: 87
- SharpenRadius: +1.1
- Sharpness: 0
- SplitToningBalance: 0
- SplitToningHighlightHue: 0
- SplitToningHighlightSaturation: 0
- SplitToningShadowHue: 0
- SplitToningShadowSaturation: 0
- Temperature: 5550
- Tint: +5
- ToneCurve: 0, 0, 32, 22, 64, 56, 128, 128, 192, 196, 255, 255
- ToneCurveName: Medium Contrast
- Version: 5.4
- Vibrance: 0
- VignetteAmount: 0
- WhiteBalance: As Shot
- XMP-exif
- DateTimeDigitized: 2009:06:30 21:13:23+04:00
- DateTimeOriginal: 2009:06:30 21:13:23+04:00
- ExifImageHeight: 2472
- ExifImageWidth: 3630
- FlashFired: False
- FlashFunction: False
- FlashMode: Off
- FlashRedEyeMode: False
- FlashReturn: No return detection
- XMP-tiff
- ImageHeight: 2472
- ImageWidth: 3630
- XMP-xmp
- CreateDate: 2009:06:30 21:13:23+04:00
- ModifyDate: 2009:10:20 17:39:56+01:00
- Просмотров: 205
- Рейтинг: голосов еще нет
- Отзывов: 0
Получить код для блога
Вставка фотографии в текущем разрешении |
Вставка миниатюры |
HTML (для вставки в блог):
BBCode (для вставки в форум):
Ссылка на фото:
Ссылка на миниатюру:
- Послать ссылку другу
Комментарии к фотографии |