DSC_2898.jpg |
DSC_2898.jpg
- Раздел: Город
- Дата съёмки: 04.11.2009 18:38
- Дата загрузки фото: 17.11.2009 22:18
- Оригинальная фотография: 3487 x 2334 (2,9 Мб)
- Технические характеристики:
- Фотоаппарат: Nikon D60
- Выдержка: 30,0
- Светочувствительность: 100
- Экспокоррекция: +2/3
- Полный EXIF
- Composite
- ShutterSpeed: 30,0
- ExifIFD
- CFAPattern: [Green,Blue][Red,Green]
- ColorSpace: Uncalibrated
- Contrast: Normal
- CreateDate: 2009:11:04 18:38:15
- CustomRendered: Normal
- DateTimeOriginal: 2009:11:04 18:38:15
- DigitalZoomRatio: 1
- ExifImageHeight: 2334
- ExifImageWidth: 3487
- ExposureCompensation: +2/3
- ExposureMode: Manual
- ExposureProgram: Manual
- ExposureTime: 30,0
- Flash: No Flash
- GainControl: None
- ISO: 100
- LightSource: Unknown
- MaxApertureValue: 1,0
- MeteringMode: Center-weighted average
- Saturation: Normal
- SceneCaptureType: Standard
- SceneType: Directly photographed
- SensingMethod: One-chip color area
- Sharpness: Hard
- ShutterSpeedValue: 0,7
- SubjectDistanceRange: Unknown
- UserComment: LUZIN
- WhiteBalance: Auto
- ICC-header
- IFD0
- Make: NIKON CORPORATION
- Model: NIKON D60
- ModifyDate: 2009:11:07 00:09:25
- Orientation: Horizontal (normal)
- Software: Capture NX 2.2.0 W
- IFD1
- Nikon
- IFD0_Offset: 1036
- ImageDataSize: 3011108
- MakerNoteVersion: 2.10
- NikonCaptureVersion: Capture NX 2.2.0 W
- PreviewIFD_Offset: 936
- NikonPreview
- XMP-aux
- ImageNumber: 14596
- SerialNumber: 6573487
- XMP-crs
- AlreadyApplied: True
- BlueHue: 0
- BlueSaturation: 0
- Brightness: +55
- CameraProfile: ACR 4.4
- ChromaticAberrationB: 0
- ChromaticAberrationR: 0
- Clarity: +28
- ColorNoiseReduction: 25
- Contrast: +31
- ConvertToGrayscale: False
- CropAngle: -1.193489
- CropBottom: 0.969818
- CropLeft: 0.008328
- CropRight: 0.991672
- CropTop: 0.030182
- Defringe: 0
- Exposure: 0.00
- FillLight: 12
- GreenHue: 0
- GreenSaturation: 0
- HasCrop: True
- HasSettings: True
- HighlightRecovery: 0
- HueAdjustmentAqua: 0
- HueAdjustmentBlue: 0
- HueAdjustmentGreen: 0
- HueAdjustmentMagenta: 0
- HueAdjustmentOrange: 0
- HueAdjustmentPurple: 0
- HueAdjustmentRed: 0
- HueAdjustmentYellow: 0
- LuminanceAdjustmentAqua: 0
- LuminanceAdjustmentBlue: 0
- LuminanceAdjustmentGreen: 0
- LuminanceAdjustmentMagenta: 0
- LuminanceAdjustmentOrange: 0
- LuminanceAdjustmentPurple: 0
- LuminanceAdjustmentRed: 0
- LuminanceAdjustmentYellow: 0
- LuminanceSmoothing: 0
- ParametricDarks: 0
- ParametricHighlightSplit: 75
- ParametricHighlights: 0
- ParametricLights: 0
- ParametricMidtoneSplit: 50
- ParametricShadowSplit: 25
- ParametricShadows: 0
- PostCropVignetteAmount: 0
- RawFileName: DSC_2898.NEF
- RedHue: 0
- RedSaturation: 0
- Saturation: +7
- SaturationAdjustmentAqua: 0
- SaturationAdjustmentBlue: 0
- SaturationAdjustmentGreen: 0
- SaturationAdjustmentMagenta: 0
- SaturationAdjustmentOrange: 0
- SaturationAdjustmentPurple: 0
- SaturationAdjustmentRed: 0
- SaturationAdjustmentYellow: 0
- ShadowTint: 0
- Shadows: 5
- SharpenDetail: 25
- SharpenEdgeMasking: 73
- SharpenRadius: +0.8
- Sharpness: 0
- SplitToningBalance: 0
- SplitToningHighlightHue: 0
- SplitToningHighlightSaturation: 0
- SplitToningShadowHue: 0
- SplitToningShadowSaturation: 0
- Temperature: 3150
- Tint: +4
- ToneCurve: 0, 0, 32, 22, 64, 56, 128, 128, 192, 196, 255, 255
- ToneCurveName: Medium Contrast
- Version: 5.5
- Vibrance: 0
- VignetteAmount: 0
- WhiteBalance: As Shot
- XMP-exif
- DateTimeDigitized: 2009:11:04 18:38:15.40+03:00
- DateTimeOriginal: 2009:11:04 18:38:15.40+03:00
- ExifImageHeight: 2515
- ExifImageWidth: 3756
- FlashFired: False
- FlashFunction: False
- FlashMode: Unknown
- FlashRedEyeMode: False
- FlashReturn: No return detection
- ShutterSpeedValue: 30,0
- XMP-microsoft
- XMP-tiff
- ImageHeight: 2515
- ImageWidth: 3756
- XMP-xmp
- CreateDate: 2009:11:04 18:38:15.40+03:00
- CreatorTool: Nikon Transfer 1.0 W
- ModifyDate: 2009:11:06 20:46:12Z
- Просмотров: 185
- Рейтинг: голосов еще нет
- Отзывов: 0
Получить код для блога
Вставка фотографии в текущем разрешении |
Вставка миниатюры |
HTML (для вставки в блог):
BBCode (для вставки в форум):
Ссылка на фото:
Ссылка на миниатюру:
- Послать ссылку другу
Комментарии к фотографии |