DSC_2610.jpg |
![](img/title-line.gif) |
![](img/title-shadow.gif) | |
DSC_2610.jpg
- Раздел: Цветы
- Дата съёмки: 27.10.2009 08:55
- Дата загрузки фото: 18.11.2009 00:18
- Оригинальная фотография: 2971 x 1986 (632 Кб)
- Технические характеристики:
- Фотоаппарат: Nikon D60
- Выдержка: 1/5
- Светочувствительность: 100
- Полный EXIF
- Adobe
- ColorTransform: YCbCr
- Composite
- ShutterSpeed: 1/5
- ExifIFD
- CFAPattern: [Green,Blue][Red,Green]
- Contrast: Normal
- CreateDate: 2009:10:27 08:55:48
- CustomRendered: Normal
- DateTimeOriginal: 2009:10:27 08:55:48
- DigitalZoomRatio: 1
- ExposureCompensation: 0
- ExposureMode: Manual
- ExposureProgram: Manual
- ExposureTime: 1/5
- Flash: No Flash
- GainControl: None
- ISO: 100
- LightSource: Unknown
- MaxApertureValue: 1,0
- MeteringMode: Center-weighted average
- Saturation: Normal
- SceneCaptureType: Standard
- SceneType: Directly photographed
- SensingMethod: One-chip color area
- Sharpness: Hard
- ShutterSpeedValue: 1/5
- SubjectDistanceRange: Unknown
- WhiteBalance: Auto
- ICC-header
- IFD0
- Make: NIKON CORPORATION
- Model: NIKON D60
- ModifyDate: 2009:10:27 07:11:06
- Software: Nikon Transfer 1.0 W
- IFD1
- XMP-aux
- ImageNumber: 14308
- SerialNumber: 6573487
- XMP-crs
- AlreadyApplied: True
- BlueHue: 0
- BlueSaturation: 0
- Brightness: +55
- CameraProfile: ACR 4.4
- ChromaticAberrationB: 0
- ChromaticAberrationR: 0
- Clarity: 0
- ColorNoiseReduction: 25
- Contrast: +31
- ConvertToGrayscale: False
- CropAngle: 0
- CropBottom: 0.81016
- CropLeft: 0.232766
- CropRight: 1
- CropTop: 0.044118
- Defringe: 0
- Exposure: +0.20
- FillLight: 8
- GreenHue: 0
- GreenSaturation: 0
- HasCrop: True
- HasSettings: True
- HighlightRecovery: 0
- HueAdjustmentAqua: +16
- HueAdjustmentBlue: 0
- HueAdjustmentGreen: +14
- HueAdjustmentMagenta: +8
- HueAdjustmentOrange: -3
- HueAdjustmentPurple: +7
- HueAdjustmentRed: +8
- HueAdjustmentYellow: +33
- LuminanceAdjustmentAqua: +12
- LuminanceAdjustmentBlue: +9
- LuminanceAdjustmentGreen: +18
- LuminanceAdjustmentMagenta: +2
- LuminanceAdjustmentOrange: -13
- LuminanceAdjustmentPurple: +9
- LuminanceAdjustmentRed: -25
- LuminanceAdjustmentYellow: -42
- LuminanceSmoothing: 6
- ParametricDarks: 0
- ParametricHighlightSplit: 75
- ParametricHighlights: 0
- ParametricLights: 0
- ParametricMidtoneSplit: 50
- ParametricShadowSplit: 25
- ParametricShadows: 0
- PostCropVignetteAmount: 0
- RawFileName: DSC_2610.NEF
- RedHue: 0
- RedSaturation: 0
- Saturation: +9
- SaturationAdjustmentAqua: +13
- SaturationAdjustmentBlue: 0
- SaturationAdjustmentGreen: -23
- SaturationAdjustmentMagenta: +5
- SaturationAdjustmentOrange: -4
- SaturationAdjustmentPurple: 0
- SaturationAdjustmentRed: +14
- SaturationAdjustmentYellow: 0
- ShadowTint: 0
- Shadows: 5
- SharpenDetail: 38
- SharpenEdgeMasking: 74
- SharpenRadius: +0.8
- Sharpness: 0
- SplitToningBalance: 0
- SplitToningHighlightHue: 0
- SplitToningHighlightSaturation: 0
- SplitToningShadowHue: 0
- SplitToningShadowSaturation: 0
- Temperature: 3400
- Tint: +4
- ToneCurve: 0, 0, 32, 22, 64, 56, 128, 128, 192, 196, 255, 255
- ToneCurveName: Medium Contrast
- Version: 5.5
- Vibrance: 0
- VignetteAmount: 0
- WhiteBalance: As Shot
- XMP-exif
- DateTimeDigitized: 2009:10:27 08:55:48.80+03:00
- DateTimeOriginal: 2009:10:27 08:55:48.80+03:00
- ExifImageHeight: 1986
- ExifImageWidth: 2971
- FlashFired: False
- FlashFunction: False
- FlashMode: Unknown
- FlashRedEyeMode: False
- FlashReturn: No return detection
- XMP-microsoft
- XMP-tiff
- ImageHeight: 1986
- ImageWidth: 2971
- XMP-xmp
- CreateDate: 2009:10:27 08:55:48.80+03:00
- CreatorTool: Nikon Transfer 1.0 W
- ModifyDate: 2009:10:27 07:11:06Z
- Просмотров: 160
- Рейтинг: голосов еще нет
- Отзывов: 0
Получить код для блога
Вставка фотографии в текущем разрешении |
Вставка миниатюры |
HTML (для вставки в блог):
BBCode (для вставки в форум):
Ссылка на фото:
Ссылка на миниатюру:
- Послать ссылку другу
Комментарии к фотографии |