DSC_2637.jpg |
![](img/title-line.gif) |
![](img/title-shadow.gif) | |
DSC_2637.jpg
- Раздел: Цветы
- Дата съёмки: 27.10.2009 09:21
- Дата загрузки фото: 18.11.2009 00:18
- Оригинальная фотография: 3189 x 2256 (669 Кб)
- Технические характеристики:
- Фотоаппарат: Nikon D60
- Выдержка: 1/6
- Светочувствительность: 100
- Полный EXIF
- Adobe
- ColorTransform: YCbCr
- Composite
- ShutterSpeed: 1/6
- ExifIFD
- CFAPattern: [Green,Blue][Red,Green]
- Contrast: Normal
- CreateDate: 2009:10:27 09:21:34
- CustomRendered: Normal
- DateTimeOriginal: 2009:10:27 09:21:34
- DigitalZoomRatio: 1
- ExposureCompensation: 0
- ExposureMode: Manual
- ExposureProgram: Manual
- ExposureTime: 1/6
- Flash: No Flash
- GainControl: None
- ISO: 100
- LightSource: Unknown
- MaxApertureValue: 1,0
- MeteringMode: Center-weighted average
- Saturation: Normal
- SceneCaptureType: Standard
- SceneType: Directly photographed
- SensingMethod: One-chip color area
- Sharpness: Hard
- ShutterSpeedValue: 1/6
- SubjectDistanceRange: Unknown
- WhiteBalance: Auto
- ICC-header
- IFD0
- Make: NIKON CORPORATION
- Model: NIKON D60
- ModifyDate: 2009:10:27 07:17:37
- Software: Nikon Transfer 1.0 W
- IFD1
- XMP-aux
- ImageNumber: 14335
- SerialNumber: 6573487
- XMP-crs
- AlreadyApplied: True
- BlueHue: 0
- BlueSaturation: 0
- Brightness: +58
- CameraProfile: ACR 4.4
- ChromaticAberrationB: 0
- ChromaticAberrationR: 0
- Clarity: 0
- ColorNoiseReduction: 25
- Contrast: +34
- ConvertToGrayscale: False
- CropAngle: 0.67839
- CropBottom: 0.884827
- CropLeft: 0.160148
- CropRight: 0.976827
- CropTop: 0
- Defringe: 0
- Exposure: +0.25
- FillLight: 6
- GreenHue: 0
- GreenSaturation: 0
- HasCrop: True
- HasSettings: True
- HighlightRecovery: 0
- HueAdjustmentAqua: +54
- HueAdjustmentBlue: +11
- HueAdjustmentGreen: +4
- HueAdjustmentMagenta: 0
- HueAdjustmentOrange: -21
- HueAdjustmentPurple: -1
- HueAdjustmentRed: -62
- HueAdjustmentYellow: +48
- LuminanceAdjustmentAqua: +4
- LuminanceAdjustmentBlue: +28
- LuminanceAdjustmentGreen: +10
- LuminanceAdjustmentMagenta: -4
- LuminanceAdjustmentOrange: -29
- LuminanceAdjustmentPurple: +3
- LuminanceAdjustmentRed: +13
- LuminanceAdjustmentYellow: -20
- LuminanceSmoothing: 15
- ParametricDarks: 0
- ParametricHighlightSplit: 75
- ParametricHighlights: 0
- ParametricLights: 0
- ParametricMidtoneSplit: 50
- ParametricShadowSplit: 25
- ParametricShadows: 0
- PostCropVignetteAmount: 0
- RawFileName: DSC_2637.NEF
- RedHue: 0
- RedSaturation: 0
- Saturation: +7
- SaturationAdjustmentAqua: -12
- SaturationAdjustmentBlue: 0
- SaturationAdjustmentGreen: -21
- SaturationAdjustmentMagenta: 0
- SaturationAdjustmentOrange: -19
- SaturationAdjustmentPurple: 0
- SaturationAdjustmentRed: +27
- SaturationAdjustmentYellow: -9
- ShadowTint: 0
- Shadows: 5
- SharpenDetail: 34
- SharpenEdgeMasking: 81
- SharpenRadius: +0.9
- Sharpness: 0
- SplitToningBalance: 0
- SplitToningHighlightHue: 0
- SplitToningHighlightSaturation: 0
- SplitToningShadowHue: 0
- SplitToningShadowSaturation: 0
- Temperature: 3550
- Tint: +4
- ToneCurve: 0, 0, 32, 22, 64, 56, 128, 128, 192, 196, 255, 255
- ToneCurveName: Medium Contrast
- Version: 5.5
- Vibrance: 0
- VignetteAmount: 0
- WhiteBalance: As Shot
- XMP-exif
- DateTimeDigitized: 2009:10:27 09:21:34.50+03:00
- DateTimeOriginal: 2009:10:27 09:21:34.50+03:00
- ExifImageHeight: 2256
- ExifImageWidth: 3189
- FlashFired: False
- FlashFunction: False
- FlashMode: Unknown
- FlashRedEyeMode: False
- FlashReturn: No return detection
- XMP-microsoft
- XMP-tiff
- ImageHeight: 2256
- ImageWidth: 3189
- XMP-xmp
- CreateDate: 2009:10:27 09:21:34.50+03:00
- CreatorTool: Nikon Transfer 1.0 W
- ModifyDate: 2009:10:27 07:17:37Z
- Просмотров: 170
- Рейтинг: голосов еще нет
- Отзывов: 0
Получить код для блога
Вставка фотографии в текущем разрешении |
Вставка миниатюры |
HTML (для вставки в блог):
BBCode (для вставки в форум):
Ссылка на фото:
Ссылка на миниатюру:
- Послать ссылку другу
Комментарии к фотографии |