Уважаемые друзья и участники проекта iXBT.photo! К сожалению, 1 марта 2026 года проект iXBT.photo прекратит свою работу и будет закрыт. Мы высоко ценим ваше участие и тот вклад, который вы внесли в развитие нашего сообщества. Пожалуйста, не забудьте сохранить ваши фотографии до этой даты.
С уважением, команда iXBT.com
| О былом |
О былом
- Раздел: Другое, разное
- Дата съёмки: 03.07.2009 11:35
- Дата загрузки фото: 23.11.2009 19:30
- Оригинальная фотография: 900 x 675 (247 Кб)
- Технические характеристики:
- Фотоаппарат: Canon PowerShot G10
- Выдержка: 1/60
- Гиперфокальное расстояние: 8,86 m
- Диафрагма: 3,2
- Светочувствительность: 80
- Фокусное расстояние: 6,1 mm (35 mm equivalent: 139,7 mm)
- Полный EXIF
- Adobe
- ColorTransform: YCbCr
- Composite
- Aperture: 3,2
- CircleOfConfusion: 0,001 mm
- FOV: 14,0 deg
- FocalLength35efl: 6,1 mm (35 mm equivalent: 139,7 mm)
- HyperfocalDistance: 8,86 m
- ScaleFactor35efl: 22,9
- ShutterSpeed: 1/60
- ExifIFD
- ApertureValue: 3,2
- CreateDate: 2009:07:03 11:35:08
- CustomRendered: Normal
- DateTimeOriginal: 2009:07:03 11:35:08
- DigitalZoomRatio: 1
- ExposureCompensation: 0
- ExposureMode: Auto
- ExposureTime: 1/60
- FNumber: 3,2
- Flash: Off
- FocalLength: 6,1 mm
- ISO: 80
- MaxApertureValue: 2,8
- MeteringMode: Multi-segment
- SceneCaptureType: Standard
- SensingMethod: One-chip color area
- ShutterSpeedValue: 1/60
- WhiteBalance: Auto
- ICC-header
- ICC-meas
- ICC-view
- IFD0
- Make: Canon
- Model: Canon PowerShot G10
- ModifyDate: 2009:11:18 18:40:47
- Software: Picasa 3.0
- IFD1
- XMP-aux
- Firmware: 1.03
- FlashCompensation: 0
- Lens: 6.1-30.5 mm
- LensInfo: 6100/1000 30500/1000 0/0 0/0
- XMP-crs
- AlreadyApplied: True
- BlueHue: -100
- BlueSaturation: -13
- Brightness: +30
- CameraProfile: ACR 3.3
- ChromaticAberrationB: 0
- ChromaticAberrationR: -100
- Clarity: +65
- ColorNoiseReduction: 0
- Contrast: +35
- ConvertToGrayscale: False
- Defringe: 0
- Exposure: -0.89
- FillLight: 48
- GradientBasedCorrectionsCorrectionActive: true
- GradientBasedCorrectionsCorrectionAmount: 1.000000
- GradientBasedCorrectionsCorrectionMasksFullX: 0.217066
- GradientBasedCorrectionsCorrectionMasksFullY: 1.007870
- GradientBasedCorrectionsCorrectionMasksMaskValue: 1.000000
- GradientBasedCorrectionsCorrectionMasksWhat: Mask/Gradient
- GradientBasedCorrectionsCorrectionMasksZeroX: 0.316092
- GradientBasedCorrectionsCorrectionMasksZeroY: 0.642241
- GradientBasedCorrectionsLocalBrightness: 0.000000
- GradientBasedCorrectionsLocalClarity: -1.000000
- GradientBasedCorrectionsLocalContrast: 0.000000
- GradientBasedCorrectionsLocalExposure: 0.000000
- GradientBasedCorrectionsLocalSaturation: 0.000000
- GradientBasedCorrectionsLocalSharpness: 0.250000
- GradientBasedCorrectionsLocalToningHue: 240.000000
- GradientBasedCorrectionsLocalToningSaturation: 0.000000
- GradientBasedCorrectionsWhat: Correction
- GreenHue: +6
- GreenSaturation: 0
- HasCrop: False
- HasSettings: True
- HighlightRecovery: 100
- HueAdjustmentAqua: -48
- HueAdjustmentBlue: 0
- HueAdjustmentGreen: +34
- HueAdjustmentMagenta: +29
- HueAdjustmentOrange: +36
- HueAdjustmentPurple: 0
- HueAdjustmentRed: +27
- HueAdjustmentYellow: -46
- IncrementalTemperature: +36
- IncrementalTint: -29
- LuminanceAdjustmentAqua: 0
- LuminanceAdjustmentBlue: 0
- LuminanceAdjustmentGreen: +72
- LuminanceAdjustmentMagenta: 0
- LuminanceAdjustmentOrange: 0
- LuminanceAdjustmentPurple: 0
- LuminanceAdjustmentRed: 0
- LuminanceAdjustmentYellow: 0
- LuminanceSmoothing: 36
- ParametricDarks: 0
- ParametricHighlightSplit: 75
- ParametricHighlights: 0
- ParametricLights: 0
- ParametricMidtoneSplit: 50
- ParametricShadowSplit: 25
- ParametricShadows: 0
- PostCropVignetteAmount: 0
- RedHue: -74
- RedSaturation: -6
- Saturation: -29
- SaturationAdjustmentAqua: 0
- SaturationAdjustmentBlue: 0
- SaturationAdjustmentGreen: +79
- SaturationAdjustmentMagenta: 0
- SaturationAdjustmentOrange: 0
- SaturationAdjustmentPurple: 0
- SaturationAdjustmentRed: 0
- SaturationAdjustmentYellow: 0
- ShadowTint: +100
- Shadows: 98
- SharpenDetail: 25
- SharpenEdgeMasking: 95
- SharpenRadius: +0.6
- Sharpness: 20
- SplitToningBalance: 0
- SplitToningHighlightHue: 59
- SplitToningHighlightSaturation: 26
- SplitToningShadowHue: 0
- SplitToningShadowSaturation: 0
- ToneCurve: 0, 0, 255, 255
- ToneCurveName: Linear
- Version: 5.5
- Vibrance: -22
- VignetteAmount: -100
- VignetteMidpoint: 13
- WhiteBalance: Custom
- XMP-exif
- DateTimeDigitized: 2009:07:03 11:35:08+03:00
- DateTimeOriginal: 2009:07:03 11:35:08+03:00
- ExifImageHeight: 675
- ExifImageWidth: 900
- FlashFired: False
- FlashFunction: False
- FlashMode: Off
- FlashRedEyeMode: False
- FlashReturn: No return detection
- XMP-tiff
- ImageHeight: 675
- ImageWidth: 900
- XMP-xmp
- CreateDate: 2009:07:03 11:35:08+03:00
- ModifyDate: 2009:11:18 18:40:47+02:00
- Просмотров: 440
- Рейтинг: голосов еще нет
- Отзывов: 0
Получить код для блога
| Вставка фотографии в текущем разрешении |
Вставка миниатюры |
HTML (для вставки в блог):
BBCode (для вставки в форум):
Ссылка на фото:
Ссылка на миниатюру:
- Послать ссылку другу
| Комментарии к фотографии |