| » Участники » kalabuhov » Альбом #1 » Дорога в страну чупачупс |
Уважаемые друзья и участники проекта iXBT.photo! К сожалению, 1 марта 2026 года проект iXBT.photo прекратит свою работу и будет закрыт. Мы высоко ценим ваше участие и тот вклад, который вы внесли в развитие нашего сообщества. Пожалуйста, не забудьте сохранить ваши фотографии до этой даты.
С уважением, команда iXBT.com
| Дорога в страну чупачупс |
Дорога в страну чупачупс
- Раздел: Другое, разное
- Дата съёмки: 02.08.2009 12:16
- Дата загрузки фото: 23.11.2009 19:33
- Оригинальная фотография: 900 x 579 (208 Кб)
- Технические характеристики:
- Фотоаппарат: Canon PowerShot G10
- Выдержка: 1/1000
- Гиперфокальное расстояние: 29,20 m
- Диафрагма: 4,0
- Светочувствительность: 80
- Фокусное расстояние: 12,1 mm (35 mm equivalent: 290,6 mm)
- Полный EXIF
- Adobe
- ColorTransform: YCbCr
- Composite
- Aperture: 4,0
- CircleOfConfusion: 0,001 mm
- FOV: 7,0 deg
- FocalLength35efl: 12,1 mm (35 mm equivalent: 290,6 mm)
- HyperfocalDistance: 29,20 m
- ScaleFactor35efl: 24,1
- ShutterSpeed: 1/1000
- ExifIFD
- ApertureValue: 4,0
- CreateDate: 2009:08:02 12:16:14
- CustomRendered: Normal
- DateTimeOriginal: 2009:08:02 12:16:14
- DigitalZoomRatio: 1
- ExposureCompensation: 0
- ExposureMode: Auto
- ExposureTime: 1/1000
- FNumber: 4,0
- Flash: Off
- FocalLength: 12,1 mm
- ISO: 80
- MaxApertureValue: 3,5
- MeteringMode: Multi-segment
- SceneCaptureType: Standard
- SensingMethod: One-chip color area
- ShutterSpeedValue: 1/1000
- WhiteBalance: Auto
- ICC-header
- ICC-meas
- ICC-view
- IFD0
- Artist: Andrei Kalabuhov
- Copyright: (c) Andrei Kalabuhov
- Make: Canon
- Model: Canon PowerShot G10
- ModifyDate: 2009:11:17 15:00:16
- IFD1
- IPTC
- By-line: (c) Andrei Kalabuhov
- By-lineTitle: Photographer
- CopyrightNotice: (c) Andrei Kalabuhov
- Country-PrimaryLocationName: Thailand
- Keywords: Andaman Sea, Indian Ocean, Nature, Phuket, Sea Canoe, Thailand
- Sub-location: Thailand
- XMP-aux
- Firmware: 1.03
- FlashCompensation: 0
- Lens: 6.1-30.5 mm
- LensInfo: 6100/1000 30500/1000 0/0 0/0
- XMP-crs
- AlreadyApplied: True
- BlueHue: -13
- BlueSaturation: +1
- Brightness: +51
- CameraProfile: Embedded
- ChromaticAberrationB: 0
- ChromaticAberrationR: 0
- Clarity: +50
- ColorNoiseReduction: 47
- Contrast: 0
- ConvertToGrayscale: False
- CropAngle: 0.486014
- CropBottom: 0.864301
- CropHeight: 579
- CropLeft: 0.005427
- CropRight: 0.994573
- CropTop: 0
- CropUnit: 0
- CropWidth: 900
- Defringe: 0
- Exposure: 0.00
- FillLight: 0
- GreenHue: 0
- GreenSaturation: 0
- HasCrop: True
- HasSettings: True
- HighlightRecovery: 10
- HueAdjustmentAqua: 0
- HueAdjustmentBlue: 0
- HueAdjustmentGreen: 0
- HueAdjustmentMagenta: 0
- HueAdjustmentOrange: 0
- HueAdjustmentPurple: 0
- HueAdjustmentRed: 0
- HueAdjustmentYellow: 0
- IncrementalTemperature: +18
- IncrementalTint: -6
- LuminanceAdjustmentAqua: 0
- LuminanceAdjustmentBlue: -31
- LuminanceAdjustmentGreen: 0
- LuminanceAdjustmentMagenta: 0
- LuminanceAdjustmentOrange: 0
- LuminanceAdjustmentPurple: 0
- LuminanceAdjustmentRed: 0
- LuminanceAdjustmentYellow: 0
- LuminanceSmoothing: 52
- ParametricDarks: -46
- ParametricHighlightSplit: 75
- ParametricHighlights: +39
- ParametricLights: -8
- ParametricMidtoneSplit: 50
- ParametricShadowSplit: 25
- ParametricShadows: -74
- PostCropVignetteAmount: 0
- RedHue: -4
- RedSaturation: 0
- Saturation: 0
- SaturationAdjustmentAqua: 0
- SaturationAdjustmentBlue: 0
- SaturationAdjustmentGreen: 0
- SaturationAdjustmentMagenta: 0
- SaturationAdjustmentOrange: 0
- SaturationAdjustmentPurple: 0
- SaturationAdjustmentRed: 0
- SaturationAdjustmentYellow: 0
- ShadowTint: +11
- Shadows: 8
- SharpenDetail: 25
- SharpenEdgeMasking: 95
- SharpenRadius: +0.7
- Sharpness: 22
- SplitToningBalance: 0
- SplitToningHighlightHue: 97
- SplitToningHighlightSaturation: 5
- SplitToningShadowHue: 0
- SplitToningShadowSaturation: 0
- ToneCurve: 0, 0, 255, 255
- ToneCurveName: Linear
- Version: 5.5
- Vibrance: +25
- VignetteAmount: -100
- VignetteMidpoint: 47
- WhiteBalance: Custom
- XMP-dc
- Creator: (c) Andrei Kalabuhov
- Rights: (c) Andrei Kalabuhov
- Subject: Andaman Sea, Indian Ocean, Nature, Phuket, Sea Canoe, Thailand
- XMP-exif
- DateTimeDigitized: 2009:08:02 12:16:14+03:00
- DateTimeOriginal: 2009:08:02 12:16:14+03:00
- ExifImageHeight: 579
- ExifImageWidth: 900
- FlashFired: False
- FlashFunction: False
- FlashMode: Off
- FlashRedEyeMode: False
- FlashReturn: No return detection
- XMP-iptcCore
- CreatorContactInfoCiAdrCity: Minsk
- CreatorContactInfoCiAdrCtry: Belarus
- CreatorContactInfoCiEmailWork: andrei.kalabuhov@gmail.com
- CreatorContactInfoCiTelWork: +375 (29) 625-11-45
- CreatorContactInfoCiUrlWork: http://kalabuhov.livejournal.com
- Location: Thailand
- XMP-tiff
- ImageHeight: 579
- ImageWidth: 900
- XMP-xmp
- CreateDate: 2009:08:02 12:16:14+03:00
- Label: Red
- ModifyDate: 2009:11:17 15:00:16+02:00
- Rating: 2
- XMP-xmpRights
Получить код для блога
| Вставка фотографии в текущем разрешении |
Вставка миниатюры |
HTML (для вставки в блог):
BBCode (для вставки в форум):
Ссылка на фото:
Ссылка на миниатюру:
- Послать ссылку другу
| Комментарии к фотографии |