Уважаемые друзья и участники проекта iXBT.photo! К сожалению, 1 марта 2026 года проект iXBT.photo прекратит свою работу и будет закрыт. Мы высоко ценим ваше участие и тот вклад, который вы внесли в развитие нашего сообщества. Пожалуйста, не забудьте сохранить ваши фотографии до этой даты.
С уважением, команда iXBT.com
| Иной мир |
Иной мир
- Раздел: Другое, разное
- Дата съёмки: 02.08.2009 14:31
- Дата загрузки фото: 23.11.2009 19:33
- Оригинальная фотография: 900 x 675 (337 Кб)
- Технические характеристики:
- Фотоаппарат: Canon PowerShot G10
- Выдержка: 1/1000
- Гиперфокальное расстояние: 22,12 m
- Диафрагма: 4,0
- Светочувствительность: 80
- Фокусное расстояние: 10,8 mm (35 mm equivalent: 246,7 mm)
- Экспокоррекция: +1/3
- Полный EXIF
- Adobe
- ColorTransform: YCbCr
- Composite
- Aperture: 4,0
- CircleOfConfusion: 0,001 mm
- FOV: 8,0 deg
- FocalLength35efl: 10,8 mm (35 mm equivalent: 246,7 mm)
- HyperfocalDistance: 22,12 m
- ScaleFactor35efl: 22,9
- ShutterSpeed: 1/1000
- ExifIFD
- ApertureValue: 4,0
- CreateDate: 2009:08:02 14:31:31
- CustomRendered: Normal
- DateTimeOriginal: 2009:08:02 14:31:31
- DigitalZoomRatio: 1
- ExposureCompensation: +1/3
- ExposureMode: Manual
- ExposureTime: 1/1000
- FNumber: 4,0
- Flash: Off
- FocalLength: 10,8 mm
- ISO: 80
- MaxApertureValue: 3,2
- MeteringMode: Multi-segment
- SceneCaptureType: Standard
- SensingMethod: One-chip color area
- ShutterSpeedValue: 1/1000
- WhiteBalance: Auto
- ICC-header
- ICC-meas
- ICC-view
- IFD0
- Artist: Andrei Kalabuhov
- Copyright: (c) Andrei Kalabuhov
- Make: Canon
- Model: Canon PowerShot G10
- ModifyDate: 2009:11:17 13:18:47
- IFD1
- IPTC
- By-line: (c) Andrei Kalabuhov
- By-lineTitle: Photographer
- CopyrightNotice: (c) Andrei Kalabuhov
- Country-PrimaryLocationName: Thailand
- Keywords: Andaman Sea, Indian Ocean, Nature, Phuket, Sea Canoe, Thailand
- Sub-location: Thailand
- XMP-aux
- Firmware: 1.03
- FlashCompensation: 0
- Lens: 6.1-30.5 mm
- LensInfo: 6100/1000 30500/1000 0/0 0/0
- XMP-crs
- AlreadyApplied: True
- BlueHue: 0
- BlueSaturation: 0
- Brightness: 0
- CameraProfile: Embedded
- ChromaticAberrationB: 0
- ChromaticAberrationR: 0
- Clarity: +65
- ColorNoiseReduction: 49
- Contrast: 0
- ConvertToGrayscale: False
- CropAngle: 0.375683
- CropBottom: 0.728991
- CropHeight: 675
- CropLeft: 0.255533
- CropRight: 0.952611
- CropTop: 0.022345
- CropUnit: 0
- CropWidth: 900
- Defringe: 0
- Exposure: +0.94
- FillLight: 0
- GreenHue: 0
- GreenSaturation: 0
- HasCrop: True
- HasSettings: True
- HighlightRecovery: 0
- HueAdjustmentAqua: 0
- HueAdjustmentBlue: 0
- HueAdjustmentGreen: 0
- HueAdjustmentMagenta: 0
- HueAdjustmentOrange: 0
- HueAdjustmentPurple: 0
- HueAdjustmentRed: 0
- HueAdjustmentYellow: 0
- IncrementalTemperature: 0
- IncrementalTint: 0
- LuminanceAdjustmentAqua: +100
- LuminanceAdjustmentBlue: -38
- LuminanceAdjustmentGreen: +60
- LuminanceAdjustmentMagenta: 0
- LuminanceAdjustmentOrange: +23
- LuminanceAdjustmentPurple: 0
- LuminanceAdjustmentRed: 0
- LuminanceAdjustmentYellow: +4
- LuminanceSmoothing: 43
- ParametricDarks: 0
- ParametricHighlightSplit: 75
- ParametricHighlights: 0
- ParametricLights: 0
- ParametricMidtoneSplit: 50
- ParametricShadowSplit: 25
- ParametricShadows: -5
- PostCropVignetteAmount: 0
- RedHue: 0
- RedSaturation: 0
- Saturation: 0
- SaturationAdjustmentAqua: +48
- SaturationAdjustmentBlue: +75
- SaturationAdjustmentGreen: +15
- SaturationAdjustmentMagenta: 0
- SaturationAdjustmentOrange: 0
- SaturationAdjustmentPurple: 0
- SaturationAdjustmentRed: 0
- SaturationAdjustmentYellow: 0
- ShadowTint: 0
- Shadows: 2
- SharpenDetail: 46
- SharpenEdgeMasking: 75
- SharpenRadius: +0.7
- Sharpness: 50
- SplitToningBalance: 0
- SplitToningHighlightHue: 23
- SplitToningHighlightSaturation: 16
- SplitToningShadowHue: 38
- SplitToningShadowSaturation: 24
- ToneCurve: 0, 0, 32, 22, 64, 56, 128, 128, 192, 196, 255, 255
- ToneCurveName: Medium Contrast
- Version: 5.5
- Vibrance: +15
- VignetteAmount: -73
- VignetteMidpoint: 37
- WhiteBalance: As Shot
- XMP-dc
- Creator: (c) Andrei Kalabuhov
- Rights: (c) Andrei Kalabuhov
- Subject: Andaman Sea, Indian Ocean, Nature, Phuket, Sea Canoe, Thailand
- XMP-exif
- DateTimeDigitized: 2009:08:02 14:31:31+03:00
- DateTimeOriginal: 2009:08:02 14:31:31+03:00
- ExifImageHeight: 675
- ExifImageWidth: 900
- FlashFired: False
- FlashFunction: False
- FlashMode: Off
- FlashRedEyeMode: False
- FlashReturn: No return detection
- XMP-iptcCore
- CreatorContactInfoCiAdrCity: Minsk
- CreatorContactInfoCiAdrCtry: Belarus
- CreatorContactInfoCiEmailWork: andrei.kalabuhov@gmail.com
- CreatorContactInfoCiTelWork: +375 (29) 625-11-45
- CreatorContactInfoCiUrlWork: http://kalabuhov.livejournal.com
- Location: Thailand
- XMP-tiff
- ImageHeight: 675
- ImageWidth: 900
- XMP-xmp
- CreateDate: 2009:08:02 14:31:31+03:00
- Label: Purple
- ModifyDate: 2009:11:17 13:18:47+02:00
- XMP-xmpRights
- Просмотров: 306
- Рейтинг: голосов еще нет
- Отзывов: 0
Получить код для блога
| Вставка фотографии в текущем разрешении |
Вставка миниатюры |
HTML (для вставки в блог):
BBCode (для вставки в форум):
Ссылка на фото:
Ссылка на миниатюру:
- Послать ссылку другу
| Комментарии к фотографии |