Уважаемые друзья и участники проекта iXBT.photo! К сожалению, 1 марта 2026 года проект iXBT.photo прекратит свою работу и будет закрыт. Мы высоко ценим ваше участие и тот вклад, который вы внесли в развитие нашего сообщества. Пожалуйста, не забудьте сохранить ваши фотографии до этой даты.
С уважением, команда iXBT.com
| Прозрение |
Прозрение
- Раздел: Другое, разное
- Дата съёмки: 02.08.2009 18:26
- Дата загрузки фото: 23.11.2009 19:33
- Оригинальная фотография: 900 x 582 (193 Кб)
- Технические характеристики:
- Фотоаппарат: Canon PowerShot G10
- Выдержка: 1/1000
- Гиперфокальное расстояние: 10,63 m
- Диафрагма: 2,8
- Светочувствительность: 125
- Фокусное расстояние: 6,1 mm (35 mm equivalent: 146,6 mm)
- Полный EXIF
- Adobe
- ColorTransform: YCbCr
- Composite
- Aperture: 2,8
- CircleOfConfusion: 0,001 mm
- FOV: 13,0 deg
- FocalLength35efl: 6,1 mm (35 mm equivalent: 146,6 mm)
- HyperfocalDistance: 10,63 m
- ScaleFactor35efl: 24,0
- ShutterSpeed: 1/1000
- ExifIFD
- ApertureValue: 2,8
- CreateDate: 2009:08:02 18:26:37
- CustomRendered: Normal
- DateTimeOriginal: 2009:08:02 18:26:37
- DigitalZoomRatio: 1
- ExposureCompensation: 0
- ExposureMode: Auto
- ExposureTime: 1/1000
- FNumber: 2,8
- Flash: Off
- FocalLength: 6,1 mm
- ISO: 125
- MaxApertureValue: 2,8
- MeteringMode: Multi-segment
- SceneCaptureType: Standard
- SensingMethod: One-chip color area
- ShutterSpeedValue: 1/1000
- WhiteBalance: Auto
- ICC-header
- ICC-meas
- ICC-view
- IFD0
- Artist: Andrei Kalabuhov
- Copyright: (c) Andrei Kalabuhov
- Make: Canon
- Model: Canon PowerShot G10
- ModifyDate: 2009:11:17 11:18:45
- IFD1
- IPTC
- By-line: (c) Andrei Kalabuhov
- By-lineTitle: Photographer
- CopyrightNotice: (c) Andrei Kalabuhov
- Country-PrimaryLocationName: Thailand
- Keywords: Andaman Sea, Indian Ocean, Nature, Phuket, Sea Canoe, Thailand
- Sub-location: Thailand
- XMP-aux
- Firmware: 1.03
- FlashCompensation: 0
- Lens: 6.1-30.5 mm
- LensInfo: 6100/1000 30500/1000 0/0 0/0
- XMP-crs
- AlreadyApplied: True
- BlueHue: 0
- BlueSaturation: 0
- Brightness: 0
- CameraProfile: Embedded
- ChromaticAberrationB: 0
- ChromaticAberrationR: 0
- Clarity: +1
- ColorNoiseReduction: 43
- Contrast: +5
- ConvertToGrayscale: False
- CropAngle: 0.367276
- CropBottom: 0.867648
- CropHeight: 582
- CropLeft: 0.00413
- CropRight: 0.99587
- CropTop: 0
- CropUnit: 0
- CropWidth: 900
- Defringe: 0
- Exposure: 0.00
- FillLight: 0
- GreenHue: 0
- GreenSaturation: 0
- HasCrop: True
- HasSettings: True
- HighlightRecovery: 100
- HueAdjustmentAqua: -62
- HueAdjustmentBlue: 0
- HueAdjustmentGreen: 0
- HueAdjustmentMagenta: 0
- HueAdjustmentOrange: 0
- HueAdjustmentPurple: 0
- HueAdjustmentRed: 0
- HueAdjustmentYellow: -81
- IncrementalTemperature: 0
- IncrementalTint: 0
- LuminanceAdjustmentAqua: +40
- LuminanceAdjustmentBlue: -12
- LuminanceAdjustmentGreen: 0
- LuminanceAdjustmentMagenta: 0
- LuminanceAdjustmentOrange: -15
- LuminanceAdjustmentPurple: 0
- LuminanceAdjustmentRed: 0
- LuminanceAdjustmentYellow: +13
- LuminanceSmoothing: 47
- ParametricDarks: 0
- ParametricHighlightSplit: 75
- ParametricHighlights: 0
- ParametricLights: 0
- ParametricMidtoneSplit: 50
- ParametricShadowSplit: 25
- ParametricShadows: -5
- PostCropVignetteAmount: 0
- RedHue: 0
- RedSaturation: 0
- Saturation: 0
- SaturationAdjustmentAqua: +27
- SaturationAdjustmentBlue: +33
- SaturationAdjustmentGreen: 0
- SaturationAdjustmentMagenta: +10
- SaturationAdjustmentOrange: -13
- SaturationAdjustmentPurple: +48
- SaturationAdjustmentRed: +4
- SaturationAdjustmentYellow: +15
- ShadowTint: 0
- Shadows: 2
- SharpenDetail: 27
- SharpenEdgeMasking: 98
- SharpenRadius: +0.7
- Sharpness: 22
- SplitToningBalance: 0
- SplitToningHighlightHue: 0
- SplitToningHighlightSaturation: 0
- SplitToningShadowHue: 0
- SplitToningShadowSaturation: 0
- ToneCurve: 0, 0, 32, 22, 64, 56, 128, 128, 192, 196, 255, 255
- ToneCurveName: Medium Contrast
- Version: 5.5
- Vibrance: +43
- VignetteAmount: -73
- VignetteMidpoint: 37
- WhiteBalance: As Shot
- XMP-dc
- Creator: (c) Andrei Kalabuhov
- Rights: (c) Andrei Kalabuhov
- Subject: Andaman Sea, Indian Ocean, Nature, Phuket, Sea Canoe, Thailand
- XMP-exif
- DateTimeDigitized: 2009:08:02 18:26:37+03:00
- DateTimeOriginal: 2009:08:02 18:26:37+03:00
- ExifImageHeight: 582
- ExifImageWidth: 900
- FlashFired: False
- FlashFunction: False
- FlashMode: Off
- FlashRedEyeMode: False
- FlashReturn: No return detection
- XMP-iptcCore
- CreatorContactInfoCiAdrCity: Minsk
- CreatorContactInfoCiAdrCtry: Belarus
- CreatorContactInfoCiEmailWork: andrei.kalabuhov@gmail.com
- CreatorContactInfoCiTelWork: +375 (29) 625-11-45
- CreatorContactInfoCiUrlWork: http://kalabuhov.livejournal.com
- Location: Thailand
- XMP-tiff
- ImageHeight: 582
- ImageWidth: 900
- XMP-xmp
- CreateDate: 2009:08:02 18:26:37+03:00
- Label: Purple
- ModifyDate: 2009:11:17 11:18:45+02:00
- XMP-xmpRights
- Просмотров: 325
- Рейтинг: голосов еще нет
- Отзывов: 0
Получить код для блога
| Вставка фотографии в текущем разрешении |
Вставка миниатюры |
HTML (для вставки в блог):
BBCode (для вставки в форум):
Ссылка на фото:
Ссылка на миниатюру:
- Послать ссылку другу
| Комментарии к фотографии |