Уважаемые друзья и участники проекта iXBT.photo! К сожалению, 1 марта 2026 года проект iXBT.photo прекратит свою работу и будет закрыт. Мы высоко ценим ваше участие и тот вклад, который вы внесли в развитие нашего сообщества. Пожалуйста, не забудьте сохранить ваши фотографии до этой даты.
С уважением, команда iXBT.com
| Портрет |
Портрет
- Раздел: Другое, разное
- Дата съёмки: 17.09.2009 20:30
- Дата загрузки фото: 23.11.2009 19:44
- Оригинальная фотография: 450 x 600 (222 Кб)
- Технические характеристики:
- Фотоаппарат: Canon PowerShot G10
- Выдержка: 1/125
- Гиперфокальное расстояние: 236,32 m
- Диафрагма: 4,5
- Светочувствительность: 80
- Фокусное расстояние: 30,5 mm (35 mm equivalent: 1047,6 mm)
- Полный EXIF
- Adobe
- ColorTransform: YCbCr
- Composite
- Aperture: 4,5
- CircleOfConfusion: 0,001 mm
- FOV: 1,0 deg
- FocalLength35efl: 30,5 mm (35 mm equivalent: 1047,6 mm)
- HyperfocalDistance: 236,32 m
- ScaleFactor35efl: 34,3
- ShutterSpeed: 1/125
- ExifIFD
- ApertureValue: 4,5
- CreateDate: 2009:09:17 20:30:58
- CustomRendered: Normal
- DateTimeOriginal: 2009:09:17 20:30:58
- DigitalZoomRatio: 1
- ExposureCompensation: 0
- ExposureMode: Auto
- ExposureTime: 1/125
- FNumber: 4,5
- Flash: On, Red-eye reduction
- FocalLength: 30,5 mm
- ISO: 80
- MaxApertureValue: 4,5
- MeteringMode: Multi-segment
- SceneCaptureType: Standard
- SensingMethod: One-chip color area
- ShutterSpeedValue: 1/125
- WhiteBalance: Manual
- ICC-header
- ICC-meas
- ICC-view
- IFD0
- Artist: Andrei Kalabuhov
- Copyright: Andrei Kalabuhov
- Make: Canon
- Model: Canon PowerShot G10
- ModifyDate: 2009:09:18 17:05:43
- IFD1
- IPTC
- By-line: Andrei Kalabuhov
- By-lineTitle: Photographer
- CopyrightNotice: Andrei Kalabuhov
- XMP-aux
- Firmware: 1.03
- FlashCompensation: -1
- Lens: 6.1-30.5 mm
- LensInfo: 6100/1000 30500/1000 0/0 0/0
- XMP-crs
- AlreadyApplied: True
- BlueHue: 0
- BlueSaturation: 0
- Brightness: +50
- CameraProfile: Embedded
- ChromaticAberrationB: 0
- ChromaticAberrationR: 0
- Clarity: -10
- ColorNoiseReduction: 60
- Contrast: +50
- ConvertToGrayscale: True
- Defringe: 0
- Exposure: +0.66
- FillLight: 0
- GrayMixerAqua: -24
- GrayMixerBlue: -2
- GrayMixerGreen: -19
- GrayMixerMagenta: +14
- GrayMixerOrange: -2
- GrayMixerPurple: +13
- GrayMixerRed: +10
- GrayMixerYellow: -8
- GreenHue: 0
- GreenSaturation: 0
- HasCrop: False
- HasSettings: True
- HighlightRecovery: 0
- IncrementalTemperature: 0
- IncrementalTint: 0
- LuminanceSmoothing: 62
- PaintBasedCorrectionsCorrectionActive: true
- PaintBasedCorrectionsCorrectionAmount: 1.000000
- PaintBasedCorrectionsCorrectionMasksCenterWeight: 0.000000
- PaintBasedCorrectionsCorrectionMasksFlow: 1.000000
- PaintBasedCorrectionsCorrectionMasksMaskValue: 1.000000
- PaintBasedCorrectionsCorrectionMasksRadius: 0.073651
- PaintBasedCorrectionsCorrectionMasksWhat: Mask/Paint
- PaintBasedCorrectionsLocalBrightness: 0.179000
- PaintBasedCorrectionsLocalClarity: 0.000000
- PaintBasedCorrectionsLocalContrast: 0.000000
- PaintBasedCorrectionsLocalExposure: 0.000000
- PaintBasedCorrectionsLocalSaturation: 0.000000
- PaintBasedCorrectionsLocalSharpness: 0.000000
- PaintBasedCorrectionsLocalToningHue: 240.000000
- PaintBasedCorrectionsLocalToningSaturation: 0.000000
- PaintBasedCorrectionsWhat: Correction
- ParametricDarks: 0
- ParametricHighlightSplit: 75
- ParametricHighlights: 0
- ParametricLights: +31
- ParametricMidtoneSplit: 50
- ParametricShadowSplit: 25
- ParametricShadows: 0
- PostCropVignetteAmount: 0
- RedHue: 0
- RedSaturation: 0
- ShadowTint: 0
- Shadows: 17
- SharpenDetail: 25
- SharpenEdgeMasking: 0
- SharpenRadius: +1.0
- Sharpness: 87
- SplitToningBalance: 0
- SplitToningHighlightHue: 51
- SplitToningHighlightSaturation: 31
- SplitToningShadowHue: 47
- SplitToningShadowSaturation: 23
- ToneCurve: 0, 0, 32, 16, 64, 50, 128, 128, 192, 202, 255, 255
- ToneCurveName: Strong Contrast
- Version: 5.4
- VignetteAmount: 0
- WhiteBalance: Custom
- XMP-dc
- Creator: Andrei Kalabuhov
- Rights: Andrei Kalabuhov
- XMP-exif
- DateTimeDigitized: 2009:09:17 20:30:58+03:00
- DateTimeOriginal: 2009:09:17 20:30:58+03:00
- ExifImageHeight: 600
- ExifImageWidth: 450
- FlashFired: True
- FlashFunction: False
- FlashMode: On
- FlashRedEyeMode: True
- FlashReturn: No return detection
- XMP-iptcCore
- CreatorContactInfoCiAdrCity: Minsk
- CreatorContactInfoCiAdrCtry: Belarus
- CreatorContactInfoCiEmailWork: avk2512@gmail.com
- CreatorContactInfoCiTelWork: +375 (29) 625-11-45
- XMP-tiff
- ImageHeight: 600
- ImageWidth: 450
- XMP-xmp
- CreateDate: 2009:09:17 20:30:58+03:00
- ModifyDate: 2009:09:18 17:05:43+03:00
- Rating: 5
- Просмотров: 377
- Рейтинг: голосов еще нет
- Отзывов: 0
Получить код для блога
| Вставка фотографии в текущем разрешении |
Вставка миниатюры |
HTML (для вставки в блог):
BBCode (для вставки в форум):
Ссылка на фото:
Ссылка на миниатюру:
- Послать ссылку другу
| Комментарии к фотографии |