Уважаемые друзья и участники проекта iXBT.photo! К сожалению, 1 марта 2026 года проект iXBT.photo прекратит свою работу и будет закрыт. Мы высоко ценим ваше участие и тот вклад, который вы внесли в развитие нашего сообщества. Пожалуйста, не забудьте сохранить ваши фотографии до этой даты.
С уважением, команда iXBT.com
| Последняя капля |
Последняя капля
- Раздел: Другое, разное
- Дата съёмки: 23.09.2009 12:46
- Дата загрузки фото: 23.11.2009 19:48
- Оригинальная фотография: 800 x 539 (169 Кб)
- Технические характеристики:
- Фотоаппарат: Canon PowerShot G10
- Выдержка: 1/250
- Диафрагма: 8,0
- Светочувствительность: 80
- Фокусное расстояние: 30,5 mm
- Полный EXIF
- Adobe
- ColorTransform: YCbCr
- Composite
- Aperture: 8,0
- FocalLength35efl: 30,5 mm
- ShutterSpeed: 1/250
- ExifIFD
- ApertureValue: 8,0
- CreateDate: 2009:09:23 12:46:35
- CustomRendered: Normal
- DateTimeOriginal: 2009:09:23 12:46:35
- DigitalZoomRatio: 2,15625
- ExposureCompensation: 0
- ExposureMode: Manual
- ExposureTime: 1/250
- FNumber: 8,0
- Flash: On, Red-eye reduction
- FocalLength: 30,5 mm
- ISO: 80
- MaxApertureValue: 4,5
- MeteringMode: Multi-segment
- SceneCaptureType: Standard
- SensingMethod: One-chip color area
- ShutterSpeedValue: 1/250
- WhiteBalance: Manual
- ICC-header
- ICC-meas
- ICC-view
- IFD0
- Artist: Andrei Kalabuhov
- Copyright: Andrei Kalabuhov
- Make: Canon
- Model: Canon PowerShot G10
- ModifyDate: 2009:09:24 12:02:57
- IFD1
- IPTC
- By-line: Andrei Kalabuhov
- By-lineTitle: Photographer
- CopyrightNotice: Andrei Kalabuhov
- XMP-aux
- Firmware: 1.03
- FlashCompensation: 0
- Lens: 6.1-30.5 mm
- LensInfo: 6100/1000 30500/1000 0/0 0/0
- XMP-crs
- AlreadyApplied: True
- BlueHue: 0
- BlueSaturation: 0
- Brightness: +76
- CameraProfile: Embedded
- ChromaticAberrationB: 0
- ChromaticAberrationR: -6
- Clarity: +6
- ColorNoiseReduction: 34
- Contrast: -39
- ConvertToGrayscale: False
- CropAngle: 0
- CropBottom: 0.933735
- CropHeight: 539
- CropLeft: 0
- CropRight: 1
- CropTop: 0.036145
- CropUnit: 0
- CropWidth: 800
- Defringe: 0
- Exposure: +0.24
- FillLight: 0
- GreenHue: 0
- GreenSaturation: 0
- HasCrop: True
- HasSettings: True
- HighlightRecovery: 88
- HueAdjustmentAqua: 0
- HueAdjustmentBlue: 0
- HueAdjustmentGreen: 0
- HueAdjustmentMagenta: 0
- HueAdjustmentOrange: 0
- HueAdjustmentPurple: 0
- HueAdjustmentRed: 0
- HueAdjustmentYellow: 0
- IncrementalTemperature: 0
- IncrementalTint: 0
- LuminanceAdjustmentAqua: 0
- LuminanceAdjustmentBlue: 0
- LuminanceAdjustmentGreen: 0
- LuminanceAdjustmentMagenta: 0
- LuminanceAdjustmentOrange: 0
- LuminanceAdjustmentPurple: 0
- LuminanceAdjustmentRed: 0
- LuminanceAdjustmentYellow: 0
- LuminanceSmoothing: 84
- ParametricDarks: +46
- ParametricHighlightSplit: 75
- ParametricHighlights: +69
- ParametricLights: +79
- ParametricMidtoneSplit: 50
- ParametricShadowSplit: 25
- ParametricShadows: -60
- PostCropVignetteAmount: 0
- RedHue: 0
- RedSaturation: 0
- Saturation: -20
- SaturationAdjustmentAqua: 0
- SaturationAdjustmentBlue: +41
- SaturationAdjustmentGreen: +53
- SaturationAdjustmentMagenta: +41
- SaturationAdjustmentOrange: 0
- SaturationAdjustmentPurple: 0
- SaturationAdjustmentRed: 0
- SaturationAdjustmentYellow: 0
- ShadowTint: 0
- Shadows: 29
- SharpenDetail: 25
- SharpenEdgeMasking: 0
- SharpenRadius: +0.9
- Sharpness: 44
- SplitToningBalance: 0
- SplitToningHighlightHue: 0
- SplitToningHighlightSaturation: 0
- SplitToningShadowHue: 0
- SplitToningShadowSaturation: 0
- ToneCurve: 0, 0, 32, 22, 64, 56, 128, 128, 192, 196, 255, 255
- ToneCurveName: Medium Contrast
- Version: 5.4
- Vibrance: -51
- VignetteAmount: -79
- VignetteMidpoint: 44
- WhiteBalance: As Shot
- XMP-dc
- Creator: Andrei Kalabuhov
- Rights: Andrei Kalabuhov
- XMP-exif
- DateTimeDigitized: 2009:09:23 12:46:35+03:00
- DateTimeOriginal: 2009:09:23 12:46:35+03:00
- ExifImageHeight: 539
- ExifImageWidth: 800
- FlashFired: True
- FlashFunction: False
- FlashMode: On
- FlashRedEyeMode: True
- FlashReturn: No return detection
- XMP-iptcCore
- CreatorContactInfoCiAdrCity: Minsk
- CreatorContactInfoCiAdrCtry: Belarus
- CreatorContactInfoCiEmailWork: avk2512@gmail.com
- CreatorContactInfoCiTelWork: +375 (29) 625-11-45
- XMP-tiff
- ImageHeight: 539
- ImageWidth: 800
- XMP-xmp
- CreateDate: 2009:09:23 12:46:35+03:00
- ModifyDate: 2009:09:24 12:02:57+03:00
Получить код для блога
| Вставка фотографии в текущем разрешении |
Вставка миниатюры |
HTML (для вставки в блог):
BBCode (для вставки в форум):
Ссылка на фото:
Ссылка на миниатюру:
- Послать ссылку другу
| Комментарии к фотографии |