Уважаемые друзья и участники проекта iXBT.photo! К сожалению, 1 марта 2026 года проект iXBT.photo прекратит свою работу и будет закрыт. Мы высоко ценим ваше участие и тот вклад, который вы внесли в развитие нашего сообщества. Пожалуйста, не забудьте сохранить ваши фотографии до этой даты.
С уважением, команда iXBT.com
| Энергия |
Энергия
- Раздел: Другое, разное
- Дата съёмки: 26.09.2009 22:46
- Дата загрузки фото: 23.11.2009 19:48
- Оригинальная фотография: 800 x 600 (230 Кб)
- Технические характеристики:
- Фотоаппарат: Canon PowerShot G10
- Выдержка: 1/60
- Гиперфокальное расстояние: 41,21 m
- Диафрагма: 4,0
- Светочувствительность: 200
- Фокусное расстояние: 15,7 mm (35 mm equivalent: 316,0 mm)
- Полный EXIF
- Adobe
- ColorTransform: YCbCr
- Composite
- Aperture: 4,0
- CircleOfConfusion: 0,001 mm
- FOV: 6,0 deg
- FocalLength35efl: 15,7 mm (35 mm equivalent: 316,0 mm)
- HyperfocalDistance: 41,21 m
- ScaleFactor35efl: 20,2
- ShutterSpeed: 1/60
- ExifIFD
- ApertureValue: 4,0
- CreateDate: 2009:09:26 22:46:02
- CustomRendered: Normal
- DateTimeOriginal: 2009:09:26 22:46:02
- DigitalZoomRatio: 1
- ExposureCompensation: 0
- ExposureMode: Auto
- ExposureTime: 1/60
- FNumber: 4,0
- Flash: On, Red-eye reduction
- FocalLength: 15,7 mm
- ISO: 200
- MaxApertureValue: 3,5
- MeteringMode: Multi-segment
- SceneCaptureType: Standard
- SensingMethod: One-chip color area
- ShutterSpeedValue: 1/60
- WhiteBalance: Auto
- ICC-header
- ICC-meas
- ICC-view
- IFD0
- Artist: Andrei Kalabuhov
- Copyright: Andrei Kalabuhov
- Make: Canon
- Model: Canon PowerShot G10
- ModifyDate: 2009:09:29 14:13:13
- IFD1
- IPTC
- By-line: Andrei Kalabuhov
- By-lineTitle: Photographer
- CopyrightNotice: Andrei Kalabuhov
- XMP-aux
- Firmware: 1.03
- FlashCompensation: 0
- Lens: 6.1-30.5 mm
- LensInfo: 6100/1000 30500/1000 0/0 0/0
- XMP-crs
- AlreadyApplied: True
- BlueHue: 0
- BlueSaturation: 0
- Brightness: +50
- CameraProfile: Embedded
- ChromaticAberrationB: 0
- ChromaticAberrationR: 0
- Clarity: +30
- ColorNoiseReduction: 41
- Contrast: +73
- ConvertToGrayscale: False
- Defringe: 0
- Exposure: 0.00
- FillLight: 33
- GreenHue: 0
- GreenSaturation: 0
- HasCrop: False
- HasSettings: True
- HighlightRecovery: 15
- HueAdjustmentAqua: 0
- HueAdjustmentBlue: 0
- HueAdjustmentGreen: 0
- HueAdjustmentMagenta: 0
- HueAdjustmentOrange: -2
- HueAdjustmentPurple: 0
- HueAdjustmentRed: 0
- HueAdjustmentYellow: -21
- IncrementalTemperature: 0
- IncrementalTint: 0
- LuminanceAdjustmentAqua: 0
- LuminanceAdjustmentBlue: 0
- LuminanceAdjustmentGreen: 0
- LuminanceAdjustmentMagenta: 0
- LuminanceAdjustmentOrange: +43
- LuminanceAdjustmentPurple: 0
- LuminanceAdjustmentRed: 0
- LuminanceAdjustmentYellow: +38
- LuminanceSmoothing: 100
- ParametricDarks: -8
- ParametricHighlightSplit: 75
- ParametricHighlights: 0
- ParametricLights: +19
- ParametricMidtoneSplit: 50
- ParametricShadowSplit: 14
- ParametricShadows: +8
- PostCropVignetteAmount: 0
- RedHue: 0
- RedSaturation: -2
- Saturation: -10
- SaturationAdjustmentAqua: -100
- SaturationAdjustmentBlue: -100
- SaturationAdjustmentGreen: -100
- SaturationAdjustmentMagenta: -100
- SaturationAdjustmentOrange: -100
- SaturationAdjustmentPurple: -100
- SaturationAdjustmentRed: -100
- SaturationAdjustmentYellow: +10
- ShadowTint: 0
- Shadows: 12
- SharpenDetail: 25
- SharpenEdgeMasking: 0
- SharpenRadius: +1.0
- Sharpness: 25
- SplitToningBalance: +53
- SplitToningHighlightHue: 26
- SplitToningHighlightSaturation: 20
- SplitToningShadowHue: 266
- SplitToningShadowSaturation: 7
- ToneCurve: 0, 0, 32, 22, 64, 56, 128, 128, 192, 196, 255, 255
- ToneCurveName: Medium Contrast
- Version: 5.5
- Vibrance: +40
- VignetteAmount: -64
- VignetteMidpoint: 49
- WhiteBalance: As Shot
- XMP-dc
- Creator: Andrei Kalabuhov
- Rights: Andrei Kalabuhov
- XMP-exif
- DateTimeDigitized: 2009:09:26 22:46:02+03:00
- DateTimeOriginal: 2009:09:26 22:46:02+03:00
- ExifImageHeight: 600
- ExifImageWidth: 800
- FlashFired: True
- FlashFunction: False
- FlashMode: On
- FlashRedEyeMode: True
- FlashReturn: No return detection
- XMP-iptcCore
- CreatorContactInfoCiAdrCity: Minsk
- CreatorContactInfoCiAdrCtry: Belarus
- CreatorContactInfoCiEmailWork: avk2512@gmail.com
- CreatorContactInfoCiTelWork: +375 (29) 625-11-45
- XMP-tiff
- ImageHeight: 600
- ImageWidth: 800
- XMP-xmp
- CreateDate: 2009:09:26 22:46:02+03:00
- Label: Yellow
- ModifyDate: 2009:09:29 14:13:13+02:00
- Rating: 5
- Просмотров: 363
- Рейтинг: голосов еще нет
- Отзывов: 0
Получить код для блога
| Вставка фотографии в текущем разрешении |
Вставка миниатюры |
HTML (для вставки в блог):
BBCode (для вставки в форум):
Ссылка на фото:
Ссылка на миниатюру:
- Послать ссылку другу
| Комментарии к фотографии |