Уважаемые друзья и участники проекта iXBT.photo! К сожалению, 1 марта 2026 года проект iXBT.photo прекратит свою работу и будет закрыт. Мы высоко ценим ваше участие и тот вклад, который вы внесли в развитие нашего сообщества. Пожалуйста, не забудьте сохранить ваши фотографии до этой даты.
С уважением, команда iXBT.com
| Sin City |
Sin City
- Раздел: Другое, разное
- Дата съёмки: 05.08.2009 18:59
- Дата загрузки фото: 23.11.2009 19:48
- Оригинальная фотография: 680 x 600 (250 Кб)
- Технические характеристики:
- Фотоаппарат: Canon PowerShot G10
- Выдержка: 1/10
- Гиперфокальное расстояние: 131,08 m
- Диафрагма: 4,5
- Светочувствительность: 800
- Фокусное расстояние: 25,0 mm (35 mm equivalent: 709,5 mm)
- Полный EXIF
- Adobe
- ColorTransform: YCbCr
- Composite
- Aperture: 4,5
- CircleOfConfusion: 0,001 mm
- FOV: 2,0 deg
- FocalLength35efl: 25,0 mm (35 mm equivalent: 709,5 mm)
- HyperfocalDistance: 131,08 m
- ScaleFactor35efl: 28,4
- ShutterSpeed: 1/10
- ExifIFD
- ApertureValue: 4,5
- CreateDate: 2009:08:05 18:59:28
- CustomRendered: Normal
- DateTimeOriginal: 2009:08:05 18:59:28
- DigitalZoomRatio: 1
- ExposureCompensation: 0
- ExposureMode: Auto
- ExposureTime: 1/10
- FNumber: 4,5
- Flash: Off
- FocalLength: 25,0 mm
- ISO: 800
- MaxApertureValue: 4,5
- MeteringMode: Multi-segment
- SceneCaptureType: Standard
- SensingMethod: One-chip color area
- ShutterSpeedValue: 1/10
- WhiteBalance: Auto
- ICC-header
- ICC-meas
- ICC-view
- IFD0
- Artist: Andrei Kalabuhov
- Copyright: Andrei Kalabuhov
- Make: Canon
- Model: Canon PowerShot G10
- ModifyDate: 2009:09:24 15:33:59
- IFD1
- IPTC
- By-line: Andrei Kalabuhov
- CopyrightNotice: Andrei Kalabuhov
- Country-PrimaryLocationName: Thailand
- Keywords: Phuket, Thailand
- Sub-location: Thailand
- XMP-aux
- Firmware: 1.03
- FlashCompensation: 0
- Lens: 6.1-30.5 mm
- LensInfo: 6100/1000 30500/1000 0/0 0/0
- XMP-crs
- AlreadyApplied: True
- BlueHue: 0
- BlueSaturation: 0
- Brightness: +19
- CameraProfile: Embedded
- ChromaticAberrationB: 0
- ChromaticAberrationR: 0
- Clarity: +18
- ColorNoiseReduction: 0
- Contrast: +30
- ConvertToGrayscale: False
- CropAngle: 0
- CropBottom: 1
- CropHeight: 600
- CropLeft: 0
- CropRight: 0.850467
- CropTop: 0
- CropUnit: 0
- CropWidth: 680
- Defringe: 0
- Exposure: -0.12
- FillLight: 0
- GreenHue: 0
- GreenSaturation: 0
- HasCrop: True
- HasSettings: True
- HighlightRecovery: 22
- HueAdjustmentAqua: 0
- HueAdjustmentBlue: 0
- HueAdjustmentGreen: -26
- HueAdjustmentMagenta: 0
- HueAdjustmentOrange: 0
- HueAdjustmentPurple: 0
- HueAdjustmentRed: 0
- HueAdjustmentYellow: +11
- IncrementalTemperature: +20
- IncrementalTint: -28
- LuminanceAdjustmentAqua: 0
- LuminanceAdjustmentBlue: 0
- LuminanceAdjustmentGreen: -100
- LuminanceAdjustmentMagenta: 0
- LuminanceAdjustmentOrange: 0
- LuminanceAdjustmentPurple: 0
- LuminanceAdjustmentRed: 0
- LuminanceAdjustmentYellow: 0
- LuminanceSmoothing: 0
- ParametricDarks: -40
- ParametricHighlightSplit: 75
- ParametricHighlights: -22
- ParametricLights: +17
- ParametricMidtoneSplit: 50
- ParametricShadowSplit: 25
- ParametricShadows: -24
- PostCropVignetteAmount: 0
- RedHue: 0
- RedSaturation: 0
- Saturation: -13
- SaturationAdjustmentAqua: -100
- SaturationAdjustmentBlue: -100
- SaturationAdjustmentGreen: -100
- SaturationAdjustmentMagenta: -100
- SaturationAdjustmentOrange: 0
- SaturationAdjustmentPurple: -100
- SaturationAdjustmentRed: +100
- SaturationAdjustmentYellow: -67
- ShadowTint: 0
- Shadows: 10
- SharpenDetail: 25
- SharpenEdgeMasking: 0
- SharpenRadius: +1.0
- Sharpness: 0
- SplitToningBalance: -100
- SplitToningHighlightHue: 237
- SplitToningHighlightSaturation: 0
- SplitToningShadowHue: 39
- SplitToningShadowSaturation: 13
- ToneCurve: 0, 0, 255, 255
- ToneCurveName: Linear
- Version: 5.4
- Vibrance: -22
- VignetteAmount: -100
- VignetteMidpoint: 50
- WhiteBalance: Custom
- XMP-dc
- Creator: Andrei Kalabuhov
- Rights: Andrei Kalabuhov
- Subject: Phuket, Thailand
- XMP-exif
- DateTimeDigitized: 2009:08:05 18:59:28+03:00
- DateTimeOriginal: 2009:08:05 18:59:28+03:00
- ExifImageHeight: 600
- ExifImageWidth: 680
- FlashFired: False
- FlashFunction: False
- FlashMode: Off
- FlashRedEyeMode: False
- FlashReturn: No return detection
- XMP-iptcCore
- CreatorContactInfoCiAdrCity: Minsk
- CreatorContactInfoCiAdrCtry: Belarus
- CreatorContactInfoCiEmailWork: andrei.kalabuhov@gmail.com
- Location: Thailand
- XMP-tiff
- ImageHeight: 600
- ImageWidth: 680
- XMP-xmp
- CreateDate: 2009:08:05 18:59:28+03:00
- ModifyDate: 2009:09:24 15:33:59+03:00
- Rating: 5
- XMP-xmpRights
- Просмотров: 369
- Рейтинг: голосов еще нет
- Отзывов: 0
Получить код для блога
| Вставка фотографии в текущем разрешении |
Вставка миниатюры |
HTML (для вставки в блог):
BBCode (для вставки в форум):
Ссылка на фото:
Ссылка на миниатюру:
- Послать ссылку другу
| Комментарии к фотографии |