Уважаемые друзья и участники проекта iXBT.photo! К сожалению, 1 марта 2026 года проект iXBT.photo прекратит свою работу и будет закрыт. Мы высоко ценим ваше участие и тот вклад, который вы внесли в развитие нашего сообщества. Пожалуйста, не забудьте сохранить ваши фотографии до этой даты.
С уважением, команда iXBT.com
| Минск |
Минск
- Раздел: Другое, разное
- Дата съёмки: 24.08.2009 10:43
- Дата загрузки фото: 23.11.2009 19:48
- Оригинальная фотография: 800 x 600 (637 Кб)
- Технические характеристики:
- Фотоаппарат: Canon PowerShot G10
- Выдержка: 1/640
- Гиперфокальное расстояние: 5,70 m
- Диафрагма: 5,6
- Светочувствительность: 80
- Фокусное расстояние: 6,1 mm (35 mm equivalent: 157,1 mm)
- Полный EXIF
- Adobe
- ColorTransform: YCbCr
- Composite
- Aperture: 5,6
- CircleOfConfusion: 0,001 mm
- FOV: 13,0 deg
- FocalLength35efl: 6,1 mm (35 mm equivalent: 157,1 mm)
- HyperfocalDistance: 5,70 m
- ScaleFactor35efl: 25,8
- ShutterSpeed: 1/640
- ExifIFD
- ApertureValue: 5,6
- CreateDate: 2009:08:24 10:43:31
- CustomRendered: Normal
- DateTimeOriginal: 2009:08:24 10:43:31
- DigitalZoomRatio: 1
- ExposureCompensation: 0
- ExposureMode: Auto
- ExposureTime: 1/640
- FNumber: 5,6
- Flash: Off
- FocalLength: 6,1 mm
- ISO: 80
- MaxApertureValue: 2,8
- MeteringMode: Multi-segment
- SceneCaptureType: Standard
- SensingMethod: One-chip color area
- ShutterSpeedValue: 1/640
- WhiteBalance: Auto
- ICC-header
- ICC-meas
- ICC-view
- IFD0
- Artist: Andrei Kalabuhov
- Copyright: Andrei Kalabuhov
- Make: Canon
- Model: Canon PowerShot G10
- ModifyDate: 2009:09:22 17:41:43
- IFD1
- IPTC
- By-line: Andrei Kalabuhov
- CopyrightNotice: Andrei Kalabuhov
- Keywords: Belarus, Minsk
- XMP-aux
- Firmware: 1.03
- FlashCompensation: 0
- Lens: 6.1-30.5 mm
- LensInfo: 6100/1000 30500/1000 0/0 0/0
- XMP-crs
- AlreadyApplied: True
- BlueHue: 0
- BlueSaturation: 0
- Brightness: +60
- CameraProfile: Embedded
- ChromaticAberrationB: 0
- ChromaticAberrationR: +4
- Clarity: +49
- ColorNoiseReduction: 0
- Contrast: +55
- ConvertToGrayscale: False
- Defringe: 0
- Exposure: 0.00
- FillLight: 23
- GreenHue: 0
- GreenSaturation: 0
- HasCrop: False
- HasSettings: True
- HighlightRecovery: 100
- HueAdjustmentAqua: 0
- HueAdjustmentBlue: 0
- HueAdjustmentGreen: 0
- HueAdjustmentMagenta: 0
- HueAdjustmentOrange: 0
- HueAdjustmentPurple: 0
- HueAdjustmentRed: 0
- HueAdjustmentYellow: 0
- IncrementalTemperature: 0
- IncrementalTint: 0
- LuminanceAdjustmentAqua: 0
- LuminanceAdjustmentBlue: 0
- LuminanceAdjustmentGreen: 0
- LuminanceAdjustmentMagenta: 0
- LuminanceAdjustmentOrange: 0
- LuminanceAdjustmentPurple: 0
- LuminanceAdjustmentRed: 0
- LuminanceAdjustmentYellow: 0
- LuminanceSmoothing: 100
- ParametricDarks: 0
- ParametricHighlightSplit: 75
- ParametricHighlights: 0
- ParametricLights: 0
- ParametricMidtoneSplit: 50
- ParametricShadowSplit: 25
- ParametricShadows: 0
- PostCropVignetteAmount: -27
- PostCropVignetteFeather: 50
- PostCropVignetteMidpoint: 73
- PostCropVignetteRoundness: 0
- RedHue: 0
- RedSaturation: 0
- Saturation: 0
- SaturationAdjustmentAqua: +100
- SaturationAdjustmentBlue: +100
- SaturationAdjustmentGreen: +59
- SaturationAdjustmentMagenta: 0
- SaturationAdjustmentOrange: +100
- SaturationAdjustmentPurple: 0
- SaturationAdjustmentRed: 0
- SaturationAdjustmentYellow: +35
- ShadowTint: 0
- Shadows: 10
- SharpenDetail: 25
- SharpenEdgeMasking: 0
- SharpenRadius: +1.0
- Sharpness: 0
- SplitToningBalance: 0
- SplitToningHighlightHue: 0
- SplitToningHighlightSaturation: 0
- SplitToningShadowHue: 0
- SplitToningShadowSaturation: 0
- ToneCurve: 0, 0, 255, 255
- ToneCurveName: Linear
- Version: 5.4
- Vibrance: 0
- VignetteAmount: -52
- VignetteMidpoint: 50
- WhiteBalance: As Shot
- XMP-dc
- Creator: Andrei Kalabuhov
- Rights: Andrei Kalabuhov
- Subject: Belarus, Minsk
- XMP-exif
- DateTimeDigitized: 2009:08:24 10:43:31+03:00
- DateTimeOriginal: 2009:08:24 10:43:31+03:00
- ExifImageHeight: 600
- ExifImageWidth: 800
- FlashFired: False
- FlashFunction: False
- FlashMode: Off
- FlashRedEyeMode: False
- FlashReturn: No return detection
- XMP-iptcCore
- CreatorContactInfoCiAdrCity: Minsk
- CreatorContactInfoCiAdrCtry: Belarus
- CreatorContactInfoCiEmailWork: andrei.kalabuhov@gmail.com
- CreatorContactInfoCiTelWork: +375 (29) 625-11-45
- XMP-tiff
- ImageHeight: 600
- ImageWidth: 800
- XMP-xmp
- CreateDate: 2009:08:24 10:43:31+03:00
- ModifyDate: 2009:09:22 17:41:43+03:00
- Rating: 5
- XMP-xmpRights
- Просмотров: 297
- Рейтинг: голосов еще нет
- Отзывов: 0
Получить код для блога
| Вставка фотографии в текущем разрешении |
Вставка миниатюры |
HTML (для вставки в блог):
BBCode (для вставки в форум):
Ссылка на фото:
Ссылка на миниатюру:
- Послать ссылку другу
| Комментарии к фотографии |