Уважаемые друзья и участники проекта iXBT.photo! К сожалению, 1 марта 2026 года проект iXBT.photo прекратит свою работу и будет закрыт. Мы высоко ценим ваше участие и тот вклад, который вы внесли в развитие нашего сообщества. Пожалуйста, не забудьте сохранить ваши фотографии до этой даты.
С уважением, команда iXBT.com
| О фонтанах |
О фонтанах
- Раздел: Другое, разное
- Дата съёмки: 27.07.2009 21:33
- Дата загрузки фото: 23.11.2009 19:48
- Оригинальная фотография: 900 x 675 (249 Кб)
- Технические характеристики:
- Фотоаппарат: Canon PowerShot G10
- Выдержка: 15,0
- Гиперфокальное расстояние: 32,07 m
- Диафрагма: 4,5
- Светочувствительность: 80
- Фокусное расстояние: 13,8 mm (35 mm equivalent: 315,1 mm)
- Полный EXIF
- Adobe
- ColorTransform: YCbCr
- Composite
- Aperture: 4,5
- CircleOfConfusion: 0,001 mm
- FOV: 6,0 deg
- FocalLength35efl: 13,8 mm (35 mm equivalent: 315,1 mm)
- HyperfocalDistance: 32,07 m
- LightValue: 0,4
- ScaleFactor35efl: 22,9
- ShutterSpeed: 15,0
- ExifIFD
- ApertureValue: 4,5
- CreateDate: 2009:07:27 21:33:51
- CustomRendered: Normal
- DateTimeOriginal: 2009:07:27 21:33:51
- DigitalZoomRatio: 1
- ExposureCompensation: 0
- ExposureMode: Manual
- ExposureTime: 15,0
- FNumber: 4,5
- Flash: Off
- FocalLength: 13,8 mm
- ISO: 80
- MaxApertureValue: 3,5
- MeteringMode: Multi-segment
- SceneCaptureType: Standard
- SensingMethod: One-chip color area
- ShutterSpeedValue: 15,0
- WhiteBalance: Manual
- ICC-header
- ICC-meas
- ICC-view
- IFD0
- Artist: Andrei Kalabuhov
- Copyright: Andrei Kalabuhov
- Make: Canon
- Model: Canon PowerShot G10
- ModifyDate: 2009:11:12 15:10:27
- IFD1
- IPTC
- By-line: Andrei Kalabuhov
- CopyrightNotice: Andrei Kalabuhov
- Country-PrimaryLocationName: Thailand
- Keywords: Naithonburi Beach Hotel, Phuket, Thailand
- Sub-location: Thailand
- XMP-aux
- Firmware: 1.03
- FlashCompensation: 0
- Lens: 6.1-30.5 mm
- LensInfo: 6100/1000 30500/1000 0/0 0/0
- XMP-crs
- AlreadyApplied: True
- BlueHue: 0
- BlueSaturation: 0
- Brightness: 0
- CameraProfile: Embedded
- ChromaticAberrationB: 0
- ChromaticAberrationR: 0
- Clarity: 0
- ColorNoiseReduction: 32
- Contrast: -25
- ConvertToGrayscale: False
- CropAngle: -0.347713
- CropBottom: 0.976768
- CropHeight: 675
- CropLeft: 0.017155
- CropRight: 0.982845
- CropTop: 0.023232
- CropUnit: 0
- CropWidth: 900
- Defringe: 0
- Exposure: 0.00
- FillLight: 0
- GreenHue: 0
- GreenSaturation: 0
- HasCrop: True
- HasSettings: True
- HighlightRecovery: 100
- HueAdjustmentAqua: 0
- HueAdjustmentBlue: 0
- HueAdjustmentGreen: 0
- HueAdjustmentMagenta: 0
- HueAdjustmentOrange: 0
- HueAdjustmentPurple: 0
- HueAdjustmentRed: 0
- HueAdjustmentYellow: 0
- IncrementalTemperature: +11
- IncrementalTint: +14
- LuminanceAdjustmentAqua: 0
- LuminanceAdjustmentBlue: 0
- LuminanceAdjustmentGreen: 0
- LuminanceAdjustmentMagenta: 0
- LuminanceAdjustmentOrange: 0
- LuminanceAdjustmentPurple: 0
- LuminanceAdjustmentRed: 0
- LuminanceAdjustmentYellow: 0
- LuminanceSmoothing: 56
- ParametricDarks: -37
- ParametricHighlightSplit: 75
- ParametricHighlights: +2
- ParametricLights: +19
- ParametricMidtoneSplit: 50
- ParametricShadowSplit: 25
- ParametricShadows: 0
- PostCropVignetteAmount: 0
- RedHue: 0
- RedSaturation: 0
- Saturation: 0
- SaturationAdjustmentAqua: 0
- SaturationAdjustmentBlue: 0
- SaturationAdjustmentGreen: 0
- SaturationAdjustmentMagenta: 0
- SaturationAdjustmentOrange: 0
- SaturationAdjustmentPurple: 0
- SaturationAdjustmentRed: 0
- SaturationAdjustmentYellow: 0
- ShadowTint: 0
- Shadows: 1
- SharpenDetail: 25
- SharpenEdgeMasking: 90
- SharpenRadius: +1.0
- Sharpness: 41
- SplitToningBalance: 0
- SplitToningHighlightHue: 0
- SplitToningHighlightSaturation: 0
- SplitToningShadowHue: 0
- SplitToningShadowSaturation: 0
- ToneCurve: 0, 0, 255, 255
- ToneCurveName: Linear
- Version: 5.5
- Vibrance: 0
- VignetteAmount: 0
- WhiteBalance: Custom
- XMP-dc
- Creator: Andrei Kalabuhov
- Rights: Andrei Kalabuhov
- Subject: Naithonburi Beach Hotel, Phuket, Thailand
- XMP-exif
- DateTimeDigitized: 2009:07:27 21:33:51+03:00
- DateTimeOriginal: 2009:07:27 21:33:51+03:00
- ExifImageHeight: 675
- ExifImageWidth: 900
- FlashFired: False
- FlashFunction: False
- FlashMode: Off
- FlashRedEyeMode: False
- FlashReturn: No return detection
- XMP-iptcCore
- CreatorContactInfoCiAdrCity: Minsk
- CreatorContactInfoCiAdrCtry: Belarus
- CreatorContactInfoCiEmailWork: andrei.kalabuhov@gmail.com
- Location: Thailand
- XMP-tiff
- ImageHeight: 675
- ImageWidth: 900
- XMP-xmp
- CreateDate: 2009:07:27 21:33:51+03:00
- ModifyDate: 2009:11:12 15:10:27+02:00
- XMP-xmpRights
Получить код для блога
| Вставка фотографии в текущем разрешении |
Вставка миниатюры |
HTML (для вставки в блог):
BBCode (для вставки в форум):
Ссылка на фото:
Ссылка на миниатюру:
- Послать ссылку другу
| Комментарии к фотографии |