Уважаемые друзья и участники проекта iXBT.photo! К сожалению, 1 марта 2026 года проект iXBT.photo прекратит свою работу и будет закрыт. Мы высоко ценим ваше участие и тот вклад, который вы внесли в развитие нашего сообщества. Пожалуйста, не забудьте сохранить ваши фотографии до этой даты.
С уважением, команда iXBT.com
| Озарение |
Озарение
- Раздел: Другое, разное
- Дата съёмки: 02.08.2009 17:50
- Дата загрузки фото: 23.11.2009 19:48
- Оригинальная фотография: 900 x 675 (171 Кб)
- Технические характеристики:
- Фотоаппарат: Canon PowerShot G10
- Выдержка: 1/2000
- Гиперфокальное расстояние: 25,77 m
- Диафрагма: 5,6
- Светочувствительность: 80
- Фокусное расстояние: 13,8 mm (35 mm equivalent: 315,1 mm)
- Полный EXIF
- Adobe
- ColorTransform: YCbCr
- Composite
- Aperture: 5,6
- CircleOfConfusion: 0,001 mm
- FOV: 6,0 deg
- FocalLength35efl: 13,8 mm (35 mm equivalent: 315,1 mm)
- HyperfocalDistance: 25,77 m
- ScaleFactor35efl: 22,9
- ShutterSpeed: 1/2000
- ExifIFD
- ApertureValue: 5,6
- CreateDate: 2009:08:02 17:50:39
- CustomRendered: Normal
- DateTimeOriginal: 2009:08:02 17:50:39
- DigitalZoomRatio: 1
- ExposureCompensation: 0
- ExposureMode: Auto
- ExposureTime: 1/2000
- FNumber: 5,6
- Flash: Off
- FocalLength: 13,8 mm
- ISO: 80
- MaxApertureValue: 3,5
- MeteringMode: Multi-segment
- SceneCaptureType: Standard
- SensingMethod: One-chip color area
- ShutterSpeedValue: 1/2000
- WhiteBalance: Auto
- ICC-header
- ICC-meas
- ICC-view
- IFD0
- Artist: Andrei Kalabuhov
- Copyright: (c) Andrei Kalabuhov
- Make: Canon
- Model: Canon PowerShot G10
- ModifyDate: 2009:11:19 17:57:34
- Software: Picasa 3.0
- IFD1
- IPTC
- By-line: (c) Andrei Kalabuhov
- By-lineTitle: Photographer
- CopyrightNotice: (c) Andrei Kalabuhov
- Country-PrimaryLocationName: Thailand
- Keywords: Andaman Sea, Indian Ocean, Nature, Phuket, Sea Canoe, Thailand
- Sub-location: Thailand
- XMP-aux
- Firmware: 1.03
- FlashCompensation: 0
- Lens: 6.1-30.5 mm
- LensInfo: 6100/1000 30500/1000 0/0 0/0
- XMP-crs
- AlreadyApplied: True
- BlueHue: -1
- BlueSaturation: 0
- Brightness: +12
- CameraProfile: Embedded
- ChromaticAberrationB: 0
- ChromaticAberrationR: 0
- Clarity: +85
- ColorNoiseReduction: 7
- Contrast: +36
- ConvertToGrayscale: False
- CropAngle: 0
- CropBottom: 0.894737
- CropHeight: 675
- CropLeft: 0
- CropRight: 0.894737
- CropTop: 0
- CropUnit: 0
- CropWidth: 900
- Defringe: 0
- Exposure: +0.80
- FillLight: 12
- GradientBasedCorrectionsCorrectionActive: true
- GradientBasedCorrectionsCorrectionAmount: 1.000000
- GradientBasedCorrectionsCorrectionMasksFullX: 0.479652
- GradientBasedCorrectionsCorrectionMasksFullY: 0.779816
- GradientBasedCorrectionsCorrectionMasksMaskValue: 1.000000
- GradientBasedCorrectionsCorrectionMasksWhat: Mask/Gradient
- GradientBasedCorrectionsCorrectionMasksZeroX: 0.479652
- GradientBasedCorrectionsCorrectionMasksZeroY: 0.000001
- GradientBasedCorrectionsLocalBrightness: 0.000000
- GradientBasedCorrectionsLocalClarity: 0.505000
- GradientBasedCorrectionsLocalContrast: 0.753000
- GradientBasedCorrectionsLocalExposure: -0.134000
- GradientBasedCorrectionsLocalSaturation: 0.000000
- GradientBasedCorrectionsLocalSharpness: 0.000000
- GradientBasedCorrectionsLocalToningHue: 0.000000
- GradientBasedCorrectionsLocalToningSaturation: 0.000000
- GradientBasedCorrectionsWhat: Correction
- GreenHue: +6
- GreenSaturation: 0
- HasCrop: True
- HasSettings: True
- HighlightRecovery: 100
- HueAdjustmentAqua: 0
- HueAdjustmentBlue: 0
- HueAdjustmentGreen: 0
- HueAdjustmentMagenta: -4
- HueAdjustmentOrange: -1
- HueAdjustmentPurple: -11
- HueAdjustmentRed: -1
- HueAdjustmentYellow: 0
- IncrementalTemperature: -11
- IncrementalTint: -6
- LuminanceAdjustmentAqua: 0
- LuminanceAdjustmentBlue: 0
- LuminanceAdjustmentGreen: 0
- LuminanceAdjustmentMagenta: 0
- LuminanceAdjustmentOrange: 0
- LuminanceAdjustmentPurple: 0
- LuminanceAdjustmentRed: 0
- LuminanceAdjustmentYellow: 0
- LuminanceSmoothing: 4
- ParametricDarks: -1
- ParametricHighlightSplit: 75
- ParametricHighlights: +38
- ParametricLights: -74
- ParametricMidtoneSplit: 50
- ParametricShadowSplit: 25
- ParametricShadows: +46
- PostCropVignetteAmount: -44
- PostCropVignetteFeather: 50
- PostCropVignetteMidpoint: 50
- PostCropVignetteRoundness: 0
- RedHue: +8
- RedSaturation: 0
- Saturation: -100
- SaturationAdjustmentAqua: 0
- SaturationAdjustmentBlue: 0
- SaturationAdjustmentGreen: 0
- SaturationAdjustmentMagenta: 0
- SaturationAdjustmentOrange: 0
- SaturationAdjustmentPurple: 0
- SaturationAdjustmentRed: 0
- SaturationAdjustmentYellow: 0
- ShadowTint: 0
- Shadows: 0
- SharpenDetail: 25
- SharpenEdgeMasking: 0
- SharpenRadius: +1.0
- Sharpness: 11
- SplitToningBalance: +6
- SplitToningHighlightHue: 0
- SplitToningHighlightSaturation: 1
- SplitToningShadowHue: 6
- SplitToningShadowSaturation: 0
- ToneCurve: 0, 0, 255, 255
- ToneCurveName: Linear
- Version: 5.5
- Vibrance: +46
- VignetteAmount: -48
- VignetteMidpoint: 50
- WhiteBalance: Custom
- XMP-dc
- Creator: (c) Andrei Kalabuhov
- Rights: (c) Andrei Kalabuhov
- Subject: Andaman Sea, Indian Ocean, Nature, Phuket, Sea Canoe, Thailand
- XMP-exif
- DateTimeDigitized: 2009:08:02 17:50:39+03:00
- DateTimeOriginal: 2009:08:02 17:50:39+03:00
- ExifImageHeight: 675
- ExifImageWidth: 900
- FlashFired: False
- FlashFunction: False
- FlashMode: Off
- FlashRedEyeMode: False
- FlashReturn: No return detection
- XMP-iptcCore
- CreatorContactInfoCiAdrCity: Minsk
- CreatorContactInfoCiAdrCtry: Belarus
- CreatorContactInfoCiEmailWork: andrei.kalabuhov@gmail.com
- CreatorContactInfoCiTelWork: +375 (29) 625-11-45
- CreatorContactInfoCiUrlWork: http://kalabuhov.livejournal.com
- Location: Thailand
- XMP-tiff
- ImageHeight: 675
- ImageWidth: 900
- XMP-xmp
- CreateDate: 2009:08:02 17:50:39+03:00
- ModifyDate: 2009:11:19 17:57:34+02:00
- XMP-xmpRights
- Просмотров: 440
- Рейтинг: голосов еще нет
- Отзывов: 0
Получить код для блога
| Вставка фотографии в текущем разрешении |
Вставка миниатюры |
HTML (для вставки в блог):
BBCode (для вставки в форум):
Ссылка на фото:
Ссылка на миниатюру:
- Послать ссылку другу
| Комментарии к фотографии |