DSC_2246.jpg |
DSC_2246.jpg
- Раздел: Отдых, развлечения
- Дата съёмки: 24.10.2009 12:37
- Дата загрузки фото: 25.11.2009 09:22
- Оригинальная фотография: 3258 x 2181 (2,2 Мб)
- Технические характеристики:
- Фотоаппарат: Nikon D60
- Выдержка: 1/100
- Светочувствительность: 800
- Полный EXIF
- Adobe
- ColorTransform: YCbCr
- Composite
- ShutterSpeed: 1/100
- ExifIFD
- CFAPattern: [Green,Blue][Red,Green]
- Contrast: Normal
- CreateDate: 2009:10:24 12:37:34
- CustomRendered: Normal
- DateTimeOriginal: 2009:10:24 12:37:34
- DigitalZoomRatio: 1
- ExposureCompensation: 0
- ExposureMode: Manual
- ExposureProgram: Manual
- ExposureTime: 1/100
- Flash: No Flash
- GainControl: Low gain up
- ISO: 800
- LightSource: Unknown
- MaxApertureValue: 1,0
- MeteringMode: Center-weighted average
- Saturation: Normal
- SceneCaptureType: Standard
- SceneType: Directly photographed
- SensingMethod: One-chip color area
- Sharpness: Hard
- ShutterSpeedValue: 1/100
- SubjectDistanceRange: Unknown
- WhiteBalance: Auto
- ICC-header
- IFD0
- Make: NIKON CORPORATION
- Model: NIKON D60
- ModifyDate: 2009:10:24 21:03:10
- Software: Nikon Transfer 1.0 W
- IFD1
- XMP-aux
- ImageNumber: 13945
- SerialNumber: 6573487
- XMP-crs
- AlreadyApplied: True
- BlueHue: 0
- BlueSaturation: 0
- Brightness: +59
- CameraProfile: ACR 4.4
- ChromaticAberrationB: 0
- ChromaticAberrationR: 0
- Clarity: +38
- ColorNoiseReduction: 25
- Contrast: +28
- ConvertToGrayscale: False
- CropAngle: 7.58815
- CropBottom: 1
- CropLeft: 0.120176
- CropRight: 0.879824
- CropTop: 0
- Defringe: 0
- Exposure: +1.65
- FillLight: 15
- GreenHue: 0
- GreenSaturation: 0
- HasCrop: True
- HasSettings: True
- HighlightRecovery: 5
- HueAdjustmentAqua: 0
- HueAdjustmentBlue: 0
- HueAdjustmentGreen: 0
- HueAdjustmentMagenta: 0
- HueAdjustmentOrange: 0
- HueAdjustmentPurple: 0
- HueAdjustmentRed: 0
- HueAdjustmentYellow: 0
- LuminanceAdjustmentAqua: 0
- LuminanceAdjustmentBlue: 0
- LuminanceAdjustmentGreen: 0
- LuminanceAdjustmentMagenta: 0
- LuminanceAdjustmentOrange: 0
- LuminanceAdjustmentPurple: 0
- LuminanceAdjustmentRed: 0
- LuminanceAdjustmentYellow: 0
- LuminanceSmoothing: 35
- ParametricDarks: 0
- ParametricHighlightSplit: 75
- ParametricHighlights: 0
- ParametricLights: 0
- ParametricMidtoneSplit: 50
- ParametricShadowSplit: 25
- ParametricShadows: 0
- PostCropVignetteAmount: 0
- RawFileName: DSC_2246.NEF
- RedHue: 0
- RedSaturation: 0
- Saturation: -5
- SaturationAdjustmentAqua: 0
- SaturationAdjustmentBlue: 0
- SaturationAdjustmentGreen: 0
- SaturationAdjustmentMagenta: 0
- SaturationAdjustmentOrange: 0
- SaturationAdjustmentPurple: 0
- SaturationAdjustmentRed: 0
- SaturationAdjustmentYellow: 0
- ShadowTint: 0
- Shadows: 5
- SharpenDetail: 25
- SharpenEdgeMasking: 79
- SharpenRadius: +0.8
- Sharpness: 0
- SplitToningBalance: 0
- SplitToningHighlightHue: 0
- SplitToningHighlightSaturation: 0
- SplitToningShadowHue: 0
- SplitToningShadowSaturation: 0
- Temperature: 4550
- Tint: +10
- ToneCurve: 0, 0, 32, 22, 64, 56, 128, 128, 192, 196, 255, 255
- ToneCurveName: Medium Contrast
- Version: 5.5
- Vibrance: 0
- VignetteAmount: 0
- WhiteBalance: As Shot
- XMP-exif
- DateTimeDigitized: 2009:10:24 12:37:34.60+04:00
- DateTimeOriginal: 2009:10:24 12:37:34.60+04:00
- ExifImageHeight: 2181
- ExifImageWidth: 3258
- FlashFired: False
- FlashFunction: False
- FlashMode: Unknown
- FlashRedEyeMode: False
- FlashReturn: No return detection
- XMP-microsoft
- XMP-tiff
- ImageHeight: 2181
- ImageWidth: 3258
- XMP-xmp
- CreateDate: 2009:10:24 12:37:34.60+04:00
- CreatorTool: Nikon Transfer 1.0 W
- ModifyDate: 2009:10:24 21:03:10Z
- Просмотров: 182
- Рейтинг: голосов еще нет
- Отзывов: 0
Получить код для блога
Вставка фотографии в текущем разрешении |
Вставка миниатюры |
HTML (для вставки в блог):
BBCode (для вставки в форум):
Ссылка на фото:
Ссылка на миниатюру:
- Послать ссылку другу
Комментарии к фотографии |