- Раздел: Другое, разное
- Дата съёмки: 18.10.2009 11:04
- Дата загрузки фото: 28.11.2009 17:46
- Оригинальная фотография: 4272 x 2848 (1,7 Мб)
- Технические характеристики:
- Фотоаппарат: Sony DSLR-A700
- Выдержка: 1/250
- Гиперфокальное расстояние: 3,59 m
- Диафрагма: 8,0
- Светочувствительность: 200
- Фокусное расстояние: 24,0 mm (35 mm equivalent: 36,0 mm)
- Экспокоррекция: +0,3
- Полный EXIF
- Adobe
- ColorTransform: YCbCr
- Composite
- Aperture: 8,0
- CircleOfConfusion: 0,020 mm
- FOV: 53,0 deg
- FocalLength35efl: 24,0 mm (35 mm equivalent: 36,0 mm)
- HyperfocalDistance: 3,59 m
- ScaleFactor35efl: 1,5
- ShutterSpeed: 1/250
- ExifIFD
- ApertureValue: 8,0
- BrightnessValue: 8,5
- Contrast: Normal
- CreateDate: 2009:10:18 11:04:26
- CustomRendered: Normal
- DateTimeOriginal: 2009:10:18 11:04:26
- DigitalZoomRatio: 0
- ExposureCompensation: +0,3
- ExposureMode: Auto
- ExposureProgram: Aperture-priority AE
- ExposureTime: 1/250
- FNumber: 8,0
- Flash: Off
- FocalLength: 24,0 mm
- FocalLengthIn35mmFormat: 36 mm
- ISO: 200
- LightSource: Unknown
- MaxApertureValue: 2,8
- MeteringMode: Center-weighted average
- Saturation: Normal
- SceneCaptureType: Standard
- SceneType: Directly photographed
- Sharpness: Normal
- ShutterSpeedValue: 1/250
- WhiteBalance: Auto
- ICC-header
- ICC-meas
- ICC-view
- IFD0
- ImageDescription: SONY DSC
- Make: SONY
- Model: DSLR-A700
- ModifyDate: 2009:11:28 13:40:48
- Software: DSLR-A700 v04
- IFD1
- IPTC
- Caption-Abstract: SONY DSC
- XMP-aux
- Lens: 24mm F2.8
- LensID: 25661
- LensInfo: 24/1 24/1 28/10 28/10
- XMP-crs
- AlreadyApplied: True
- BlueHue: 0
- BlueSaturation: 0
- Brightness: +49
- ChromaticAberrationB: -22
- ChromaticAberrationR: -29
- Clarity: +11
- ColorNoiseReduction: 4
- Contrast: +37
- ConvertToGrayscale: False
- Defringe: 2
- Exposure: -0.25
- FillLight: 66
- GreenHue: 0
- GreenSaturation: 0
- HasCrop: False
- HasSettings: True
- HighlightRecovery: 34
- HueAdjustmentAqua: 0
- HueAdjustmentBlue: 0
- HueAdjustmentGreen: 0
- HueAdjustmentMagenta: 0
- HueAdjustmentOrange: 0
- HueAdjustmentPurple: 0
- HueAdjustmentRed: 0
- HueAdjustmentYellow: 0
- LuminanceAdjustmentAqua: +1
- LuminanceAdjustmentBlue: +4
- LuminanceAdjustmentGreen: -2
- LuminanceAdjustmentMagenta: 0
- LuminanceAdjustmentOrange: +43
- LuminanceAdjustmentPurple: 0
- LuminanceAdjustmentRed: +16
- LuminanceAdjustmentYellow: +36
- LuminanceSmoothing: 1
- ParametricDarks: -3
- ParametricHighlightSplit: 75
- ParametricHighlights: -7
- ParametricLights: -9
- ParametricMidtoneSplit: 50
- ParametricShadowSplit: 25
- ParametricShadows: 0
- PostCropVignetteAmount: 0
- RawFileName: DSC08025.ARW
- RedHue: 0
- RedSaturation: 0
- Saturation: +6
- SaturationAdjustmentAqua: +1
- SaturationAdjustmentBlue: +6
- SaturationAdjustmentGreen: +24
- SaturationAdjustmentMagenta: +6
- SaturationAdjustmentOrange: +26
- SaturationAdjustmentPurple: +4
- SaturationAdjustmentRed: +30
- SaturationAdjustmentYellow: +27
- ShadowTint: 0
- Shadows: 8
- SharpenDetail: 25
- SharpenEdgeMasking: 2
- SharpenRadius: +0.6
- Sharpness: 38
- SplitToningBalance: 0
- SplitToningHighlightHue: 0
- SplitToningHighlightSaturation: 0
- SplitToningShadowHue: 0
- SplitToningShadowSaturation: 0
- Temperature: 6350
- Tint: +5
- ToneCurve: 0, 0, 32, 22, 64, 56, 128, 128, 192, 196, 255, 255
- ToneCurveName: Medium Contrast
- Version: 5.6
- Vibrance: +5
- VignetteAmount: 0
- XMP-dc
- XMP-exif
- DateTimeDigitized: 2009:10:18 11:04:26+06:00
- DateTimeOriginal: 2009:10:18 11:04:26+06:00
- ExifImageHeight: 2848
- ExifImageWidth: 4272
- FlashFired: False
- FlashFunction: False
- FlashMode: Off
- FlashRedEyeMode: False
- FlashReturn: No return detection
- XMP-tiff
- ImageHeight: 2848
- ImageWidth: 4272
- XMP-xmp
- CreateDate: 2009:10:18 11:04:26+06:00
- CreatorTool: DSLR-A700 v04
- ModifyDate: 2009:11:28 13:40:48Z
- Rating: 0
- Просмотров: 241
- Рейтинг: голосов еще нет
- Отзывов: отключены