- Раздел: Портрет
- Дата съёмки: 04.10.2008 23:20
- Дата загрузки фото: 29.11.2009 01:48
- Оригинальная фотография: 2304 x 3456 (2,3 Мб)
- Технические характеристики:
- Фотоаппарат: Canon EOS 350D DIGITAL
- Выдержка: 1/160
- Гиперфокальное расстояние: 30,08 m
- Диафрагма: 2,2
- Светочувствительность: 400
- Фокусное расстояние: 35,0 mm (35 mm equivalent: 56,8 mm)
- Полный EXIF
- Adobe
- ColorTransform: YCbCr
- Composite
- Aperture: 2,2
- CircleOfConfusion: 0,019 mm
- FOV: 35,0 deg
- FocalLength35efl: 35,0 mm (35 mm equivalent: 56,8 mm)
- HyperfocalDistance: 30,08 m
- ScaleFactor35efl: 1,6
- ShutterSpeed: 1/160
- ExifIFD
- ApertureValue: 2,2
- CreateDate: 2008:10:04 23:20:47
- CustomRendered: Normal
- DateTimeOriginal: 2008:10:04 23:20:47
- ExposureCompensation: 0
- ExposureMode: Manual
- ExposureProgram: Manual
- ExposureTime: 1/160
- FNumber: 2,2
- Flash: Off
- FocalLength: 35,0 mm
- ISO: 400
- MaxApertureValue: 2,0
- MeteringMode: Partial
- SceneCaptureType: Standard
- ShutterSpeedValue: 1/160
- WhiteBalance: Auto
- ICC-header
- ICC-meas
- ICC-view
- IFD0
- Artist: unknown
- Make: Canon
- Model: Canon EOS 350D DIGITAL
- ModifyDate: 2008:10:07 22:29:32
- IPTC
- By-line: unknown
- XMP-aux
- Firmware: 1.0.3
- FlashCompensation: 0
- ImageNumber: 120
- Lens: 35.0 mm
- LensInfo: 35/1 35/1 0/0 0/0
- OwnerName: unknown
- SerialNumber: 430342117
- XMP-crs
- AlreadyApplied: True
- BlueHue: 0
- BlueSaturation: 0
- Brightness: +59
- CameraProfile: ACR 2.4
- ChromaticAberrationB: 0
- ChromaticAberrationR: 0
- Clarity: 0
- ColorNoiseReduction: 25
- Contrast: +9
- ConvertToGrayscale: False
- Defringe: 0
- Exposure: +1.15
- FillLight: 0
- GreenHue: 0
- GreenSaturation: 0
- HasCrop: False
- HasSettings: True
- HighlightRecovery: 0
- HueAdjustmentAqua: 0
- HueAdjustmentBlue: 0
- HueAdjustmentGreen: 0
- HueAdjustmentMagenta: 0
- HueAdjustmentOrange: 0
- HueAdjustmentPurple: 0
- HueAdjustmentRed: 0
- HueAdjustmentYellow: 0
- LuminanceAdjustmentAqua: 0
- LuminanceAdjustmentBlue: 0
- LuminanceAdjustmentGreen: 0
- LuminanceAdjustmentMagenta: 0
- LuminanceAdjustmentOrange: 0
- LuminanceAdjustmentPurple: 0
- LuminanceAdjustmentRed: 0
- LuminanceAdjustmentYellow: 0
- LuminanceSmoothing: 0
- ParametricDarks: -3
- ParametricHighlightSplit: 75
- ParametricHighlights: 0
- ParametricLights: 0
- ParametricMidtoneSplit: 50
- ParametricShadowSplit: 25
- ParametricShadows: -14
- PostCropVignetteAmount: 0
- RedHue: 0
- RedSaturation: 0
- Saturation: -100
- SaturationAdjustmentAqua: 0
- SaturationAdjustmentBlue: 0
- SaturationAdjustmentGreen: 0
- SaturationAdjustmentMagenta: 0
- SaturationAdjustmentOrange: 0
- SaturationAdjustmentPurple: 0
- SaturationAdjustmentRed: 0
- SaturationAdjustmentYellow: 0
- ShadowTint: 0
- Shadows: 28
- SharpenDetail: 50
- SharpenEdgeMasking: 0
- SharpenRadius: +1.0
- Sharpness: 25
- SplitToningBalance: 0
- SplitToningHighlightHue: 0
- SplitToningHighlightSaturation: 0
- SplitToningShadowHue: 0
- SplitToningShadowSaturation: 0
- Temperature: 4213
- Tint: -74
- ToneCurve: 0, 0, 255, 255
- ToneCurveName: Linear
- Version: 4.5
- Vibrance: 0
- VignetteAmount: 0
- WhiteBalance: Custom
- XMP-dc
- XMP-exif
- DateTimeDigitized: 2008:10:04 23:20:47+04:00
- DateTimeOriginal: 2008:10:04 23:20:47+04:00
- ExifImageHeight: 3456
- ExifImageWidth: 2304
- FlashFired: False
- FlashFunction: False
- FlashMode: Off
- FlashRedEyeMode: False
- FlashReturn: No return detection
- XMP-tiff
- ImageHeight: 3456
- ImageWidth: 2304
- XMP-xmp
- CreateDate: 2008:10:04 23:20:47+04:00
- ModifyDate: 2008:10:07 22:29:32+04:00
- Просмотров: 503
- Рейтинг: голосов еще нет
- Отзывов: 0