- Раздел: Другое, разное
- Дата съёмки: 30.11.2009 00:45
- Дата загрузки фото: 30.11.2009 02:00
- Оригинальная фотография: 4032 x 6048 (10,3 Мб)
- Технические характеристики:
- Фотоаппарат: Sony DSLR-A900
- Выдержка: 1/250
- Гиперфокальное расстояние: 2,40 m
- Диафрагма: 8,0
- Светочувствительность: 200
- Фокусное расстояние: 24,0 mm (35 mm equivalent: 24,0 mm)
- Полный EXIF
- Adobe
- ColorTransform: YCbCr
- Composite
- Aperture: 8,0
- CircleOfConfusion: 0,030 mm
- FOV: 73,0 deg
- FocalLength35efl: 24,0 mm (35 mm equivalent: 24,0 mm)
- HyperfocalDistance: 2,40 m
- ScaleFactor35efl: 1,0
- ShutterSpeed: 1/250
- ExifIFD
- ApertureValue: 8,0
- BrightnessValue: 8,12
- ColorSpace: sRGB
- Contrast: Normal
- CreateDate: 2009:10:10 15:22:11
- CustomRendered: Normal
- DateTimeOriginal: 2009:10:10 15:22:11
- ExifImageHeight: 6048
- ExifImageWidth: 4032
- ExposureCompensation: 0
- ExposureMode: Auto
- ExposureProgram: Aperture-priority AE
- ExposureTime: 1/250
- FNumber: 8,0
- Flash: Off
- FocalLength: 24,0 mm
- FocalLengthIn35mmFormat: 24 mm
- ISO: 200
- LightSource: Unknown
- MaxApertureValue: 2,8
- MeteringMode: Multi-segment
- Saturation: Normal
- SceneCaptureType: Standard
- SceneType: Directly photographed
- Sharpness: Normal
- ShutterSpeedValue: 1/250
- WhiteBalance: Auto
- ICC-header
- ICC-meas
- ICC-view
- IFD0
- Artist: Videev Kirill
- Make: SONY
- Model: DSLR-A900
- ModifyDate: 2009:11:30 00:48:22
- Orientation: Horizontal (normal)
- IFD1
- IPTC
- By-line: Videev Kirill
- XMP-aux
- Lens: 24-70mm F2.8 ZA SSM
- LensInfo: 24/1 70/1 28/1 28/1
- XMP-crs
- AlreadyApplied: True
- BlueHue: 0
- BlueSaturation: 0
- Brightness: +50
- ChromaticAberrationB: 0
- ChromaticAberrationR: 0
- Clarity: 0
- ColorNoiseReduction: 25
- Contrast: +25
- ConvertToGrayscale: False
- Defringe: 0
- Exposure: 0.00
- FillLight: 18
- GreenHue: 0
- GreenSaturation: 0
- HasCrop: False
- HasSettings: True
- HighlightRecovery: 0
- HueAdjustmentAqua: 0
- HueAdjustmentBlue: 0
- HueAdjustmentGreen: 0
- HueAdjustmentMagenta: 0
- HueAdjustmentOrange: 0
- HueAdjustmentPurple: 0
- HueAdjustmentRed: 0
- HueAdjustmentYellow: 0
- LuminanceAdjustmentAqua: 0
- LuminanceAdjustmentBlue: 0
- LuminanceAdjustmentGreen: 0
- LuminanceAdjustmentMagenta: 0
- LuminanceAdjustmentOrange: 0
- LuminanceAdjustmentPurple: 0
- LuminanceAdjustmentRed: 0
- LuminanceAdjustmentYellow: 0
- LuminanceSmoothing: 0
- ParametricDarks: 0
- ParametricHighlightSplit: 75
- ParametricHighlights: 0
- ParametricLights: 0
- ParametricMidtoneSplit: 50
- ParametricShadowSplit: 25
- ParametricShadows: 0
- PostCropVignetteAmount: 0
- RedHue: 0
- RedSaturation: 0
- Saturation: 0
- SaturationAdjustmentAqua: 0
- SaturationAdjustmentBlue: 0
- SaturationAdjustmentGreen: 0
- SaturationAdjustmentMagenta: 0
- SaturationAdjustmentOrange: 0
- SaturationAdjustmentPurple: 0
- SaturationAdjustmentRed: 0
- SaturationAdjustmentYellow: 0
- ShadowTint: 0
- Shadows: 5
- SharpenDetail: 25
- SharpenEdgeMasking: 0
- SharpenRadius: +1.0
- Sharpness: 25
- SplitToningBalance: 0
- SplitToningHighlightHue: 0
- SplitToningHighlightSaturation: 0
- SplitToningShadowHue: 0
- SplitToningShadowSaturation: 0
- Temperature: 5550
- Tint: +10
- ToneCurve: 0, 0, 32, 22, 64, 56, 128, 128, 192, 196, 255, 255
- ToneCurveName: Medium Contrast
- Version: 5.5
- Vibrance: 0
- VignetteAmount: 0
- WhiteBalance: As Shot
- XMP-dc
- Creator: Videev Kirill
- Format: image/jpeg
- XMP-exif
- DateTimeDigitized: 2009:10:10 15:22:11+04:00
- DateTimeOriginal: 2009:10:10 15:22:11+04:00
- FlashFired: False
- FlashFunction: False
- FlashMode: Off
- FlashRedEyeMode: False
- FlashReturn: No return detection
- XMP-iptcCore
- CreatorContactInfoCiAdrCity: Moskow
- CreatorContactInfoCiEmailWork: vidkirill@yandex.ru
- CreatorContactInfoCiTelWork: 89265699416
- XMP-tiff
- BitsPerSample: 8, 8, 8
- ImageHeight: 6048
- ImageWidth: 4032
- PhotometricInterpretation: RGB
- SamplesPerPixel: 3
- XMP-xmp
- CreateDate: 2009:11:30 00:45:59+02:00
- ModifyDate: 2009:11:30 00:48:22+02:00
- Rating: 5
- XMP-xmpMM
- DerivedFrom:
- XMP-xmpRights
- Просмотров: 822
- Рейтинг: голосов еще нет
- Отзывов: 0