- Раздел: Портрет
- Дата съёмки: 29.11.2009 15:36
- Дата загрузки фото: 30.11.2009 22:24
- Оригинальная фотография: 3334 x 3168 (5,3 Мб)
- Технические характеристики:
- Фотоаппарат: Canon EOS 500D
- Выдержка: 1/6
- Гиперфокальное расстояние: 51,31 m
- Диафрагма: 3,2
- Светочувствительность: 100
- Фокусное расстояние: 50,0 mm (35 mm equivalent: 98,7 mm)
- Полный EXIF
- Adobe
- ColorTransform: YCbCr
- Composite
- Aperture: 3,2
- CircleOfConfusion: 0,015 mm
- FOV: 20,0 deg
- FocalLength35efl: 50,0 mm (35 mm equivalent: 98,7 mm)
- HyperfocalDistance: 51,31 m
- ScaleFactor35efl: 2,0
- ShutterSpeed: 1/6
- ExifIFD
- ApertureValue: 3,2
- ColorSpace: sRGB
- CreateDate: 2009:11:29 15:36:30
- CustomRendered: Normal
- DateTimeOriginal: 2009:11:29 15:36:30
- ExifImageHeight: 3168
- ExifImageWidth: 3334
- ExposureCompensation: 0
- ExposureMode: Manual
- ExposureProgram: Manual
- ExposureTime: 1/6
- FNumber: 3,2
- Flash: On
- FocalLength: 50,0 mm
- ISO: 100
- MaxApertureValue: 1,4
- MeteringMode: Spot
- SceneCaptureType: Standard
- ShutterSpeedValue: 1/6
- WhiteBalance: Auto
- ICC-header
- ICC-meas
- ICC-view
- IFD0
- Make: Canon
- Model: Canon EOS 500D
- ModifyDate: 2009:11:29 22:38:52
- Orientation: Horizontal (normal)
- IFD1
- IPTC
- XMP-aux
- Firmware: 1.0.9
- FlashCompensation: -1
- ImageNumber: 0
- Lens: 50mm
- LensInfo: 50/1 50/1 0/0 0/0
- SerialNumber: 880249918
- XMP-crs
- AlreadyApplied: True
- BlueHue: 0
- BlueSaturation: 0
- Brightness: +50
- ChromaticAberrationB: 0
- ChromaticAberrationR: 0
- Clarity: +51
- ColorNoiseReduction: 25
- Contrast: +25
- ConvertToGrayscale: False
- CropAngle: 0
- CropBottom: 1
- CropLeft: 0.298387
- CropRight: 1
- CropTop: 0
- Defringe: 0
- Exposure: 0.00
- FillLight: 11
- GreenHue: 0
- GreenSaturation: 0
- HasCrop: True
- HasSettings: True
- HighlightRecovery: 45
- HueAdjustmentAqua: 0
- HueAdjustmentBlue: 0
- HueAdjustmentGreen: 0
- HueAdjustmentMagenta: 0
- HueAdjustmentOrange: 0
- HueAdjustmentPurple: 0
- HueAdjustmentRed: 0
- HueAdjustmentYellow: 0
- LuminanceAdjustmentAqua: 0
- LuminanceAdjustmentBlue: 0
- LuminanceAdjustmentGreen: 0
- LuminanceAdjustmentMagenta: 0
- LuminanceAdjustmentOrange: 0
- LuminanceAdjustmentPurple: 0
- LuminanceAdjustmentRed: 0
- LuminanceAdjustmentYellow: 0
- LuminanceSmoothing: 0
- ParametricDarks: 0
- ParametricHighlightSplit: 75
- ParametricHighlights: 0
- ParametricLights: 0
- ParametricMidtoneSplit: 50
- ParametricShadowSplit: 25
- ParametricShadows: 0
- PostCropVignetteAmount: 0
- RawFileName: _MG_3163.CR2
- RedHue: 0
- RedSaturation: 0
- Saturation: 0
- SaturationAdjustmentAqua: 0
- SaturationAdjustmentBlue: 0
- SaturationAdjustmentGreen: 0
- SaturationAdjustmentMagenta: 0
- SaturationAdjustmentOrange: 0
- SaturationAdjustmentPurple: 0
- SaturationAdjustmentRed: 0
- SaturationAdjustmentYellow: 0
- ShadowTint: 0
- Shadows: 10
- SharpenDetail: 25
- SharpenEdgeMasking: 0
- SharpenRadius: +1.0
- Sharpness: 25
- SplitToningBalance: 0
- SplitToningHighlightHue: 0
- SplitToningHighlightSaturation: 0
- SplitToningShadowHue: 0
- SplitToningShadowSaturation: 0
- Temperature: 6600
- Tint: 0
- ToneCurve: 0, 0, 32, 22, 64, 56, 128, 128, 192, 196, 255, 255
- ToneCurveName: Medium Contrast
- Version: 5.4
- Vibrance: +38
- VignetteAmount: 0
- XMP-dc
- XMP-exif
- DateTimeDigitized: 2009:11:29 15:36:30.26+03:00
- DateTimeOriginal: 2009:11:29 15:36:30.26+03:00
- FlashFired: True
- FlashFunction: False
- FlashMode: On
- FlashRedEyeMode: False
- FlashReturn: No return detection
- XMP-tiff
- XMP-xmp
- CreateDate: 2009:11:29 15:36:30.26+03:00
- ModifyDate: 2009:11:29 22:38:52+03:00
- Rating: 0
- XMP-xmpMM