- Раздел: Другое, разное
- Дата съёмки: 29.11.2009 15:28
- Дата загрузки фото: 01.12.2009 02:24
- Оригинальная фотография: 630 x 420 (330 Кб)
- Технические характеристики:
- Фотоаппарат: Canon EOS 450D
- Выдержка: 1/125
- Гиперфокальное расстояние: 26,34 m
- Диафрагма: 4,0
- Светочувствительность: 200
- Фокусное расстояние: 17,0 mm (35 mm equivalent: 186,2 mm)
- Полный EXIF
- Adobe
- ColorTransform: YCbCr
- Composite
- Aperture: 4,0
- CircleOfConfusion: 0,003 mm
- FOV: 11,0 deg
- FocalLength35efl: 17,0 mm (35 mm equivalent: 186,2 mm)
- HyperfocalDistance: 26,34 m
- ScaleFactor35efl: 11,0
- ShutterSpeed: 1/125
- ExifIFD
- ApertureValue: 4,0
- ColorSpace: sRGB
- CreateDate: 2009:11:29 15:28:37
- CustomRendered: Normal
- DateTimeOriginal: 2009:11:29 15:28:37
- ExifImageHeight: 420
- ExifImageWidth: 630
- ExposureCompensation: 0
- ExposureMode: Auto
- ExposureProgram: Aperture-priority AE
- ExposureTime: 1/125
- FNumber: 4,0
- Flash: Off
- FocalLength: 17,0 mm
- ISO: 200
- MaxApertureValue: 2,8
- MeteringMode: Multi-segment
- SceneCaptureType: Standard
- ShutterSpeedValue: 1/125
- WhiteBalance: Auto
- ICC-header
- ICC-meas
- ICC-view
- IFD0
- Artist: HiV
- Copyright: Ivan (HiV) Tsyrkunovich
- Make: Canon
- Model: Canon EOS 450D
- ModifyDate: 2009:12:01 01:20:50
- Orientation: Horizontal (normal)
- IFD1
- IPTC
- By-line: HiV
- City: grodno
- CopyrightNotice: Ivan (HiV) Tsyrkunovich
- Country-PrimaryLocationName: belarus
- XMP-aux
- Firmware: 1.0.9
- FlashCompensation: 0
- ImageNumber: 0
- Lens: 17-50mm
- LensID: 161
- LensInfo: 17/1 50/1 0/0 0/0
- OwnerName: Ivan HiV Tsyrkunovich
- SerialNumber: 980397874
- XMP-crs
- AlreadyApplied: True
- BlueHue: -100
- BlueSaturation: +100
- Brightness: +50
- CameraProfile: ACR 3.4
- ChromaticAberrationB: 0
- ChromaticAberrationR: 0
- Clarity: 0
- ColorNoiseReduction: 100
- ColorNoiseReductionDetail: 50
- Contrast: +100
- ConvertToGrayscale: False
- CropAngle: 0
- CropBottom: 0.934272
- CropHeight: 2581
- CropLeft: 0.028169
- CropRight: 0.934272
- CropTop: 0.028169
- CropUnit: 0
- CropWidth: 3871
- Defringe: 2
- Exposure: +0.32
- FillLight: 70
- GrainAmount: 0
- GreenHue: -2
- GreenSaturation: -48
- HasCrop: True
- HasSettings: True
- HighlightRecovery: 100
- HueAdjustmentAqua: 0
- HueAdjustmentBlue: 0
- HueAdjustmentGreen: 0
- HueAdjustmentMagenta: 0
- HueAdjustmentOrange: +29
- HueAdjustmentPurple: 0
- HueAdjustmentRed: +81
- HueAdjustmentYellow: +5
- LuminanceAdjustmentAqua: +100
- LuminanceAdjustmentBlue: -100
- LuminanceAdjustmentGreen: +100
- LuminanceAdjustmentMagenta: 0
- LuminanceAdjustmentOrange: +40
- LuminanceAdjustmentPurple: 0
- LuminanceAdjustmentRed: -36
- LuminanceAdjustmentYellow: 0
- NoiseReductionContrast: 0
- ParametricDarks: -1
- ParametricHighlightSplit: 75
- ParametricHighlights: +63
- ParametricLights: +49
- ParametricMidtoneSplit: 50
- ParametricShadowSplit: 25
- ParametricShadows: -33
- PostCropVignetteAmount: 0
- RedHue: +100
- RedSaturation: -50
- RenderVersion: 5.7
- Saturation: +15
- SaturationAdjustmentAqua: -89
- SaturationAdjustmentBlue: -83
- SaturationAdjustmentGreen: +54
- SaturationAdjustmentMagenta: -100
- SaturationAdjustmentOrange: -75
- SaturationAdjustmentPurple: -100
- SaturationAdjustmentRed: -91
- SaturationAdjustmentYellow: +98
- ShadowTint: +100
- Shadows: 18
- SharpenDetail: 25
- SharpenEdgeMasking: 40
- SharpenRadius: +1.0
- Sharpness: 59
- SplitToningBalance: 0
- SplitToningHighlightHue: 51
- SplitToningHighlightSaturation: 51
- SplitToningShadowHue: 43
- SplitToningShadowSaturation: 5
- Temperature: 4800
- Tint: 0
- ToneCurve: 0, 0, 32, 22, 64, 56, 128, 128, 192, 196, 255, 255
- ToneCurveName: Medium Contrast
- Version: 6.0
- Vibrance: +43
- VignetteAmount: -14
- VignetteMidpoint: 64
- WhiteBalance: Custom
- XMP-dc
- Creator: HiV
- Format: image/jpeg
- Rights: Ivan (HiV) Tsyrkunovich
- XMP-exif
- DateTimeDigitized: 2009:11:29 15:28:37.03+02:00
- DateTimeOriginal: 2009:11:29 15:28:37.03+02:00
- FlashFired: False
- FlashFunction: False
- FlashMode: Off
- FlashRedEyeMode: False
- FlashReturn: No return detection
- XMP-iptcCore
- CreatorContactInfoCiAdrCity: grodno
- CreatorContactInfoCiAdrCtry: belarus
- CreatorContactInfoCiUrlWork: http://hiv-iv.livejournal.com/
- XMP-tiff
- ImageHeight: 2581
- ImageWidth: 3871
- XMP-xmp
- CreateDate: 2009:11:29 15:28:37.03+02:00
- ModifyDate: 2009:12:01 01:20:50+02:00
- XMP-xmpMM
- XMP-xmpRights
- Marked: True
- WebStatement: http://hiv-iv.livejournal.com/