- Раздел: Другое, разное
- Дата съёмки: 01.12.2009 10:57
- Дата загрузки фото: 01.12.2009 13:12
- Оригинальная фотография: 851 x 1280 (826 Кб)
- Технические характеристики:
- Фотоаппарат: Nikon D50
- Выдержка: 1/50
- Гиперфокальное расстояние: 3,02 m
- Диафрагма: 8,0
- Светочувствительность: 200
- Фокусное расстояние: 22,0 mm (35 mm equivalent: 33,0 mm)
- Полный EXIF
- Adobe
- ColorTransform: YCbCr
- Composite
- Aperture: 8,0
- CircleOfConfusion: 0,020 mm
- FOV: 57,0 deg
- FocalLength35efl: 22,0 mm (35 mm equivalent: 33,0 mm)
- HyperfocalDistance: 3,02 m
- ScaleFactor35efl: 1,5
- ShutterSpeed: 1/50
- ExifIFD
- ApertureValue: 8,0
- CFAPattern: [Blue,Green][Green,Red]
- ColorSpace: sRGB
- Contrast: High
- CreateDate: 2009:09:26 12:17:39
- CustomRendered: Normal
- DateTimeOriginal: 2009:09:26 12:17:39
- DigitalZoomRatio: 1
- ExifImageHeight: 1280
- ExifImageWidth: 851
- ExposureCompensation: 0
- ExposureMode: Manual
- ExposureProgram: Manual
- ExposureTime: 1/50
- FNumber: 8,0
- Flash: Auto, Fired, Return detected
- FocalLength: 22,0 mm
- FocalLengthIn35mmFormat: 33 mm
- GainControl: None
- ISO: 200
- LightSource: Unknown
- MaxApertureValue: 3,7
- MeteringMode: Center-weighted average
- Saturation: High
- SceneCaptureType: Standard
- SceneType: Directly photographed
- SensingMethod: One-chip color area
- Sharpness: Hard
- ShutterSpeedValue: 1/50
- SubjectDistanceRange: Unknown
- WhiteBalance: Auto
- ICC-header
- ICC-meas
- ICC-view
- IFD0
- Make: NIKON CORPORATION
- Model: NIKON D50
- ModifyDate: 2009:12:01 10:57:07
- Orientation: Horizontal (normal)
- IFD1
- IPTC
- XMP-aux
- ImageNumber: 10406
- Lens: 18.0-200.0 mm f/3.5-5.6
- LensInfo: 180/10 2000/10 35/10 56/10
- XMP-crs
- AlreadyApplied: True
- BlueHue: 0
- BlueSaturation: 0
- Brightness: +70
- CameraProfile: ACR 4.4
- ChromaticAberrationB: 0
- ChromaticAberrationR: 0
- Clarity: +25
- ColorNoiseReduction: 10
- Contrast: +53
- ConvertToGrayscale: False
- Defringe: 0
- Exposure: 0.00
- FillLight: 2
- GreenHue: 0
- GreenSaturation: 0
- HasCrop: False
- HasSettings: True
- HighlightRecovery: 25
- HueAdjustmentAqua: 0
- HueAdjustmentBlue: 0
- HueAdjustmentGreen: 0
- HueAdjustmentMagenta: 0
- HueAdjustmentOrange: 0
- HueAdjustmentPurple: 0
- HueAdjustmentRed: 0
- HueAdjustmentYellow: 0
- LuminanceAdjustmentAqua: 0
- LuminanceAdjustmentBlue: 0
- LuminanceAdjustmentGreen: +15
- LuminanceAdjustmentMagenta: +25
- LuminanceAdjustmentOrange: +46
- LuminanceAdjustmentPurple: -39
- LuminanceAdjustmentRed: -10
- LuminanceAdjustmentYellow: -11
- LuminanceSmoothing: 2
- ParametricDarks: +5
- ParametricHighlightSplit: 90
- ParametricHighlights: -100
- ParametricLights: -10
- ParametricMidtoneSplit: 23
- ParametricShadowSplit: 10
- ParametricShadows: +10
- PostCropVignetteAmount: 0
- RawFileName: DSC_0351.NEF
- RedHue: 0
- RedSaturation: 0
- Saturation: +3
- SaturationAdjustmentAqua: 0
- SaturationAdjustmentBlue: +1
- SaturationAdjustmentGreen: +28
- SaturationAdjustmentMagenta: +23
- SaturationAdjustmentOrange: +18
- SaturationAdjustmentPurple: -58
- SaturationAdjustmentRed: +23
- SaturationAdjustmentYellow: +20
- ShadowTint: 0
- Shadows: 7
- SharpenDetail: 55
- SharpenEdgeMasking: 2
- SharpenRadius: +1.0
- Sharpness: 85
- SplitToningBalance: 0
- SplitToningHighlightHue: 0
- SplitToningHighlightSaturation: 0
- SplitToningShadowHue: 0
- SplitToningShadowSaturation: 0
- Temperature: 5000
- Tint: +8
- ToneCurve: 0, 0, 32, 22, 64, 56, 128, 128, 192, 196, 255, 255
- ToneCurveName: Medium Contrast
- Version: 4.6
- Vibrance: +52
- VignetteAmount: 0
- WhiteBalance: As Shot
- XMP-dc
- XMP-exif
- DateTimeDigitized: 2009:09:26 12:17:39.70+03:00
- DateTimeOriginal: 2009:09:26 12:17:39.70+03:00
- FlashFired: True
- FlashFunction: False
- FlashMode: Auto
- FlashRedEyeMode: False
- FlashReturn: Return detected
- XMP-tiff
- XMP-xmp
- CreateDate: 2009:12:01 10:57:07+02:00
- ModifyDate: 2009:12:01 10:57:07+02:00
- Rating: 0
- XMP-xmpMM
- Просмотров: 299
- Рейтинг: голосов еще нет
- Отзывов: 0