Уважаемые друзья и участники проекта iXBT.photo! К сожалению, 1 марта 2026 года проект iXBT.photo прекратит свою работу и будет закрыт. Мы высоко ценим ваше участие и тот вклад, который вы внесли в развитие нашего сообщества. Пожалуйста, не забудьте сохранить ваши фотографии до этой даты.
С уважением, команда iXBT.com
| 165.jpg |
165.jpg
- Раздел: Другое, разное
- Дата съёмки: 03.12.2009 09:35
- Дата загрузки фото: 03.12.2009 10:54
- Оригинальная фотография: 851 x 1280 (607 Кб)
- Технические характеристики:
- Фотоаппарат: Nikon D50
- Выдержка: 1/500
- Гиперфокальное расстояние: 23,99 m
- Диафрагма: 8,0
- Светочувствительность: 200
- Фокусное расстояние: 62,0 mm (35 mm equivalent: 93,0 mm)
- Полный EXIF
- Adobe
- ColorTransform: YCbCr
- Composite
- Aperture: 8,0
- CircleOfConfusion: 0,020 mm
- FOV: 21,0 deg
- FocalLength35efl: 62,0 mm (35 mm equivalent: 93,0 mm)
- HyperfocalDistance: 23,99 m
- ScaleFactor35efl: 1,5
- ShutterSpeed: 1/500
- ExifIFD
- ApertureValue: 8,0
- CFAPattern: [Blue,Green][Green,Red]
- ColorSpace: sRGB
- Contrast: High
- CreateDate: 2008:09:27 13:21:21
- CustomRendered: Normal
- DateTimeOriginal: 2008:09:27 13:21:21
- DigitalZoomRatio: 1
- ExifImageHeight: 1280
- ExifImageWidth: 851
- ExposureCompensation: 0
- ExposureMode: Manual
- ExposureProgram: Manual
- ExposureTime: 1/500
- FNumber: 8,0
- Flash: Auto, Fired, Return detected
- FocalLength: 62,0 mm
- FocalLengthIn35mmFormat: 93 mm
- GainControl: None
- ISO: 200
- LightSource: Unknown
- MaxApertureValue: 4,8
- MeteringMode: Center-weighted average
- Saturation: High
- SceneCaptureType: Standard
- SceneType: Directly photographed
- SensingMethod: One-chip color area
- Sharpness: Hard
- ShutterSpeedValue: 1/500
- SubjectDistanceRange: Unknown
- WhiteBalance: Auto
- ICC-header
- ICC-meas
- ICC-view
- IFD0
- Make: NIKON CORPORATION
- Model: NIKON D50
- ModifyDate: 2009:12:03 09:35:18
- Orientation: Horizontal (normal)
- IFD1
- IPTC
- XMP-aux
- ImageNumber: 5522
- Lens: 18.0-200.0 mm f/3.5-5.6
- LensInfo: 180/10 2000/10 35/10 56/10
- XMP-crs
- AlreadyApplied: True
- BlueHue: +3
- BlueSaturation: 0
- Brightness: +43
- CameraProfile: ACR 4.4
- ChromaticAberrationB: 0
- ChromaticAberrationR: 0
- Clarity: +25
- ColorNoiseReduction: 10
- Contrast: +36
- ConvertToGrayscale: False
- Defringe: 2
- Exposure: +0.25
- FillLight: 0
- GreenHue: +5
- GreenSaturation: +12
- HasCrop: False
- HasSettings: True
- HighlightRecovery: 22
- HueAdjustmentAqua: -24
- HueAdjustmentBlue: -2
- HueAdjustmentGreen: +15
- HueAdjustmentMagenta: +17
- HueAdjustmentOrange: -14
- HueAdjustmentPurple: -18
- HueAdjustmentRed: -62
- HueAdjustmentYellow: +8
- LuminanceAdjustmentAqua: +28
- LuminanceAdjustmentBlue: -49
- LuminanceAdjustmentGreen: +17
- LuminanceAdjustmentMagenta: -45
- LuminanceAdjustmentOrange: +15
- LuminanceAdjustmentPurple: +19
- LuminanceAdjustmentRed: 0
- LuminanceAdjustmentYellow: +8
- LuminanceSmoothing: 1
- ParametricDarks: -5
- ParametricHighlightSplit: 90
- ParametricHighlights: -10
- ParametricLights: +10
- ParametricMidtoneSplit: 28
- ParametricShadowSplit: 10
- ParametricShadows: +25
- PostCropVignetteAmount: 0
- RawFileName: DSC_5470.NEF
- RedHue: -1
- RedSaturation: -3
- Saturation: +4
- SaturationAdjustmentAqua: +36
- SaturationAdjustmentBlue: +36
- SaturationAdjustmentGreen: +50
- SaturationAdjustmentMagenta: 0
- SaturationAdjustmentOrange: +50
- SaturationAdjustmentPurple: +63
- SaturationAdjustmentRed: +57
- SaturationAdjustmentYellow: +38
- ShadowTint: +6
- Shadows: 5
- SharpenDetail: 55
- SharpenEdgeMasking: 2
- SharpenRadius: +1.0
- Sharpness: 85
- SplitToningBalance: 0
- SplitToningHighlightHue: 0
- SplitToningHighlightSaturation: 0
- SplitToningShadowHue: 0
- SplitToningShadowSaturation: 0
- Temperature: 5450
- Tint: -1
- ToneCurve: 0, 0, 32, 22, 64, 56, 128, 128, 192, 196, 255, 255
- ToneCurveName: Medium Contrast
- Version: 4.6
- Vibrance: +76
- VignetteAmount: 0
- WhiteBalance: Custom
- XMP-dc
- XMP-exif
- DateTimeDigitized: 2008:09:27 13:21:21.80+03:00
- DateTimeOriginal: 2008:09:27 13:21:21.80+03:00
- FlashFired: True
- FlashFunction: False
- FlashMode: Auto
- FlashRedEyeMode: False
- FlashReturn: Return detected
- XMP-tiff
- XMP-xmp
- CreateDate: 2009:12:03 09:35:18+02:00
- ModifyDate: 2009:12:03 09:35:18+02:00
- Rating: 0
- XMP-xmpMM
- DerivedFrom:
- Просмотров: 144
- Рейтинг: голосов еще нет
- Отзывов: 0
Получить код для блога
| Вставка фотографии в текущем разрешении |
Вставка миниатюры |
HTML (для вставки в блог):
BBCode (для вставки в форум):
Ссылка на фото:
Ссылка на миниатюру:
- Послать ссылку другу
| Комментарии к фотографии |