- Раздел: Другое, разное
- Дата съёмки: 03.12.2009 15:53
- Дата загрузки фото: 03.12.2009 16:59
- Оригинальная фотография: 650 x 433 (145 Кб)
- Технические характеристики:
- Фотоаппарат: Canon EOS 450D
- Выдержка: 1/125
- Гиперфокальное расстояние: 315,57 m
- Диафрагма: 2,8
- Светочувствительность: 800
- Фокусное расстояние: 50,0 mm (35 mm equivalent: 531,0 mm)
- Полный EXIF
- Adobe
- ColorTransform: YCbCr
- Composite
- Aperture: 2,8
- CircleOfConfusion: 0,003 mm
- FOV: 3,0 deg
- FocalLength35efl: 50,0 mm (35 mm equivalent: 531,0 mm)
- HyperfocalDistance: 315,57 m
- ScaleFactor35efl: 10,6
- ShutterSpeed: 1/125
- ExifIFD
- ApertureValue: 2,8
- ColorSpace: sRGB
- CreateDate: 2009:12:01 20:46:07
- CustomRendered: Normal
- DateTimeOriginal: 2009:12:01 20:46:07
- ExifImageHeight: 433
- ExifImageWidth: 650
- ExposureCompensation: 0
- ExposureMode: Manual
- ExposureProgram: Manual
- ExposureTime: 1/125
- FNumber: 2,8
- Flash: On
- FocalLength: 50,0 mm
- ISO: 800
- MaxApertureValue: 1,8
- MeteringMode: Multi-segment
- SceneCaptureType: Standard
- ShutterSpeedValue: 1/125
- WhiteBalance: Auto
- ICC-header
- ICC-meas
- ICC-view
- IFD0
- Make: Canon
- Model: Canon EOS 450D
- ModifyDate: 2009:12:03 15:53:16
- Orientation: Horizontal (normal)
- IFD1
- IPTC
- XMP-aux
- Firmware: 1.0.9
- FlashCompensation: 0
- ImageNumber: 0
- Lens: EF50mm f/1.8 II
- LensID: 29
- LensInfo: 50/1 50/1 0/0 0/0
- SerialNumber: 980397873
- XMP-crs
- AlreadyApplied: True
- BlueHue: 0
- BlueSaturation: 0
- Brightness: +80
- ChromaticAberrationB: 0
- ChromaticAberrationR: 0
- Clarity: +19
- ColorNoiseReduction: 16
- ColorNoiseReductionDetail: 50
- Contrast: +25
- ConvertToGrayscale: False
- CropAngle: -1.47631
- CropBottom: 0.867275
- CropHeight: 2253
- CropLeft: 0
- CropRight: 0.804472
- CropTop: 0.106961
- CropUnit: 0
- CropWidth: 3380
- Defringe: 0
- Exposure: +0.18
- FillLight: 0
- GrainAmount: 0
- GreenHue: 0
- GreenSaturation: 0
- HasCrop: True
- HasSettings: True
- HighlightRecovery: 0
- HueAdjustmentAqua: 0
- HueAdjustmentBlue: 0
- HueAdjustmentGreen: 0
- HueAdjustmentMagenta: 0
- HueAdjustmentOrange: 0
- HueAdjustmentPurple: 0
- HueAdjustmentRed: 0
- HueAdjustmentYellow: 0
- LuminanceAdjustmentAqua: 0
- LuminanceAdjustmentBlue: -54
- LuminanceAdjustmentGreen: -6
- LuminanceAdjustmentMagenta: 0
- LuminanceAdjustmentOrange: 0
- LuminanceAdjustmentPurple: 0
- LuminanceAdjustmentRed: 0
- LuminanceAdjustmentYellow: 0
- NoiseReductionContrast: 0
- ParametricDarks: -9
- ParametricHighlightSplit: 75
- ParametricHighlights: 0
- ParametricLights: +3
- ParametricMidtoneSplit: 50
- ParametricShadowSplit: 25
- ParametricShadows: 0
- PostCropVignetteAmount: 0
- RedHue: 0
- RedSaturation: 0
- RenderVersion: 5.7
- Saturation: +5
- SaturationAdjustmentAqua: 0
- SaturationAdjustmentBlue: +8
- SaturationAdjustmentGreen: +18
- SaturationAdjustmentMagenta: 0
- SaturationAdjustmentOrange: 0
- SaturationAdjustmentPurple: 0
- SaturationAdjustmentRed: 0
- SaturationAdjustmentYellow: +10
- ShadowTint: 0
- Shadows: 9
- SharpenDetail: 23
- SharpenEdgeMasking: 12
- SharpenRadius: +0.7
- Sharpness: 89
- SplitToningBalance: -12
- SplitToningHighlightHue: 48
- SplitToningHighlightSaturation: 24
- SplitToningShadowHue: 0
- SplitToningShadowSaturation: 0
- Temperature: 4437
- Tint: +9
- ToneCurve: 0, 0, 32, 22, 64, 56, 128, 128, 192, 196, 255, 255
- ToneCurveName: Medium Contrast
- Version: 6.0
- Vibrance: +20
- VignetteAmount: 0
- WhiteBalance: Custom
- XMP-dc
- XMP-exif
- DateTimeDigitized: 2009:12:01 20:46:07.03+03:00
- DateTimeOriginal: 2009:12:01 20:46:07.03+03:00
- FlashFired: True
- FlashFunction: False
- FlashMode: On
- FlashRedEyeMode: False
- FlashReturn: No return detection
- XMP-tiff
- ImageHeight: 2253
- ImageWidth: 3380
- XMP-xmp
- CreateDate: 2009:12:03 15:53:16+03:00
- ModifyDate: 2009:12:03 15:53:16+03:00
- XMP-xmpMM
- Просмотров: 475
- Рейтинг: голосов еще нет
- Отзывов: отключены