- Раздел: Портрет
- Дата съёмки: 26.04.2008 16:26
- Дата загрузки фото: 05.12.2009 00:49
- Оригинальная фотография: 2304 x 3456 (2,4 Мб)
- Технические характеристики:
- Фотоаппарат: Canon EOS 350D DIGITAL
- Выдержка: 1/30
- Гиперфокальное расстояние: 121,90 m
- Диафрагма: 3,2
- Светочувствительность: 200
- Фокусное расстояние: 85,0 mm (35 mm equivalent: 137,9 mm)
- Полный EXIF
- Adobe
- ColorTransform: YCbCr
- Composite
- Aperture: 3,2
- CircleOfConfusion: 0,019 mm
- FOV: 14,0 deg
- FocalLength35efl: 85,0 mm (35 mm equivalent: 137,9 mm)
- HyperfocalDistance: 121,90 m
- ScaleFactor35efl: 1,6
- ShutterSpeed: 1/30
- ExifIFD
- ApertureValue: 3,2
- CreateDate: 2008:04:26 16:26:44
- CustomRendered: Normal
- DateTimeOriginal: 2008:04:26 16:26:44
- ExposureCompensation: 0
- ExposureMode: Auto
- ExposureProgram: Aperture-priority AE
- ExposureTime: 1/30
- FNumber: 3,2
- Flash: Off
- FocalLength: 85,0 mm
- ISO: 200
- MaxApertureValue: 1,8
- MeteringMode: Multi-segment
- SceneCaptureType: Standard
- ShutterSpeedValue: 1/30
- WhiteBalance: Auto
- ICC-header
- ICC-meas
- ICC-view
- IFD0
- Artist: unknown
- Make: Canon
- Model: Canon EOS 350D DIGITAL
- ModifyDate: 2009:02:03 00:24:33
- IPTC
- By-line: unknown
- XMP-aux
- Firmware: 1.0.3
- FlashCompensation: -1
- ImageNumber: 115
- Lens: 85.0 mm
- LensInfo: 85/1 85/1 0/0 0/0
- OwnerName: unknown
- SerialNumber: 430342117
- XMP-crs
- AlreadyApplied: True
- BlueHue: -60
- BlueSaturation: +3
- Brightness: +72
- CameraProfile: Embedded
- ChromaticAberrationB: 0
- ChromaticAberrationR: 0
- Clarity: 0
- ColorNoiseReduction: 25
- Contrast: +3
- ConvertToGrayscale: False
- Defringe: 0
- Exposure: +0.86
- FillLight: 16
- GreenHue: +100
- GreenSaturation: +100
- HasCrop: False
- HasSettings: True
- HighlightRecovery: 0
- HueAdjustmentAqua: 0
- HueAdjustmentBlue: 0
- HueAdjustmentGreen: 0
- HueAdjustmentMagenta: 0
- HueAdjustmentOrange: 0
- HueAdjustmentPurple: 0
- HueAdjustmentRed: 0
- HueAdjustmentYellow: 0
- IncrementalTemperature: -29
- IncrementalTint: -65
- LuminanceAdjustmentAqua: 0
- LuminanceAdjustmentBlue: 0
- LuminanceAdjustmentGreen: 0
- LuminanceAdjustmentMagenta: 0
- LuminanceAdjustmentOrange: 0
- LuminanceAdjustmentPurple: 0
- LuminanceAdjustmentRed: 0
- LuminanceAdjustmentYellow: 0
- LuminanceSmoothing: 0
- PaintBasedCorrectionsCorrectionActive: true
- PaintBasedCorrectionsCorrectionAmount: 1.000000
- PaintBasedCorrectionsCorrectionMasksCenterWeight: 0.000000
- PaintBasedCorrectionsCorrectionMasksFlow: 1.000000
- PaintBasedCorrectionsCorrectionMasksMaskValue: 1.000000
- PaintBasedCorrectionsCorrectionMasksRadius: 0.102941
- PaintBasedCorrectionsCorrectionMasksWhat: Mask/Paint
- PaintBasedCorrectionsLocalBrightness: 0.000000
- PaintBasedCorrectionsLocalClarity: 0.000000
- PaintBasedCorrectionsLocalContrast: 0.000000
- PaintBasedCorrectionsLocalExposure: 0.125000
- PaintBasedCorrectionsLocalSaturation: 0.000000
- PaintBasedCorrectionsLocalSharpness: 0.000000
- PaintBasedCorrectionsLocalToningHue: 230.000000
- PaintBasedCorrectionsLocalToningSaturation: 0.000000
- PaintBasedCorrectionsWhat: Correction
- ParametricDarks: -3
- ParametricHighlightSplit: 75
- ParametricHighlights: 0
- ParametricLights: 0
- ParametricMidtoneSplit: 50
- ParametricShadowSplit: 25
- ParametricShadows: -14
- PostCropVignetteAmount: 0
- RedHue: +100
- RedSaturation: -100
- Saturation: -86
- SaturationAdjustmentAqua: 0
- SaturationAdjustmentBlue: +83
- SaturationAdjustmentGreen: 0
- SaturationAdjustmentMagenta: 0
- SaturationAdjustmentOrange: 0
- SaturationAdjustmentPurple: +42
- SaturationAdjustmentRed: 0
- SaturationAdjustmentYellow: 0
- ShadowTint: -4
- Shadows: 13
- SharpenDetail: 25
- SharpenEdgeMasking: 0
- SharpenRadius: +1.0
- Sharpness: 25
- SplitToningBalance: 0
- SplitToningHighlightHue: 0
- SplitToningHighlightSaturation: 0
- SplitToningShadowHue: 0
- SplitToningShadowSaturation: 0
- ToneCurve: 0, 0, 255, 255
- ToneCurveName: Linear
- Version: 4.6
- Vibrance: +38
- VignetteAmount: 0
- WhiteBalance: Custom
- XMP-dc
- XMP-exif
- DateTimeDigitized: 2008:04:26 16:26:44+04:00
- DateTimeOriginal: 2008:04:26 16:26:44+04:00
- ExifImageHeight: 3456
- ExifImageWidth: 2304
- FlashFired: False
- FlashFunction: False
- FlashMode: Off
- FlashRedEyeMode: False
- FlashReturn: No return detection
- XMP-tiff
- ImageHeight: 3456
- ImageWidth: 2304
- XMP-xmp
- CreateDate: 2008:04:26 16:26:44+04:00
- ModifyDate: 2009:02:03 00:24:33+03:00